BEGIN:VCALENDAR
VERSION:2.0
PRODID:-//Holy Trinity Greek Orthodox Church - ECPv6.15.20//NONSGML v1.0//EN
CALSCALE:GREGORIAN
METHOD:PUBLISH
X-ORIGINAL-URL:https://2033.ad
X-WR-CALDESC:Events for Holy Trinity Greek Orthodox Church
REFRESH-INTERVAL;VALUE=DURATION:PT1H
X-Robots-Tag:noindex
X-PUBLISHED-TTL:PT1H
BEGIN:VTIMEZONE
TZID:UTC
BEGIN:STANDARD
TZOFFSETFROM:+0000
TZOFFSETTO:+0000
TZNAME:UTC
DTSTART:20250101T000000
END:STANDARD
END:VTIMEZONE
BEGIN:VTIMEZONE
TZID:America/New_York
BEGIN:DAYLIGHT
TZOFFSETFROM:-0500
TZOFFSETTO:-0400
TZNAME:EDT
DTSTART:20250309T070000
END:DAYLIGHT
BEGIN:STANDARD
TZOFFSETFROM:-0400
TZOFFSETTO:-0500
TZNAME:EST
DTSTART:20251102T060000
END:STANDARD
BEGIN:DAYLIGHT
TZOFFSETFROM:-0500
TZOFFSETTO:-0400
TZNAME:EDT
DTSTART:20260308T070000
END:DAYLIGHT
BEGIN:STANDARD
TZOFFSETFROM:-0400
TZOFFSETTO:-0500
TZNAME:EST
DTSTART:20261101T060000
END:STANDARD
BEGIN:DAYLIGHT
TZOFFSETFROM:-0500
TZOFFSETTO:-0400
TZNAME:EDT
DTSTART:20270314T070000
END:DAYLIGHT
BEGIN:STANDARD
TZOFFSETFROM:-0400
TZOFFSETTO:-0500
TZNAME:EST
DTSTART:20271107T060000
END:STANDARD
END:VTIMEZONE
BEGIN:VEVENT
DTSTART;TZID=UTC:20260323T000000
DTEND;TZID=UTC:20260324T000000
DTSTAMP:20260419T162453
CREATED:20241107T035409Z
LAST-MODIFIED:20241107T035409Z
UID:24777-1774224000-1774310400@2033.ad
SUMMARY:Clean Monday
DESCRIPTION:
URL:https://2033.ad/event/clean-monday/
END:VEVENT
BEGIN:VEVENT
DTSTART;VALUE=DATE:20260329
DTEND;VALUE=DATE:20260330
DTSTAMP:20260419T162453
CREATED:20250808T154308Z
LAST-MODIFIED:20250808T154308Z
UID:27415-1774742400-1774828799@2033.ad
SUMMARY:GOYA Meeting
DESCRIPTION:
URL:https://2033.ad/event/goya-meeting-3/
CATEGORIES:GOYA
END:VEVENT
BEGIN:VEVENT
DTSTART;VALUE=DATE:20260410
DTEND;VALUE=DATE:20260411
DTSTAMP:20260419T162453
CREATED:20250808T154359Z
LAST-MODIFIED:20250808T154359Z
UID:27417-1775779200-1775865599@2033.ad
SUMMARY:GOYA Holy Friday Retreat
DESCRIPTION:
URL:https://2033.ad/event/goya-holy-friday-retreat/
CATEGORIES:GOYA
END:VEVENT
BEGIN:VEVENT
DTSTART;VALUE=DATE:20260517
DTEND;VALUE=DATE:20260518
DTSTAMP:20260419T162453
CREATED:20250808T154432Z
LAST-MODIFIED:20250808T154432Z
UID:27420-1778976000-1779062399@2033.ad
SUMMARY:Last GOYA Meeting
DESCRIPTION:
URL:https://2033.ad/event/last-goya-meeting-2/
CATEGORIES:GOYA
END:VEVENT
END:VCALENDAR