BEGIN:VCALENDAR
VERSION:2.0
PRODID:-//Holy Trinity Greek Orthodox Church - ECPv6.15.20//NONSGML v1.0//EN
CALSCALE:GREGORIAN
METHOD:PUBLISH
X-WR-CALNAME:Holy Trinity Greek Orthodox Church
X-ORIGINAL-URL:https://2033.ad
X-WR-CALDESC:Events for Holy Trinity Greek Orthodox Church
REFRESH-INTERVAL;VALUE=DURATION:PT1H
X-Robots-Tag:noindex
X-PUBLISHED-TTL:PT1H
BEGIN:VTIMEZONE
TZID:America/New_York
BEGIN:DAYLIGHT
TZOFFSETFROM:-0500
TZOFFSETTO:-0400
TZNAME:EDT
DTSTART:20240310T070000
END:DAYLIGHT
BEGIN:STANDARD
TZOFFSETFROM:-0400
TZOFFSETTO:-0500
TZNAME:EST
DTSTART:20241103T060000
END:STANDARD
BEGIN:DAYLIGHT
TZOFFSETFROM:-0500
TZOFFSETTO:-0400
TZNAME:EDT
DTSTART:20250309T070000
END:DAYLIGHT
BEGIN:STANDARD
TZOFFSETFROM:-0400
TZOFFSETTO:-0500
TZNAME:EST
DTSTART:20251102T060000
END:STANDARD
BEGIN:DAYLIGHT
TZOFFSETFROM:-0500
TZOFFSETTO:-0400
TZNAME:EDT
DTSTART:20260308T070000
END:DAYLIGHT
BEGIN:STANDARD
TZOFFSETFROM:-0400
TZOFFSETTO:-0500
TZNAME:EST
DTSTART:20261101T060000
END:STANDARD
BEGIN:DAYLIGHT
TZOFFSETFROM:-0500
TZOFFSETTO:-0400
TZNAME:EDT
DTSTART:20270314T070000
END:DAYLIGHT
BEGIN:STANDARD
TZOFFSETFROM:-0400
TZOFFSETTO:-0500
TZNAME:EST
DTSTART:20271107T060000
END:STANDARD
END:VTIMEZONE
BEGIN:VTIMEZONE
TZID:UTC
BEGIN:STANDARD
TZOFFSETFROM:+0000
TZOFFSETTO:+0000
TZNAME:UTC
DTSTART:20240101T000000
END:STANDARD
END:VTIMEZONE
BEGIN:VEVENT
DTSTART;VALUE=DATE:20260410
DTEND;VALUE=DATE:20260411
DTSTAMP:20260419T213842
CREATED:20250808T154359Z
LAST-MODIFIED:20250808T154359Z
UID:27417-1775779200-1775865599@2033.ad
SUMMARY:GOYA Holy Friday Retreat
DESCRIPTION:
URL:https://2033.ad/event/goya-holy-friday-retreat/
CATEGORIES:GOYA
END:VEVENT
BEGIN:VEVENT
DTSTART;VALUE=DATE:20260329
DTEND;VALUE=DATE:20260330
DTSTAMP:20260419T213842
CREATED:20250808T154308Z
LAST-MODIFIED:20250808T154308Z
UID:27415-1774742400-1774828799@2033.ad
SUMMARY:GOYA Meeting
DESCRIPTION:
URL:https://2033.ad/event/goya-meeting-3/
CATEGORIES:GOYA
END:VEVENT
BEGIN:VEVENT
DTSTART;TZID=UTC:20260323T000000
DTEND;TZID=UTC:20260324T000000
DTSTAMP:20260419T213842
CREATED:20241107T035409Z
LAST-MODIFIED:20241107T035409Z
UID:24777-1774224000-1774310400@2033.ad
SUMMARY:Clean Monday
DESCRIPTION:
URL:https://2033.ad/event/clean-monday/
END:VEVENT
BEGIN:VEVENT
DTSTART;VALUE=DATE:20260222
DTEND;VALUE=DATE:20260223
DTSTAMP:20260419T213842
CREATED:20250808T154243Z
LAST-MODIFIED:20250808T154243Z
UID:27413-1771718400-1771804799@2033.ad
SUMMARY:GOYA Meeting
DESCRIPTION:
URL:https://2033.ad/event/goya-meeting-2/
CATEGORIES:GOYA
END:VEVENT
BEGIN:VEVENT
DTSTART;TZID=UTC:20260202T100000
DTEND;TZID=UTC:20260202T110000
DTSTAMP:20260419T213842
CREATED:20241107T035407Z
LAST-MODIFIED:20241107T035407Z
UID:24774-1770026400-1770030000@2033.ad
SUMMARY:Divine Liturgy - Presentation of Our Lord in the Temple
DESCRIPTION:
URL:https://2033.ad/event/divine-liturgy-presentation-of-our-lord-in-the-temple/
END:VEVENT
BEGIN:VEVENT
DTSTART;TZID=UTC:20260202T090000
DTEND;TZID=UTC:20260202T100000
DTSTAMP:20260419T213842
CREATED:20241107T035407Z
LAST-MODIFIED:20241107T035407Z
UID:24773-1770022800-1770026400@2033.ad
SUMMARY:Orthros
DESCRIPTION:
URL:https://2033.ad/event/orthros-2/
END:VEVENT
BEGIN:VEVENT
DTSTART;TZID=UTC:20260201T180000
DTEND;TZID=UTC:20260201T190000
DTSTAMP:20260419T213842
CREATED:20241107T035355Z
LAST-MODIFIED:20241107T035355Z
UID:24772-1769968800-1769972400@2033.ad
SUMMARY:Great Vespers  Presentation of Our Lord in the Temple
DESCRIPTION:
URL:https://2033.ad/event/great-vespers-presentation-of-our-lord-in-the-temple/
END:VEVENT
BEGIN:VEVENT
DTSTART;VALUE=DATE:20260123
DTEND;VALUE=DATE:20260126
DTSTAMP:20260419T213842
CREATED:20250808T154212Z
LAST-MODIFIED:20250808T154212Z
UID:27411-1769126400-1769385599@2033.ad
SUMMARY:GOYA Winter Event
DESCRIPTION:
URL:https://2033.ad/event/goya-winter-event/
CATEGORIES:GOYA
END:VEVENT
BEGIN:VEVENT
DTSTART;VALUE=DATE:20251227
DTEND;VALUE=DATE:20251231
DTSTAMP:20260419T213842
CREATED:20250808T154126Z
LAST-MODIFIED:20250808T154126Z
UID:27408-1766793600-1767139199@2033.ad
SUMMARY:Winter Youth Rally
DESCRIPTION:
URL:https://2033.ad/event/winter-youth-rally/
CATEGORIES:GOYA
END:VEVENT
BEGIN:VEVENT
DTSTART;VALUE=DATE:20251221
DTEND;VALUE=DATE:20251222
DTSTAMP:20260419T213842
CREATED:20250808T154006Z
LAST-MODIFIED:20250808T154006Z
UID:27406-1766275200-1766361599@2033.ad
SUMMARY:Winter Youth Rally Volleyball Practice
DESCRIPTION:
URL:https://2033.ad/event/winter-youth-rally-volleyball-practice-5/
CATEGORIES:GOYA
END:VEVENT
BEGIN:VEVENT
DTSTART;VALUE=DATE:20251130
DTEND;VALUE=DATE:20251201
DTSTAMP:20260419T213842
CREATED:20250808T153904Z
LAST-MODIFIED:20250808T153904Z
UID:27402-1764460800-1764547199@2033.ad
SUMMARY:Winter Youth Rally Volleyball Practice
DESCRIPTION:
URL:https://2033.ad/event/winter-youth-rally-volleyball-practice-4/
CATEGORIES:GOYA
END:VEVENT
BEGIN:VEVENT
DTSTART;VALUE=DATE:20251123
DTEND;VALUE=DATE:20251124
DTSTAMP:20260419T213842
CREATED:20250808T153933Z
LAST-MODIFIED:20250808T153933Z
UID:27404-1763856000-1763942399@2033.ad
SUMMARY:Turkey Raffle Draw
DESCRIPTION:
URL:https://2033.ad/event/turkey-raffle-draw/
CATEGORIES:GOYA
END:VEVENT
BEGIN:VEVENT
DTSTART;VALUE=DATE:20251123
DTEND;VALUE=DATE:20251124
DTSTAMP:20260419T213842
CREATED:20250808T153830Z
LAST-MODIFIED:20250808T153830Z
UID:27400-1763856000-1763942399@2033.ad
SUMMARY:Winter Youth Rally Volleyball Practice
DESCRIPTION:
URL:https://2033.ad/event/winter-youth-rally-volleyball-practice-3/
CATEGORIES:GOYA
END:VEVENT
BEGIN:VEVENT
DTSTART;VALUE=DATE:20251116
DTEND;VALUE=DATE:20251117
DTSTAMP:20260419T213842
CREATED:20250808T153802Z
LAST-MODIFIED:20250808T153802Z
UID:27398-1763251200-1763337599@2033.ad
SUMMARY:Winter Youth Rally Volleyball Practice
DESCRIPTION:
URL:https://2033.ad/event/winter-youth-rally-volleyball-practice-2/
CATEGORIES:GOYA
END:VEVENT
BEGIN:VEVENT
DTSTART;TZID=UTC:20251114T190000
DTEND;TZID=UTC:20251114T200000
DTSTAMP:20260419T213842
CREATED:20241107T035938Z
LAST-MODIFIED:20250123T032338Z
UID:24884-1763146800-1763150400@2033.ad
SUMMARY:Council of Ministries Meeting
DESCRIPTION:
URL:https://2033.ad/event/council-of-ministries-meeting-5/
END:VEVENT
BEGIN:VEVENT
DTSTART;VALUE=DATE:20251109
DTEND;VALUE=DATE:20251110
DTSTAMP:20260419T213842
CREATED:20250808T153734Z
LAST-MODIFIED:20250808T153734Z
UID:27396-1762646400-1762732799@2033.ad
SUMMARY:GOYA “Friendsgiving”
DESCRIPTION:
URL:https://2033.ad/event/goya-friendsgiving-2/
CATEGORIES:GOYA
END:VEVENT
BEGIN:VEVENT
DTSTART;VALUE=DATE:20251102
DTEND;VALUE=DATE:20251103
DTSTAMP:20260419T213842
CREATED:20250808T153705Z
LAST-MODIFIED:20250808T153705Z
UID:27394-1762041600-1762127999@2033.ad
SUMMARY:Winter Youth Rally Volleyball Practice
DESCRIPTION:
URL:https://2033.ad/event/winter-youth-rally-volleyball-practice/
CATEGORIES:GOYA
END:VEVENT
BEGIN:VEVENT
DTSTART;VALUE=DATE:20251024
DTEND;VALUE=DATE:20251027
DTSTAMP:20260419T213842
CREATED:20250808T153621Z
LAST-MODIFIED:20250808T153632Z
UID:27391-1761264000-1761523199@2033.ad
SUMMARY:GreekFest Festival
DESCRIPTION:
URL:https://2033.ad/event/greekfest-festival/
CATEGORIES:Festival
END:VEVENT
BEGIN:VEVENT
DTSTART;TZID=UTC:20251018T000000
DTEND;TZID=UTC:20251102T000000
DTSTAMP:20260419T213842
CREATED:20241107T035353Z
LAST-MODIFIED:20241107T035353Z
UID:24770-1760745600-1762041600@2033.ad
SUMMARY:NO RENTALS   FESTIVAL
DESCRIPTION:
URL:https://2033.ad/event/no-rentals-festival/
END:VEVENT
BEGIN:VEVENT
DTSTART;TZID=America/New_York:20251011T180000
DTEND;TZID=America/New_York:20251011T210000
DTSTAMP:20260419T213842
CREATED:20250821T151525Z
LAST-MODIFIED:20250821T151525Z
UID:27466-1760205600-1760216400@2033.ad
SUMMARY:"The Roaring Twenties" Golden Gala
DESCRIPTION:Greek Orthodox Metropolis of AtlantaTampa Bay District Council \nDress In Your Best 1920’s Attire! \nLocation:St. Nicholas Community Center348 N Pinellas AvenueTarpon Springs\, FL 34689 \nTo benefit the building of the “Philoxenia House” for housing accommodations for the Diakonia Retreat Center \nTicket Cost: $125Seating is limited. RSVP by September 20th \nCash Bar \nFor more information email OrthodoxGoldenGala@gmail.comor Call/Text Katerina Damianakis at 727-459-2123 \nClick here to download the flyer
URL:https://2033.ad/event/the-roaring-twenties-golden-gala/
END:VEVENT
BEGIN:VEVENT
DTSTART;TZID=America/New_York:20251009T130000
DTEND;TZID=America/New_York:20251009T140000
DTSTAMP:20260419T213842
CREATED:20250425T023836Z
LAST-MODIFIED:20250425T023836Z
UID:27173-1760014800-1760018400@2033.ad
SUMMARY:Bible Study
DESCRIPTION:
URL:https://2033.ad/event/bible-study-30/
END:VEVENT
BEGIN:VEVENT
DTSTART;TZID=America/New_York:20251009T063000
DTEND;TZID=America/New_York:20251009T100000
DTSTAMP:20260419T213842
CREATED:20250425T023836Z
LAST-MODIFIED:20250425T023836Z
UID:27172-1759991400-1760004000@2033.ad
SUMMARY:Private Rental
DESCRIPTION:
URL:https://2033.ad/event/private-rental-55/
LOCATION:Matheos hall
END:VEVENT
BEGIN:VEVENT
DTSTART;TZID=America/New_York:20251008T190000
DTEND;TZID=America/New_York:20251008T200000
DTSTAMP:20260419T213842
CREATED:20250425T023835Z
LAST-MODIFIED:20250425T023835Z
UID:27171-1759950000-1759953600@2033.ad
SUMMARY:Trivia Night
DESCRIPTION:
URL:https://2033.ad/event/trivia-night-6/
END:VEVENT
BEGIN:VEVENT
DTSTART;TZID=America/New_York:20251008T180000
DTEND;TZID=America/New_York:20251008T190000
DTSTAMP:20260419T213842
CREATED:20250425T023835Z
LAST-MODIFIED:20250425T023835Z
UID:27169-1759946400-1759950000@2033.ad
SUMMARY:PM Meeting
DESCRIPTION:
URL:https://2033.ad/event/pm-meeting-8/
END:VEVENT
BEGIN:VEVENT
DTSTART;TZID=America/New_York:20251008T170000
DTEND;TZID=America/New_York:20251008T193000
DTSTAMP:20260419T213842
CREATED:20250425T023835Z
LAST-MODIFIED:20250425T023835Z
UID:27170-1759942800-1759951800@2033.ad
SUMMARY:Adult Basketball
DESCRIPTION:Contact Mark Lagos for details:  mark@pinellasautobody.com
URL:https://2033.ad/event/adult-basketball-30/
LOCATION:Gym
END:VEVENT
BEGIN:VEVENT
DTSTART;TZID=America/New_York:20251006T171500
DTEND;TZID=America/New_York:20251006T183000
DTSTAMP:20260419T213842
CREATED:20250425T023835Z
LAST-MODIFIED:20250425T023835Z
UID:27168-1759770900-1759775400@2033.ad
SUMMARY:Greek School
DESCRIPTION:First day back.\n5/14/22 GB
URL:https://2033.ad/event/greek-school-29/
END:VEVENT
BEGIN:VEVENT
DTSTART;TZID=America/New_York:20251005T170000
DTEND;TZID=America/New_York:20251005T190000
DTSTAMP:20260419T213842
CREATED:20250425T023835Z
LAST-MODIFIED:20250425T023835Z
UID:27167-1759683600-1759690800@2033.ad
SUMMARY:Senior Hellas Dancers
DESCRIPTION:
URL:https://2033.ad/event/senior-hellas-dancers-31/
LOCATION:Hall
END:VEVENT
BEGIN:VEVENT
DTSTART;TZID=America/New_York:20251005T084500
DTEND;TZID=America/New_York:20251005T120000
DTSTAMP:20260419T213842
CREATED:20250425T023834Z
LAST-MODIFIED:20250425T023834Z
UID:27166-1759653900-1759665600@2033.ad
SUMMARY:Sunday Orthros @ Divine Liturgy 2nd Sunday of Luke
DESCRIPTION:Join with Google Meet: https://meet.google.com/gbo-sdat-mgx\nLearn more about Meet at: https://support.google.com/a/users/answer/9282720
URL:https://2033.ad/event/sunday-orthros-divine-liturgy-2nd-sunday-of-luke/
END:VEVENT
BEGIN:VEVENT
DTSTART;VALUE=DATE:20251005
DTEND;VALUE=DATE:20251006
DTSTAMP:20260419T213842
CREATED:20250808T153510Z
LAST-MODIFIED:20250808T153510Z
UID:27389-1759622400-1759708799@2033.ad
SUMMARY:GOYA KICK-OFF Meeting
DESCRIPTION:
URL:https://2033.ad/event/goya-kick-off-meeting/
CATEGORIES:GOYA
END:VEVENT
BEGIN:VEVENT
DTSTART;TZID=America/New_York:20251002T190000
DTEND;TZID=America/New_York:20251002T203000
DTSTAMP:20260419T213842
CREATED:20250425T023834Z
LAST-MODIFIED:20250425T023834Z
UID:27165-1759431600-1759437000@2033.ad
SUMMARY:Stewardship Committee Meeting
DESCRIPTION:
URL:https://2033.ad/event/stewardship-committee-meeting-7/
END:VEVENT
END:VCALENDAR