BEGIN:VCALENDAR
VERSION:2.0
PRODID:-//Holy Trinity Greek Orthodox Church - ECPv6.15.20//NONSGML v1.0//EN
CALSCALE:GREGORIAN
METHOD:PUBLISH
X-ORIGINAL-URL:https://2033.ad
X-WR-CALDESC:Events for Holy Trinity Greek Orthodox Church
REFRESH-INTERVAL;VALUE=DURATION:PT1H
X-Robots-Tag:noindex
X-PUBLISHED-TTL:PT1H
BEGIN:VTIMEZONE
TZID:America/New_York
BEGIN:DAYLIGHT
TZOFFSETFROM:-0500
TZOFFSETTO:-0400
TZNAME:EDT
DTSTART:20240310T070000
END:DAYLIGHT
BEGIN:STANDARD
TZOFFSETFROM:-0400
TZOFFSETTO:-0500
TZNAME:EST
DTSTART:20241103T060000
END:STANDARD
BEGIN:DAYLIGHT
TZOFFSETFROM:-0500
TZOFFSETTO:-0400
TZNAME:EDT
DTSTART:20250309T070000
END:DAYLIGHT
BEGIN:STANDARD
TZOFFSETFROM:-0400
TZOFFSETTO:-0500
TZNAME:EST
DTSTART:20251102T060000
END:STANDARD
BEGIN:DAYLIGHT
TZOFFSETFROM:-0500
TZOFFSETTO:-0400
TZNAME:EDT
DTSTART:20260308T070000
END:DAYLIGHT
BEGIN:STANDARD
TZOFFSETFROM:-0400
TZOFFSETTO:-0500
TZNAME:EST
DTSTART:20261101T060000
END:STANDARD
END:VTIMEZONE
BEGIN:VEVENT
DTSTART;VALUE=DATE:20251005
DTEND;VALUE=DATE:20251006
DTSTAMP:20260419T212908
CREATED:20250808T153510Z
LAST-MODIFIED:20250808T153510Z
UID:27389-1759622400-1759708799@2033.ad
SUMMARY:GOYA KICK-OFF Meeting
DESCRIPTION:
URL:https://2033.ad/event/goya-kick-off-meeting/
CATEGORIES:GOYA
END:VEVENT
BEGIN:VEVENT
DTSTART;TZID=America/New_York:20251005T084500
DTEND;TZID=America/New_York:20251005T120000
DTSTAMP:20260419T212908
CREATED:20250425T023834Z
LAST-MODIFIED:20250425T023834Z
UID:27166-1759653900-1759665600@2033.ad
SUMMARY:Sunday Orthros @ Divine Liturgy 2nd Sunday of Luke
DESCRIPTION:Join with Google Meet: https://meet.google.com/gbo-sdat-mgx\nLearn more about Meet at: https://support.google.com/a/users/answer/9282720
URL:https://2033.ad/event/sunday-orthros-divine-liturgy-2nd-sunday-of-luke/
END:VEVENT
BEGIN:VEVENT
DTSTART;TZID=America/New_York:20251005T170000
DTEND;TZID=America/New_York:20251005T190000
DTSTAMP:20260419T212908
CREATED:20250425T023835Z
LAST-MODIFIED:20250425T023835Z
UID:27167-1759683600-1759690800@2033.ad
SUMMARY:Senior Hellas Dancers
DESCRIPTION:
URL:https://2033.ad/event/senior-hellas-dancers-31/
LOCATION:Hall
END:VEVENT
END:VCALENDAR