BEGIN:VCALENDAR
VERSION:2.0
PRODID:-//Holy Trinity Greek Orthodox Church - ECPv6.15.20//NONSGML v1.0//EN
CALSCALE:GREGORIAN
METHOD:PUBLISH
X-ORIGINAL-URL:https://2033.ad
X-WR-CALDESC:Events for Holy Trinity Greek Orthodox Church
REFRESH-INTERVAL;VALUE=DURATION:PT1H
X-Robots-Tag:noindex
X-PUBLISHED-TTL:PT1H
BEGIN:VTIMEZONE
TZID:America/New_York
BEGIN:DAYLIGHT
TZOFFSETFROM:-0500
TZOFFSETTO:-0400
TZNAME:EDT
DTSTART:20240310T070000
END:DAYLIGHT
BEGIN:STANDARD
TZOFFSETFROM:-0400
TZOFFSETTO:-0500
TZNAME:EST
DTSTART:20241103T060000
END:STANDARD
BEGIN:DAYLIGHT
TZOFFSETFROM:-0500
TZOFFSETTO:-0400
TZNAME:EDT
DTSTART:20250309T070000
END:DAYLIGHT
BEGIN:STANDARD
TZOFFSETFROM:-0400
TZOFFSETTO:-0500
TZNAME:EST
DTSTART:20251102T060000
END:STANDARD
BEGIN:DAYLIGHT
TZOFFSETFROM:-0500
TZOFFSETTO:-0400
TZNAME:EDT
DTSTART:20260308T070000
END:DAYLIGHT
BEGIN:STANDARD
TZOFFSETFROM:-0400
TZOFFSETTO:-0500
TZNAME:EST
DTSTART:20261101T060000
END:STANDARD
END:VTIMEZONE
BEGIN:VEVENT
DTSTART;TZID=America/New_York:20250921T084500
DTEND;TZID=America/New_York:20250921T120000
DTSTAMP:20260420T042146
CREATED:20250425T023829Z
LAST-MODIFIED:20250425T023829Z
UID:27147-1758444300-1758456000@2033.ad
SUMMARY:Sunday Orthros @ Divine Liturgy Sunday after Holy Cross
DESCRIPTION:Join with Google Meet: https://meet.google.com/gbo-sdat-mgx\nLearn more about Meet at: https://support.google.com/a/users/answer/9282720
URL:https://2033.ad/event/sunday-orthros-divine-liturgy-sunday-after-holy-cross/
END:VEVENT
BEGIN:VEVENT
DTSTART;TZID=America/New_York:20250921T113000
DTEND;TZID=America/New_York:20250921T123000
DTSTAMP:20260420T042146
CREATED:20250425T023829Z
LAST-MODIFIED:20250425T023829Z
UID:27146-1758454200-1758457800@2033.ad
SUMMARY:Blood Drive
DESCRIPTION:
URL:https://2033.ad/event/blood-drive-3/
END:VEVENT
BEGIN:VEVENT
DTSTART;TZID=America/New_York:20250921T170000
DTEND;TZID=America/New_York:20250921T190000
DTSTAMP:20260420T042146
CREATED:20250425T023830Z
LAST-MODIFIED:20250425T023830Z
UID:27148-1758474000-1758481200@2033.ad
SUMMARY:Senior Hellas Dancers
DESCRIPTION:
URL:https://2033.ad/event/senior-hellas-dancers-29/
LOCATION:Hall
END:VEVENT
END:VCALENDAR