BEGIN:VCALENDAR
VERSION:2.0
PRODID:-//Holy Trinity Greek Orthodox Church - ECPv6.15.20//NONSGML v1.0//EN
CALSCALE:GREGORIAN
METHOD:PUBLISH
X-WR-CALNAME:Holy Trinity Greek Orthodox Church
X-ORIGINAL-URL:https://2033.ad
X-WR-CALDESC:Events for Holy Trinity Greek Orthodox Church
REFRESH-INTERVAL;VALUE=DURATION:PT1H
X-Robots-Tag:noindex
X-PUBLISHED-TTL:PT1H
BEGIN:VTIMEZONE
TZID:America/New_York
BEGIN:DAYLIGHT
TZOFFSETFROM:-0500
TZOFFSETTO:-0400
TZNAME:EDT
DTSTART:20240310T070000
END:DAYLIGHT
BEGIN:STANDARD
TZOFFSETFROM:-0400
TZOFFSETTO:-0500
TZNAME:EST
DTSTART:20241103T060000
END:STANDARD
BEGIN:DAYLIGHT
TZOFFSETFROM:-0500
TZOFFSETTO:-0400
TZNAME:EDT
DTSTART:20250309T070000
END:DAYLIGHT
BEGIN:STANDARD
TZOFFSETFROM:-0400
TZOFFSETTO:-0500
TZNAME:EST
DTSTART:20251102T060000
END:STANDARD
BEGIN:DAYLIGHT
TZOFFSETFROM:-0500
TZOFFSETTO:-0400
TZNAME:EDT
DTSTART:20260308T070000
END:DAYLIGHT
BEGIN:STANDARD
TZOFFSETFROM:-0400
TZOFFSETTO:-0500
TZNAME:EST
DTSTART:20261101T060000
END:STANDARD
END:VTIMEZONE
BEGIN:VEVENT
DTSTART;TZID=America/New_York:20250918T063000
DTEND;TZID=America/New_York:20250918T100000
DTSTAMP:20260420T023317
CREATED:20250425T023829Z
LAST-MODIFIED:20250425T023829Z
UID:27144-1758177000-1758189600@2033.ad
SUMMARY:Private Rental
DESCRIPTION:
URL:https://2033.ad/event/private-rental-52/
LOCATION:Matheos hall
END:VEVENT
BEGIN:VEVENT
DTSTART;TZID=America/New_York:20250918T100000
DTEND;TZID=America/New_York:20250918T130000
DTSTAMP:20260420T023317
CREATED:20250425T023828Z
LAST-MODIFIED:20250425T023828Z
UID:27143-1758189600-1758200400@2033.ad
SUMMARY:Cooking for Homeless
DESCRIPTION:Contact Person: Fran Mastorides 727.443.0666 ffmastor@yahoo.com
URL:https://2033.ad/event/cooking-for-homeless-6/
LOCATION:Kitchen
END:VEVENT
BEGIN:VEVENT
DTSTART;TZID=America/New_York:20250918T130000
DTEND;TZID=America/New_York:20250918T140000
DTSTAMP:20260420T023317
CREATED:20250425T023829Z
LAST-MODIFIED:20250425T023829Z
UID:27145-1758200400-1758204000@2033.ad
SUMMARY:Bible Study
DESCRIPTION:
URL:https://2033.ad/event/bible-study-27/
END:VEVENT
END:VCALENDAR