BEGIN:VCALENDAR
VERSION:2.0
PRODID:-//Holy Trinity Greek Orthodox Church - ECPv6.15.20//NONSGML v1.0//EN
CALSCALE:GREGORIAN
METHOD:PUBLISH
X-WR-CALNAME:Holy Trinity Greek Orthodox Church
X-ORIGINAL-URL:https://2033.ad
X-WR-CALDESC:Events for Holy Trinity Greek Orthodox Church
REFRESH-INTERVAL;VALUE=DURATION:PT1H
X-Robots-Tag:noindex
X-PUBLISHED-TTL:PT1H
BEGIN:VTIMEZONE
TZID:America/New_York
BEGIN:DAYLIGHT
TZOFFSETFROM:-0500
TZOFFSETTO:-0400
TZNAME:EDT
DTSTART:20240310T070000
END:DAYLIGHT
BEGIN:STANDARD
TZOFFSETFROM:-0400
TZOFFSETTO:-0500
TZNAME:EST
DTSTART:20241103T060000
END:STANDARD
BEGIN:DAYLIGHT
TZOFFSETFROM:-0500
TZOFFSETTO:-0400
TZNAME:EDT
DTSTART:20250309T070000
END:DAYLIGHT
BEGIN:STANDARD
TZOFFSETFROM:-0400
TZOFFSETTO:-0500
TZNAME:EST
DTSTART:20251102T060000
END:STANDARD
BEGIN:DAYLIGHT
TZOFFSETFROM:-0500
TZOFFSETTO:-0400
TZNAME:EDT
DTSTART:20260308T070000
END:DAYLIGHT
BEGIN:STANDARD
TZOFFSETFROM:-0400
TZOFFSETTO:-0500
TZNAME:EST
DTSTART:20261101T060000
END:STANDARD
END:VTIMEZONE
BEGIN:VEVENT
DTSTART;TZID=America/New_York:20250914T084500
DTEND;TZID=America/New_York:20250914T120000
DTSTAMP:20260420T023454
CREATED:20250425T023827Z
LAST-MODIFIED:20250425T023827Z
UID:27135-1757839500-1757851200@2033.ad
SUMMARY:Sunday Orthros @ Divine Liturgy Elevation of the Holy Cross
DESCRIPTION:Join with Google Meet: https://meet.google.com/gbo-sdat-mgx\nLearn more about Meet at: https://support.google.com/a/users/answer/9282720
URL:https://2033.ad/event/sunday-orthros-divine-liturgy-elevation-of-the-holy-cross/
END:VEVENT
BEGIN:VEVENT
DTSTART;TZID=America/New_York:20250914T090000
DTEND;TZID=America/New_York:20250914T100000
DTSTAMP:20260420T023454
CREATED:20250425T023826Z
LAST-MODIFIED:20250425T023826Z
UID:27134-1757840400-1757844000@2033.ad
SUMMARY:Orthros  Elevation of The Cross
DESCRIPTION:Join with Google Meet: https://meet.google.com/rri-yney-cpn\nLearn more about Meet at: https://support.google.com/a/users/answer/9282720
URL:https://2033.ad/event/orthros-elevation-of-the-cross/
END:VEVENT
BEGIN:VEVENT
DTSTART;TZID=America/New_York:20250914T100000
DTEND;TZID=America/New_York:20250914T110000
DTSTAMP:20260420T023454
CREATED:20250425T023827Z
LAST-MODIFIED:20250425T023827Z
UID:27136-1757844000-1757847600@2033.ad
SUMMARY:Divine Liturgy - Elevation of the Holy Cross
DESCRIPTION:
URL:https://2033.ad/event/divine-liturgy-elevation-of-the-holy-cross/
END:VEVENT
BEGIN:VEVENT
DTSTART;TZID=America/New_York:20250914T170000
DTEND;TZID=America/New_York:20250914T190000
DTSTAMP:20260420T023454
CREATED:20250425T023827Z
LAST-MODIFIED:20250425T023827Z
UID:27137-1757869200-1757876400@2033.ad
SUMMARY:Senior Hellas Dancers
DESCRIPTION:
URL:https://2033.ad/event/senior-hellas-dancers-28/
LOCATION:Hall
END:VEVENT
END:VCALENDAR