BEGIN:VCALENDAR
VERSION:2.0
PRODID:-//Holy Trinity Greek Orthodox Church - ECPv6.15.20//NONSGML v1.0//EN
CALSCALE:GREGORIAN
METHOD:PUBLISH
X-ORIGINAL-URL:https://2033.ad
X-WR-CALDESC:Events for Holy Trinity Greek Orthodox Church
REFRESH-INTERVAL;VALUE=DURATION:PT1H
X-Robots-Tag:noindex
X-PUBLISHED-TTL:PT1H
BEGIN:VTIMEZONE
TZID:America/New_York
BEGIN:DAYLIGHT
TZOFFSETFROM:-0500
TZOFFSETTO:-0400
TZNAME:EDT
DTSTART:20240310T070000
END:DAYLIGHT
BEGIN:STANDARD
TZOFFSETFROM:-0400
TZOFFSETTO:-0500
TZNAME:EST
DTSTART:20241103T060000
END:STANDARD
BEGIN:DAYLIGHT
TZOFFSETFROM:-0500
TZOFFSETTO:-0400
TZNAME:EDT
DTSTART:20250309T070000
END:DAYLIGHT
BEGIN:STANDARD
TZOFFSETFROM:-0400
TZOFFSETTO:-0500
TZNAME:EST
DTSTART:20251102T060000
END:STANDARD
BEGIN:DAYLIGHT
TZOFFSETFROM:-0500
TZOFFSETTO:-0400
TZNAME:EDT
DTSTART:20260308T070000
END:DAYLIGHT
BEGIN:STANDARD
TZOFFSETFROM:-0400
TZOFFSETTO:-0500
TZNAME:EST
DTSTART:20261101T060000
END:STANDARD
END:VTIMEZONE
BEGIN:VEVENT
DTSTART;TZID=America/New_York:20250910T170000
DTEND;TZID=America/New_York:20250910T193000
DTSTAMP:20260420T023659
CREATED:20250425T023825Z
LAST-MODIFIED:20250425T023825Z
UID:27129-1757523600-1757532600@2033.ad
SUMMARY:Adult Basketball
DESCRIPTION:Contact Mark Lagos for details:  mark@pinellasautobody.com
URL:https://2033.ad/event/adult-basketball-26/
LOCATION:Gym
END:VEVENT
BEGIN:VEVENT
DTSTART;TZID=America/New_York:20250910T180000
DTEND;TZID=America/New_York:20250910T190000
DTSTAMP:20260420T023659
CREATED:20250425T023825Z
LAST-MODIFIED:20250425T023825Z
UID:27127-1757527200-1757530800@2033.ad
SUMMARY:PM Meeting
DESCRIPTION:
URL:https://2033.ad/event/pm-meeting-7/
END:VEVENT
BEGIN:VEVENT
DTSTART;TZID=America/New_York:20250910T190000
DTEND;TZID=America/New_York:20250910T200000
DTSTAMP:20260420T023659
CREATED:20250425T023825Z
LAST-MODIFIED:20250821T150416Z
UID:27128-1757530800-1757534400@2033.ad
SUMMARY:Trivia Night
DESCRIPTION:Click here to download the event flyer
URL:https://2033.ad/event/trivia-night-5/
END:VEVENT
END:VCALENDAR