BEGIN:VCALENDAR
VERSION:2.0
PRODID:-//Holy Trinity Greek Orthodox Church - ECPv6.15.20//NONSGML v1.0//EN
CALSCALE:GREGORIAN
METHOD:PUBLISH
X-WR-CALNAME:Holy Trinity Greek Orthodox Church
X-ORIGINAL-URL:https://2033.ad
X-WR-CALDESC:Events for Holy Trinity Greek Orthodox Church
REFRESH-INTERVAL;VALUE=DURATION:PT1H
X-Robots-Tag:noindex
X-PUBLISHED-TTL:PT1H
BEGIN:VTIMEZONE
TZID:UTC
BEGIN:STANDARD
TZOFFSETFROM:+0000
TZOFFSETTO:+0000
TZNAME:UTC
DTSTART:20240101T000000
END:STANDARD
END:VTIMEZONE
BEGIN:VTIMEZONE
TZID:America/New_York
BEGIN:DAYLIGHT
TZOFFSETFROM:-0500
TZOFFSETTO:-0400
TZNAME:EDT
DTSTART:20240310T070000
END:DAYLIGHT
BEGIN:STANDARD
TZOFFSETFROM:-0400
TZOFFSETTO:-0500
TZNAME:EST
DTSTART:20241103T060000
END:STANDARD
BEGIN:DAYLIGHT
TZOFFSETFROM:-0500
TZOFFSETTO:-0400
TZNAME:EDT
DTSTART:20250309T070000
END:DAYLIGHT
BEGIN:STANDARD
TZOFFSETFROM:-0400
TZOFFSETTO:-0500
TZNAME:EST
DTSTART:20251102T060000
END:STANDARD
BEGIN:DAYLIGHT
TZOFFSETFROM:-0500
TZOFFSETTO:-0400
TZNAME:EDT
DTSTART:20260308T070000
END:DAYLIGHT
BEGIN:STANDARD
TZOFFSETFROM:-0400
TZOFFSETTO:-0500
TZNAME:EST
DTSTART:20261101T060000
END:STANDARD
END:VTIMEZONE
BEGIN:VEVENT
DTSTART;VALUE=DATE:20250828
DTEND;VALUE=DATE:20250829
DTSTAMP:20260422T053853
CREATED:20250309T164705Z
LAST-MODIFIED:20250309T164705Z
UID:26125-1756339200-1756425599@2033.ad
SUMMARY:Moses the Black of Scete
DESCRIPTION:Saints\, Feasts\, and Readings for 08/28/2025\nSaints and Feasts: Moses the Black of Scete; Diomedes & Laurence the Martyrs; 33 Martyrs of Nicomedea; Job of Pochaev ; Synaxis of the Kiev Cave Fathers\nEpistle Reading: II Corinthians 7:1-10\nBrethren\, let us cleanse ourselves from every defilement of body and spirit\, and make holiness perfect in the fear of God.\nOpen your hearts to us; we have wronged no one\, we have corrupted no one\, we have taken advantage of no one. I do not say this to condemn you\, for I said before that you are in our hearts\, to die together and to live together. I have great confidence in you; I have great pride in you; I am filled with comfort. With all our affliction\, I am overjoyed.\nFor even when we came into Macedonia\, our bodies had no rest but we were afflicted at every turn –fighting without and fear within. But God\, who comforts the downcast\, comforted us by the coming of Titus\, and not only by his coming but also by the comfort with which he was comforted in you\, as he told us of your longing\, your mourning\, your zeal for me\, so that I rejoiced still more. For even if I made you sorry with my letter\, I do not regret it (though I did regret it)\, for I see that that letter grieved you\, though only for a while. As it is\, I rejoice\, not because you were grieved\, but because you were grieved into repenting; for you felt a godly grief\, so that you suffered no loss through us. For godly grief produces a repentance that leads to salvation and brings no regret\, but worldly grief produces death.\nGospel Reading: Mark 1:29-35\nAt that time\, Jesus entered the house of Simon and Andrew\, with James and John. Now Simon’s mother-in-law lay sick with a fever\, and immediately they told him of her. And he came and took her by the hand and lifted her up\, and the fever left her; and she served them. That evening\, at sundown\, they brought to him all who were sick or possessed with demons. And the whole city was gathered together about the door. And he healed many who were sick with various diseases\, and cast out many demons; and he would not permit the demons to speak\, because they knew him. And in the morning\, a great while before day\, he rose and went out to a lonely place\, and there he prayed.
URL:https://2033.ad/event/moses-the-black-of-scete/
END:VEVENT
BEGIN:VEVENT
DTSTART;VALUE=DATE:20250828
DTEND;VALUE=DATE:20250829
DTSTAMP:20260422T053853
CREATED:20250309T164806Z
LAST-MODIFIED:20250309T164806Z
UID:26332-1756339200-1756425599@2033.ad
SUMMARY:Μωϋσής Αιθίοπας
DESCRIPTION:Άγιοι\, εορταί\, και Αναγνώσεις – Πέμπτη\, 28 Αυγούστου 2025\nΆγιοι και εορταί: Μωϋσής Αιθίοπας; Διομήδης και Λαυρέντιος; 33 Μάρτυρες της Νικομηδείας ; Ιώβ του Ποτσαέφ; Σύναξις των Πατέρων των εν Κιέβ\nΑνάγνωσις Επιστολής: Β’ Κορινθ. 7:1-10\nΑδελφοί\, καθαρίσωμεν εαυτούς από παντός μολυσμού σαρκός και πνεύματος\, επιτελούντες αγιωσύνην εν φόβω θεού. Χωρήσατε ημάς· ουδένα ηδικήσαμεν\, ουδένα εφθείραμεν\, ουδένα επλεονεκτήσαμεν. Ου πρός κατάκρισιν λέγω· προείρηκα γάρ\, ότι εν ταις καρδίαις ημών εστέ εις το συναποθανείν και συζήν. Πολλή μοι παρρησία πρός υμάς\, πολλή μοι καύχησις υπέρ υμών· πεπλήρωμαι τη παρακλήσει\, υπερπερισσεύομαι τη χαρά επί πάση τη θλίψει ημών. Και γαρ ελθόντων ημών εις Μακεδονίαν ουδεμίαν έσχηκεν άνεσιν η σάρξ ημών\, αλλʼ εν παντί θλιβόμενοι· έξωθεν μάχαι\, έσωθεν φόβοι. Αλλʼ ο παρακαλών τους ταπεινούς παρεκάλεσεν ημάς\, ο θεός\, εν τη παρουσία Τίτου· ου μόνον δε εν τη παρουσία αυτού\, αλλά και εν τη παρακλήσει ή παρεκλήθη εφʼ υμίν\, αναγγέλλων ημίν την υμών επιπόθησιν\, τον υμών οδυρμόν\, τον υμών ζήλον υπέρ εμού\, ώστε με μάλλον χαρήναι. Ότι ει και ελύπησα υμάς εν τη επιστολή\, ου μεταμέλομαι\, ει και μετεμελόμην· βλέπω γαρ ότι η επιστολή εκείνη\, ει και πρός ώραν\, ελύπησεν υμάς. Νύν χαίρω\, ουχ ότι ελυπήθητε\, αλλʼ ότι ελυπήθητε εις μετάνοιαν· ελυπήθητε γαρ κατά θεόν\, ίνα εν μηδενί ζημιωθήτε εξ ημών. Η γαρ κατά θεόν λύπη μετάνοιαν εις σωτηρίαν αμεταμέλητον κατεργάζεται· η δε του κόσμου λύπη θάνατον κατεργάζεται.\nΑνάγνωσις Ευαγγελίου: Κατά Μάρκον 1:29-35\nΤω καιρώ εκείνω\, ήλθον ο Ιησούς την οικίαν Σίμωνος και ᾿Ανδρέου μετά ᾿Ιακώβου και ᾿Ιωάννου. η δε πενθερά Σίμωνος κατέκειτο πυρέσσουσα. και ευθέως λέγουσιν αυτώ περί αυτής. και προσελθών ήγειρεν αυτήν κρατήσας της χειρός αυτής\, και αφήκεν αυτήν ο πυρετός ευθέως\, και διηκόνει αυτοίς. ᾿Οψίας δε γενομένης\, ότε έδυ ο ήλιος\, έφερον πρός αυτόν πάντας τους κακώς έχοντας και τους δαιμονιζομένους. και ήν η πόλις όλη επισυνηγμένη πρός την θύραν· και εθεράπευσε πολλούς κακώς έχοντας ποικίλαις νόσοις\, και δαιμόνια πολλά εξέβαλε\, και ουκ ήφιε λαλείν τα δαιμόνια\, ότι ᾔδεισαν αυτόν Χριστόν είναι. Και πρωῒ έννυχα λίαν αναστάς εξήλθε και απήλθεν εις έρημον τόπον\, κακεί προσηύχετο.
URL:https://2033.ad/event/%ce%bc%cf%89%cf%8b%cf%83%ce%ae%cf%82-%ce%b1%ce%b9%ce%b8%ce%af%ce%bf%cf%80%ce%b1%cf%82/
END:VEVENT
BEGIN:VEVENT
DTSTART;TZID=America/New_York:20250828T063000
DTEND;TZID=America/New_York:20250828T100000
DTSTAMP:20260422T053853
CREATED:20250425T023814Z
LAST-MODIFIED:20250425T023814Z
UID:27103-1756362600-1756375200@2033.ad
SUMMARY:Private Rental
DESCRIPTION:
URL:https://2033.ad/event/private-rental-49/
LOCATION:Matheos hall
END:VEVENT
BEGIN:VEVENT
DTSTART;TZID=America/New_York:20250828T130000
DTEND;TZID=America/New_York:20250828T140000
DTSTAMP:20260422T053853
CREATED:20250425T023815Z
LAST-MODIFIED:20250425T023815Z
UID:27105-1756386000-1756389600@2033.ad
SUMMARY:Bible Study
DESCRIPTION:
URL:https://2033.ad/event/bible-study-24/
END:VEVENT
BEGIN:VEVENT
DTSTART;TZID=America/New_York:20250828T190000
DTEND;TZID=America/New_York:20250828T200000
DTSTAMP:20260422T053853
CREATED:20250425T023811Z
LAST-MODIFIED:20250818T201059Z
UID:27092-1756407600-1756411200@2033.ad
SUMMARY:Council of Ministries Meeting
DESCRIPTION:
URL:https://2033.ad/event/com-meeting-2/
END:VEVENT
END:VCALENDAR