BEGIN:VCALENDAR
VERSION:2.0
PRODID:-//Holy Trinity Greek Orthodox Church - ECPv6.15.20//NONSGML v1.0//EN
CALSCALE:GREGORIAN
METHOD:PUBLISH
X-WR-CALNAME:Holy Trinity Greek Orthodox Church
X-ORIGINAL-URL:https://2033.ad
X-WR-CALDESC:Events for Holy Trinity Greek Orthodox Church
REFRESH-INTERVAL;VALUE=DURATION:PT1H
X-Robots-Tag:noindex
X-PUBLISHED-TTL:PT1H
BEGIN:VTIMEZONE
TZID:UTC
BEGIN:STANDARD
TZOFFSETFROM:+0000
TZOFFSETTO:+0000
TZNAME:UTC
DTSTART:20240101T000000
END:STANDARD
END:VTIMEZONE
BEGIN:VTIMEZONE
TZID:America/New_York
BEGIN:DAYLIGHT
TZOFFSETFROM:-0500
TZOFFSETTO:-0400
TZNAME:EDT
DTSTART:20240310T070000
END:DAYLIGHT
BEGIN:STANDARD
TZOFFSETFROM:-0400
TZOFFSETTO:-0500
TZNAME:EST
DTSTART:20241103T060000
END:STANDARD
BEGIN:DAYLIGHT
TZOFFSETFROM:-0500
TZOFFSETTO:-0400
TZNAME:EDT
DTSTART:20250309T070000
END:DAYLIGHT
BEGIN:STANDARD
TZOFFSETFROM:-0400
TZOFFSETTO:-0500
TZNAME:EST
DTSTART:20251102T060000
END:STANDARD
BEGIN:DAYLIGHT
TZOFFSETFROM:-0500
TZOFFSETTO:-0400
TZNAME:EDT
DTSTART:20260308T070000
END:DAYLIGHT
BEGIN:STANDARD
TZOFFSETFROM:-0400
TZOFFSETTO:-0500
TZNAME:EST
DTSTART:20261101T060000
END:STANDARD
END:VTIMEZONE
BEGIN:VEVENT
DTSTART;VALUE=DATE:20250827
DTEND;VALUE=DATE:20250828
DTSTAMP:20260420T041754
CREATED:20250309T164705Z
LAST-MODIFIED:20250309T164705Z
UID:26124-1756252800-1756339199@2033.ad
SUMMARY:Pimen the Great
DESCRIPTION:Saints\, Feasts\, and Readings for 08/27/2025\nSaints and Feasts: Pimen the Great; Holy Martyr Phanurius; Anthousa the Martyr; Poimen of Palestine; Hosisos the Confessor; Liverios\, Pope of Rome; Monica\nStrict Fast\nEpistle Reading: II Corinthians 6:11-16\nBrethren\, our mouth is open to you\, Corinthians; our heart is wide. You are not restricted by us\, but you are restricted in your own affections. In return — I speak as to children — widen your hearts also.\nDo not be mismated with unbelievers. For what partnership have righteousness and iniquity? Or what fellowship has light with darkness? What accord has Christ with Belial? Or what has a believer in common with an unbeliever? What agreement has the temple of God with idols? For we are the temple of the living God\, as God said.\nGospel Reading: Mark 1:23-28\nAt that time\, there was in the synagogue of the Jews a man with an unclean spirit; and he cried out\, “What have you to do with us\, Jesus of Nazareth? Have you come to destroy us? I know who you are\, the Holy One of God.” But Jesus rebuked him\, saying\, “Be silent\, and come out of him!” And the unclean spirit\, convulsing him and crying with a loud voice\, came out of him. And they were all amazed\, so that they questioned among themselves\, saying\, “What is this? A new teaching! With authority he commands even the unclean spirits\, and they obey him.” And at once his fame spread everywhere throughout all the surrounding region of Galilee.
URL:https://2033.ad/event/pimen-the-great/
END:VEVENT
BEGIN:VEVENT
DTSTART;VALUE=DATE:20250827
DTEND;VALUE=DATE:20250828
DTSTAMP:20260420T041754
CREATED:20250309T164806Z
LAST-MODIFIED:20250309T164806Z
UID:26331-1756252800-1756339199@2033.ad
SUMMARY:Ποιμήν ο Μέγας
DESCRIPTION:Άγιοι\, εορταί\, και Αναγνώσεις – Τετάρτη\, 27 Αυγούστου 2025\nΆγιοι και εορταί: Ποιμήν ο Μέγας; Φανούριος Μεγαλομάρτυς; Μάρτυρος Ανθούσης της νέας ; Ποιμήν της Παλαιστίνης; Όσισος ο Ομολογητής; Λιβέριος πάπα Ρώμης\, ο Ομολογητής; Αγία Μόνικα\nΑυστηρή Νηστεία\nΑνάγνωσις Επιστολής: Β’ Κορινθ. 6:11-16\nΑδελφοί\, το στόμα ημών ανέωγεν πρός υμάς\, Κορίνθιοι\, η καρδία ημών πεπλάτυνται. Ου στενοχωρείσθε εν ημίν\, στενοχωρείσθε δε εν τοις σπλάγχνοις υμών. Την δε αυτήν αντιμισθίαν – ως τέκνοις λέγω – πλατύνθητε και υμείς. Μή γίνεσθε ετεροζυγούντες απίστοις· τις γαρ μετοχή δικαιοσύνη και ανομία; Τις δε κοινωνία φωτί πρός σκότος; Τις δε συμφώνησις Χριστώ πρός Βελίαρ; Ή τις μερίς πιστώ μετά απίστου; Τις δε συγκατάθεσις ναώ θεού μετά ειδώλων; Υμείς γαρ ναός θεού εστε ζώντος\, καθώς είπεν ο θεός.\nΑνάγνωσις Ευαγγελίου: Κατά Μάρκον 1:23-28\nΤω καιρώ εκείνω\, άνθρωπος τις ήν εν τη συναγωγή αυτών άνθρωπος εν πνεύματι ακαθάρτω\, και ανέκραξελέγων· έα\, τί ημίν και σοί\, ᾿Ιησού Ναζαρηνέ; ήλθες απολέσαι ημάς; οίδά σε τίς εί\, ο άγιος του Θεού. και επετίμησεν αυτώ ο ᾿Ιησούς λέγων· φιμώθητι και έξελθε εξ αυτού. και σπαράξαν αυτόν το πνεύμα το ακάθαρτον και κράξαν φωνή μεγάλη εξήλθεν εξ αυτού. και εθαμβήθησαν πάντες\, ώστε συζητείν πρός εαυτούς λέγοντας· τί εστι τούτο; τίς η διδαχή η καινή αύτη\, ότι κατ᾿ εξουσίαν και τοις πνεύμασι τοις ακαθάρτοις επιτάσσει\, και υπακούουσιν αυτώ; και εξήλθεν η ακοή αυτού ευθύς εις όλην την περίχωρον της Γαλιλαίας.
URL:https://2033.ad/event/%cf%80%ce%bf%ce%b9%ce%bc%ce%ae%ce%bd-%ce%bf-%ce%bc%ce%ad%ce%b3%ce%b1%cf%82/
END:VEVENT
BEGIN:VEVENT
DTSTART;TZID=America/New_York:20250827T170000
DTEND;TZID=America/New_York:20250827T193000
DTSTAMP:20260420T041754
CREATED:20250425T023814Z
LAST-MODIFIED:20250425T023814Z
UID:27101-1756314000-1756323000@2033.ad
SUMMARY:Adult Basketball
DESCRIPTION:Contact Mark Lagos for details:  mark@pinellasautobody.com
URL:https://2033.ad/event/adult-basketball-24/
LOCATION:Gym
END:VEVENT
END:VCALENDAR