BEGIN:VCALENDAR
VERSION:2.0
PRODID:-//Holy Trinity Greek Orthodox Church - ECPv6.15.20//NONSGML v1.0//EN
CALSCALE:GREGORIAN
METHOD:PUBLISH
X-ORIGINAL-URL:https://2033.ad
X-WR-CALDESC:Events for Holy Trinity Greek Orthodox Church
REFRESH-INTERVAL;VALUE=DURATION:PT1H
X-Robots-Tag:noindex
X-PUBLISHED-TTL:PT1H
BEGIN:VTIMEZONE
TZID:UTC
BEGIN:STANDARD
TZOFFSETFROM:+0000
TZOFFSETTO:+0000
TZNAME:UTC
DTSTART:20240101T000000
END:STANDARD
END:VTIMEZONE
BEGIN:VTIMEZONE
TZID:America/New_York
BEGIN:DAYLIGHT
TZOFFSETFROM:-0500
TZOFFSETTO:-0400
TZNAME:EDT
DTSTART:20240310T070000
END:DAYLIGHT
BEGIN:STANDARD
TZOFFSETFROM:-0400
TZOFFSETTO:-0500
TZNAME:EST
DTSTART:20241103T060000
END:STANDARD
BEGIN:DAYLIGHT
TZOFFSETFROM:-0500
TZOFFSETTO:-0400
TZNAME:EDT
DTSTART:20250309T070000
END:DAYLIGHT
BEGIN:STANDARD
TZOFFSETFROM:-0400
TZOFFSETTO:-0500
TZNAME:EST
DTSTART:20251102T060000
END:STANDARD
BEGIN:DAYLIGHT
TZOFFSETFROM:-0500
TZOFFSETTO:-0400
TZNAME:EDT
DTSTART:20260308T070000
END:DAYLIGHT
BEGIN:STANDARD
TZOFFSETFROM:-0400
TZOFFSETTO:-0500
TZNAME:EST
DTSTART:20261101T060000
END:STANDARD
END:VTIMEZONE
BEGIN:VEVENT
DTSTART;VALUE=DATE:20250826
DTEND;VALUE=DATE:20250827
DTSTAMP:20260422T054220
CREATED:20250309T164704Z
LAST-MODIFIED:20250309T164704Z
UID:26123-1756166400-1756252799@2033.ad
SUMMARY:The Holy Martyrs Adrian and Natalie
DESCRIPTION:Saints\, Feasts\, and Readings for 08/26/2025\nSaints and Feasts: The Holy Martyrs Adrian and Natalie; Our Righteous Father Joseph; Icon of the Mother of God of Vladimir\nEpistle Reading: Hebrews 10:32-38\nBrethren\, recall the former days when\, after you were enlightened\, you endured a hard struggle with sufferings\, sometimes being publicly exposed to abuse and affliction\, and sometimes being partners with those so treated.  For you had compassion on the prisoners\, and you joyfully accepted the plundering of your property\, since you knew that you yourselves had a better possession and an abiding one.  Therefore do not throw away your confidence\, which has a great reward.  For you have need of endurance\, so that you may do the will of God and receive what is promised.  “For yet a little while\, and the coming one shall come and shall not tarry; but my righteous one shall live by faith.”\nGospel Reading: Mark 1:16-22\nAt that time\, Jesus\, passing along by the Sea of Galilee\, saw Simon and Andrew the brother of Simon casting a net in the sea; for they were fishermen. And Jesus said to them\, “Follow me and I will make you become fishers of men.” And immediately they left their nets and followed him. And going on a little farther\, he saw James the son of Zebedee and John his brother\, who were in their boats mending the nets. And immediately he called them; and they left their father Zebedee in the boat with the hired servants\, and followed him. And they went into Capernaum; and immediately on the sabbath he entered the synagogue and taught. And they were astonished at his teaching\, for he taught them as one who had authority\, and not as the scribes.
URL:https://2033.ad/event/the-holy-martyrs-adrian-and-natalie/
END:VEVENT
BEGIN:VEVENT
DTSTART;VALUE=DATE:20250826
DTEND;VALUE=DATE:20250827
DTSTAMP:20260422T054220
CREATED:20250309T164806Z
LAST-MODIFIED:20250309T164806Z
UID:26330-1756166400-1756252799@2033.ad
SUMMARY:Αδριανός και Ναταλία\, Μάρτυρες
DESCRIPTION:Άγιοι\, εορταί\, και Αναγνώσεις – Τρίτη\, 26 Αυγούστου 2025\nΆγιοι και εορταί: Αδριανός και Ναταλία\, Μάρτυρες; Ιωάσαφ Όσιος; Θεοτόκος του Βλαντιμίρ\nΑνάγνωσις Επιστολής: Εβρ. 10:32-38\nΑδελφοί\, αναμιμνῄσκεσθε δε τάς πρότερον ημέρας\, εν αίς φωτισθέντες πολλήν άθλησιν υπεμείνατε παθημάτων· τούτο μέν\, ονειδισμοίς τε και θλίψεσιν θεατριζόμενοι· τούτο δέ\, κοινωνοί των ούτως αναστρεφομένων γενηθέντες. Και γαρ τοις δεσμοίς μου συνεπαθήσατε\, και την αρπαγήν των υπαρχόντων υμών μετά χαράς προσεδέξασθε\, γινώσκοντες έχειν εαυτοίς κρείττονα ύπαρξιν εν ουρανοίς και μένουσαν. Μή αποβάλητε ούν την παρρησίαν υμών\, ήτις έχει μισθαποδοσίαν μεγάλην. Υπομονής γαρ έχετε χρείαν\, ίνα το θέλημα του θεού ποιήσαντες κομίσησθε την επαγγελίαν. Έτι γαρ μικρόν όσον όσον\, Ο ερχόμενος ήξει\, και ου χρονιεί. Ο δε δίκαιος εκ πίστεως ζήσεται· και εάν υποστείληται\, ουκ ευδοκεί η ψυχή μου εν αυτώ.\nΑνάγνωσις Ευαγγελίου: Κατά Μάρκον 1:16-22\nΤω καιρώ εκείνω\, περιπατών δε παρά την θάλασσαν της Γαλιλαίας είδε Σίμωνα και ᾿Ανδρέαν τον αδελφόν αυτού του Σίμωνος\, βάλλοντας αμφίβληστρον εν τη θαλάσση· ήσαν γαρ αλιείς· και είπεν αυτοίς ο ᾿Ιησούς· δεύτε οπίσω μου\, και ποιήσω υμάς γενέσθαι αλιείς ανθρώπων. και ευθέως αφέντες τα δίκτυα αυτών ηκολούθησαν αυτώ. Και προβάς εκείθεν ολίγον είδεν ᾿Ιάκωβον τον του Ζεβεδαίου και ᾿Ιωάννην τον αδελφόν αυτού\, και αυτούς εν τω πλοίω καταρτίζοντας τα δίκτυα\, και ευθέως εκάλεσεν αυτούς. και αφέντες τον πατέρα αυτών Ζεβεδαίον εν τω πλοίω μετά των μισθωτών απήλθον οπίσω αυτού. Και εισπορεύονται εις Καπερναούμ· και ευθέως τοις σάββασιν εισελθών εις την συναγωγήν εδίδασκε.καί εξεπλήσσοντο επί τη διδαχή αυτού· ήν γαρ διδάσκων αυτούς ως εξουσίαν έχων\, και ουχ ως οι γραμματείς.
URL:https://2033.ad/event/%ce%b1%ce%b4%cf%81%ce%b9%ce%b1%ce%bd%cf%8c%cf%82-%ce%ba%ce%b1%ce%b9-%ce%bd%ce%b1%cf%84%ce%b1%ce%bb%ce%af%ce%b1-%ce%bc%ce%ac%cf%81%cf%84%cf%85%cf%81%ce%b5%cf%82/
END:VEVENT
BEGIN:VEVENT
DTSTART;TZID=America/New_York:20250826T183000
DTEND;TZID=America/New_York:20250826T193000
DTSTAMP:20260422T054220
CREATED:20250425T023814Z
LAST-MODIFIED:20250821T142940Z
UID:27102-1756233000-1756236600@2033.ad
SUMMARY:Growing Within Our Orthodox Faith
DESCRIPTION:Click here to download the event flyer
URL:https://2033.ad/event/growing-within-our-orthodox-faith/
END:VEVENT
END:VCALENDAR