BEGIN:VCALENDAR
VERSION:2.0
PRODID:-//Holy Trinity Greek Orthodox Church - ECPv6.15.20//NONSGML v1.0//EN
CALSCALE:GREGORIAN
METHOD:PUBLISH
X-ORIGINAL-URL:https://2033.ad
X-WR-CALDESC:Events for Holy Trinity Greek Orthodox Church
REFRESH-INTERVAL;VALUE=DURATION:PT1H
X-Robots-Tag:noindex
X-PUBLISHED-TTL:PT1H
BEGIN:VTIMEZONE
TZID:UTC
BEGIN:STANDARD
TZOFFSETFROM:+0000
TZOFFSETTO:+0000
TZNAME:UTC
DTSTART:20240101T000000
END:STANDARD
END:VTIMEZONE
BEGIN:VEVENT
DTSTART;VALUE=DATE:20250819
DTEND;VALUE=DATE:20250820
DTSTAMP:20260422T073017
CREATED:20250309T164701Z
LAST-MODIFIED:20250309T164701Z
UID:26116-1755561600-1755647999@2033.ad
SUMMARY:Andrew the General & Martyr & his 2\,593 soldiers
DESCRIPTION:Saints\, Feasts\, and Readings for 08/19/2025\nSaints and Feasts: Andrew the General & Martyr & his 2\,593 soldiers; Holy Martyrs Timothy\, Agapius and Thecla; Theophanes the New Wonderworker of Macedonia; Afterfeast of the Dormition of our Most Holy Lady the Theotokos and Ever Virgin Mary; Eutychianos and Strategios the Martyrs\nEpistle Reading: II Corinthians 2:14-17;3:1-3\nBrethren\, thanks be to God\, who in Christ always leads us in triumph\, and through us spreads the fragrance of the knowledge of him everywhere. For we are the aroma of Christ to God among those who are being saved and among those who are perishing\, to one a fragrance from death to death\, to the other a fragrance from life to life. Who is sufficient for these things? For we are not\, like so many\, peddlers of God’s word; but as men of sincerity\, as commissioned by God\, in the sight of God we speak in Christ.\nAre we beginning to commend ourselves again? Or do we need\, as some do\, letters of recommendation\, to you\, or from you? You yourselves are our letter of recommendation\, written on our hearts\, to be known and read by all men; and you show that you are a letter from Christ delivered by us\, written not with ink but with the Spirit of the living God\, not on tablets of stone but on tablets of human hearts.\nGospel Reading: Matthew 23:23-28\nThe Lord said to the Jews who had come to him\, “Woe to you\, scribes and Pharisees\, hypocrites! for you tithe mint and dill and cumin\, and have neglected the weightier matters of the law\, justice and mercy and faith; these you ought to have done\, without neglecting the others. You blind guides\, straining out a gnat and swallowing a camel!\n“Woe to you\, scribes and Pharisees\, hypocrites! for you cleanse the outside of the cup and of the plate\, but inside they are full of extortion and rapacity. You blind Pharisee! first cleanse the inside of the cup and of the plate\, that the outside also may be clean.\n“Woe to you\, scribes and Pharisees\, hypocrites! for you are like whitewashed tombs\, which outwardly appear beautiful\, but within they are full of dead men’s bones and all uncleanness. So you also outwardly appear righteous to men\, but within you are full of hypocrisy and iniquity.”
URL:https://2033.ad/event/andrew-the-general-martyr-his-2593-soldiers/
END:VEVENT
BEGIN:VEVENT
DTSTART;VALUE=DATE:20250819
DTEND;VALUE=DATE:20250820
DTSTAMP:20260422T073017
CREATED:20250309T164804Z
LAST-MODIFIED:20250309T164804Z
UID:26323-1755561600-1755647999@2033.ad
SUMMARY:Ανδρέας Στρατηλάτης\, Μεγαλομάρτυς και των σύν αυτώ 2593
DESCRIPTION:Άγιοι\, εορταί\, και Αναγνώσεις – Τρίτη\, 19 Αυγούστου 2025\nΆγιοι και εορταί: Ανδρέας Στρατηλάτης\, Μεγαλομάρτυς και των σύν αυτώ 2593; Τιμόθεος\, Αγάπιος και θέκλα; Θεοφάνης ο Νέος; Μεθεόρτια της Κοιμήσεως; Ευτυχιανός και Στρατήγιος οι Μάρτυρες\nΑνάγνωσις Επιστολής: Β’ Κορινθ. 2:14-17\, 3:1-3\nΑδελφοί\, τω δε θεώ χάρις τω πάντοτε θριαμβεύοντι ημάς εν τω Χριστώ\, και την οσμήν της γνώσεως αυτού φανερούντι διʼ ημών εν παντί τόπω. Ότι Χριστού ευωδία εσμέν τω θεώ εν τοις σωζομένοις και εν τοις απολλυμένοις· οίς μέν οσμή θανάτου εις θάνατον\, οίς δε οσμή ζωής εις ζωήν. Και πρός ταύτα τις ικανός; Ου γαρ εσμεν ως οι λοιποί\, καπηλεύοντες τον λόγον του θεού· αλλʼ ως εξ ειλικρινείας\, αλλʼ ως εκ θεού\, κατενώπιον του θεού\, εν Χριστώ λαλούμεν. Αρχόμεθα πάλιν εαυτούς συνιστάνειν; Ει μή χρῄζομεν\, ώς τινες\, συστατικών επιστολών πρός υμάς\, ή εξ υμών συστατικών; Η επιστολή ημών υμείς εστέ\, εγγεγραμμένη εν ταις καρδίαις ημών\, γινωσκομένη και αναγινωσκομένη υπό πάντων ανθρώπων· φανερούμενοι ότι εστέ επιστολή Χριστού διακονηθείσα υφʼ ημών\, εγγεγραμμένη ου μέλανι\, αλλά πνεύματι θεού ζώντος\, ουκ εν πλαξίν λιθίναις\, αλλʼ εν πλαξίν καρδίαις σαρκίναις.\nΑνάγνωσις Ευαγγελίου: Κατά Ματθαίον  23:23-28\nΕίπεν ο Κύριος πρός τους εληλυθότας πρός αυτόν Ιουδαίους· Ουαί υμίν\, γραμματείς και Φαρισαίοι υποκριταί\, ότι αποδεκατούτε το ηδύοσμον και το άνηθον και το κύμινον\, και αφήκατε τα βαρύτερα του νόμου\, την κρίσιν και τον έλεον και την πίστιν· ταύτα δε έδει ποιήσαι κακείνα μή αφιέναι. οδηγοί τυφλοί\, οι διϋλίζοντες τον κώνωπα\, την δε κάμηλον καταπίνοντες! Ουαί υμίν\, γραμματείς και Φαρισαίοι υποκριταί\, ότι καθαρίζετε το έξωθεν του ποτηρίου και της παροψίδος\, έσωθεν δε γέμουσιν εξ αρπαγής και αδικίας. Φαρισαίε τυφλέ\, καθάρισον πρώτον το εντός του ποτηρίου και της παροψίδος\, ίνα γένηται και το εκτός αυτών καθαρόν. Ουαί υμίν\, γραμματείς και Φαρισαίοι υποκριταί\, ότι παρομοιάζετε τάφοις κεκονιαμένοις\, οίτινες έξωθεν μέν φαίνονται ωραίοι\, έσωθεν δε γέμουσιν οστέων νεκρών και πάσης ακαθαρσίας.
URL:https://2033.ad/event/%ce%b1%ce%bd%ce%b4%cf%81%ce%ad%ce%b1%cf%82-%cf%83%cf%84%cf%81%ce%b1%cf%84%ce%b7%ce%bb%ce%ac%cf%84%ce%b7%cf%82-%ce%bc%ce%b5%ce%b3%ce%b1%ce%bb%ce%bf%ce%bc%ce%ac%cf%81%cf%84%cf%85%cf%82-%ce%ba%ce%b1/
END:VEVENT
END:VCALENDAR