BEGIN:VCALENDAR
VERSION:2.0
PRODID:-//Holy Trinity Greek Orthodox Church - ECPv6.15.20//NONSGML v1.0//EN
CALSCALE:GREGORIAN
METHOD:PUBLISH
X-ORIGINAL-URL:https://2033.ad
X-WR-CALDESC:Events for Holy Trinity Greek Orthodox Church
REFRESH-INTERVAL;VALUE=DURATION:PT1H
X-Robots-Tag:noindex
X-PUBLISHED-TTL:PT1H
BEGIN:VTIMEZONE
TZID:UTC
BEGIN:STANDARD
TZOFFSETFROM:+0000
TZOFFSETTO:+0000
TZNAME:UTC
DTSTART:20240101T000000
END:STANDARD
END:VTIMEZONE
BEGIN:VTIMEZONE
TZID:America/New_York
BEGIN:DAYLIGHT
TZOFFSETFROM:-0500
TZOFFSETTO:-0400
TZNAME:EDT
DTSTART:20240310T070000
END:DAYLIGHT
BEGIN:STANDARD
TZOFFSETFROM:-0400
TZOFFSETTO:-0500
TZNAME:EST
DTSTART:20241103T060000
END:STANDARD
BEGIN:DAYLIGHT
TZOFFSETFROM:-0500
TZOFFSETTO:-0400
TZNAME:EDT
DTSTART:20250309T070000
END:DAYLIGHT
BEGIN:STANDARD
TZOFFSETFROM:-0400
TZOFFSETTO:-0500
TZNAME:EST
DTSTART:20251102T060000
END:STANDARD
BEGIN:DAYLIGHT
TZOFFSETFROM:-0500
TZOFFSETTO:-0400
TZNAME:EDT
DTSTART:20260308T070000
END:DAYLIGHT
BEGIN:STANDARD
TZOFFSETFROM:-0400
TZOFFSETTO:-0500
TZNAME:EST
DTSTART:20261101T060000
END:STANDARD
END:VTIMEZONE
BEGIN:VEVENT
DTSTART;VALUE=DATE:20250814
DTEND;VALUE=DATE:20250815
DTSTAMP:20260422T055711
CREATED:20250309T164700Z
LAST-MODIFIED:20250309T164700Z
UID:26111-1755129600-1755215999@2033.ad
SUMMARY:Forefeast of the Dormition of our Most Holy Lady the Theotokos and Ever Virgin Mary
DESCRIPTION:Saints\, Feasts\, and Readings for 08/14/2025\nSaints and Feasts: Forefeast of the Dormition of our Most Holy Lady the Theotokos and Ever Virgin Mary; The Holy  Prophet Michaias (Micah); Holy Hieromartyr Marcellus\, Bishop of Apameia; Holy New Martyr Symeon of Trapezoundos (1653)\nStrict Fast\nEpistle Reading: II Corinthians 1:1-7\nPaul\, an apostle of Christ Jesus by the will of God and Timothy our brother.\nTo the church of God which is at Corinth\, with all the saints who are in the whole of Achaia:\nGrace to you and peace from God our Father and the Lord Jesus Christ.\nBlessed be the God and Father of our Lord Jesus Christ\, the Father of mercies and God of all comfort\, who comforts us in all our affliction\, so that we may be able to comfort those who are in any affliction\, with the comfort with which we ourselves are comforted by God. For as the sufferings of Christ abound for us\, so also our comfort abounds through Christ. If we are afflicted\, it is for your comfort and salvation; and if we are comforted\, it is for your comfort\, which you experience when you patiently endure the same sufferings that we suffer. Our hope for you is unshaken; for we know that as you share in our sufferings\, you all also share in our comfort.\nGospel Reading: Matthew 21:43-46\nThe Lord said to the Jews who had come to him: “I tell you\, the kingdom of God will be taken away from you and given to a nation producing the fruits of it. And he who falls on this stone will be broken to pieces; but when it falls on any one\, it will crush him.”\nWhen the chief priests and the Pharisees heard his parables\, they perceived that he was speaking about them. But when they tried to arrest him\, they feared the multitudes\, because they held him to be a prophet.
URL:https://2033.ad/event/forefeast-of-the-dormition-of-our-most-holy-lady-the-theotokos-and-ever-virgin-mary/
END:VEVENT
BEGIN:VEVENT
DTSTART;VALUE=DATE:20250814
DTEND;VALUE=DATE:20250815
DTSTAMP:20260422T055711
CREATED:20250309T164803Z
LAST-MODIFIED:20250309T164803Z
UID:26318-1755129600-1755215999@2033.ad
SUMMARY:Προεόρτια Κοιμήσεως της Θεοτόκου
DESCRIPTION:Άγιοι\, εορταί\, και Αναγνώσεις – Πέμπτη\, 14 Αυγούστου 2025\nΆγιοι και εορταί: Προεόρτια Κοιμήσεως της Θεοτόκου; Μιχαίας Προφήτης; Μάρτυρος Μαρκέλλου επισκόπου Απαμείας Συρίας; Νεομάρτυρος Συμεώνος του Τραπεζουντίου (+1653)\nΑυστηρή Νηστεία\nΑνάγνωσις Επιστολής: Β’ Κορινθ. 1:1-7\nΠαύλος απόστολος Ιησού Χριστού διά θελήματος θεού\, και Τιμόθεος ο αδελφός\, τη εκκλησία του θεού τη ούση εν Κορίνθω\, σύν τοις αγίοις πάσιν τοις ούσιν εν όλη τη Αχαΐα· χάρις υμίν και ειρήνη από θεού πατρός ημών και κυρίου Ιησού Χριστού. Ευλογητός ο θεός και πατήρ του κυρίου ημών Ιησού Χριστού\, ο πατήρ των οικτιρμών και θεός πάσης παρακλήσεως\, ο παρακαλών ημάς επί πάση τη θλίψει ημών\, εις το δύνασθαι ημάς παρακαλείν τους εν πάση θλίψει\, διά της παρακλήσεως ής παρακαλούμεθα αυτοί υπό του θεού. ότι καθώς περισσεύει τα παθήματα του Χριστού εις ημάς\, ούτως διά του Χριστού περισσεύει και η παράκλησις ημών. Είτε δε θλιβόμεθα\, υπέρ της υμών παρακλήσεως και σωτηρίας\, της ενεργουμένης εν υπομονή των αυτών παθημάτων ών και ημείς πάσχομεν· και η ελπίς ημών βεβαία υπέρ υμών· είτε παρακαλούμεθα\, υπέρ της υμών παρακλήσεως και σωτηρίας· ειδότες ότι ώσπερ κοινωνοί εστε των παθημάτων\, ούτως και της παρακλήσεως.\nΑνάγνωσις Ευαγγελίου: Κατά Ματθαίον 21:43-46\nΕίπεν ο Κύριος πρός τους εληλυθότας πρός αυτόν Ιουδαίους· Λέγω υμίν ότι αρθήσεται αφ᾿ υμών η βασιλεία του Θεού και δοθήσεται έθνει ποιούντι τους καρπούς αυτής· και ο πεσών επί τον λίθον τούτον συνθλασθήσεται· εφ᾿ όν δ᾿ άν πέση\, λικμήσει αυτόν. και ακούσαντες οι αρχιερείς και οι Φαρισαίοι τάς παραβολάς αυτού έγνωσαν ότι περί αυτών λέγει· και ζητούντες αυτόν κρατήσαι εφοβήθησαν τους όχλους\, επειδή ως προφήτην αυτόν είχον.
URL:https://2033.ad/event/%cf%80%cf%81%ce%bf%ce%b5%cf%8c%cf%81%cf%84%ce%b9%ce%b1-%ce%ba%ce%bf%ce%b9%ce%bc%ce%ae%cf%83%ce%b5%cf%89%cf%82-%cf%84%ce%b7%cf%82-%ce%b8%ce%b5%ce%bf%cf%84%cf%8c%ce%ba%ce%bf%cf%85/
END:VEVENT
BEGIN:VEVENT
DTSTART;TZID=America/New_York:20250814T063000
DTEND;TZID=America/New_York:20250814T100000
DTSTAMP:20260422T055711
CREATED:20250425T023809Z
LAST-MODIFIED:20250425T023809Z
UID:27078-1755153000-1755165600@2033.ad
SUMMARY:Private Rental
DESCRIPTION:
URL:https://2033.ad/event/private-rental-47/
LOCATION:Matheos hall
END:VEVENT
BEGIN:VEVENT
DTSTART;TZID=America/New_York:20250814T130000
DTEND;TZID=America/New_York:20250814T140000
DTSTAMP:20260422T055711
CREATED:20250425T023809Z
LAST-MODIFIED:20250425T023809Z
UID:27079-1755176400-1755180000@2033.ad
SUMMARY:Bible Study
DESCRIPTION:
URL:https://2033.ad/event/bible-study-22/
END:VEVENT
BEGIN:VEVENT
DTSTART;TZID=America/New_York:20250814T180000
DTEND;TZID=America/New_York:20250814T190000
DTSTAMP:20260422T055711
CREATED:20250425T023809Z
LAST-MODIFIED:20250425T023809Z
UID:27080-1755194400-1755198000@2033.ad
SUMMARY:Great Vespers
DESCRIPTION:Join with Google Meet: https://meet.google.com/zvp-zgsi-cmy\nLearn more about Meet at: https://support.google.com/a/users/answer/9282720
URL:https://2033.ad/event/great-vespers-3/
END:VEVENT
END:VCALENDAR