BEGIN:VCALENDAR
VERSION:2.0
PRODID:-//Holy Trinity Greek Orthodox Church - ECPv6.15.20//NONSGML v1.0//EN
CALSCALE:GREGORIAN
METHOD:PUBLISH
X-ORIGINAL-URL:https://2033.ad
X-WR-CALDESC:Events for Holy Trinity Greek Orthodox Church
REFRESH-INTERVAL;VALUE=DURATION:PT1H
X-Robots-Tag:noindex
X-PUBLISHED-TTL:PT1H
BEGIN:VTIMEZONE
TZID:UTC
BEGIN:STANDARD
TZOFFSETFROM:+0000
TZOFFSETTO:+0000
TZNAME:UTC
DTSTART:20240101T000000
END:STANDARD
END:VTIMEZONE
BEGIN:VEVENT
DTSTART;VALUE=DATE:20250812
DTEND;VALUE=DATE:20250813
DTSTAMP:20260422T062052
CREATED:20250309T164700Z
LAST-MODIFIED:20250309T164700Z
UID:26109-1754956800-1755043199@2033.ad
SUMMARY:The Holy Martyrs Photius and Anicetus of Nicomedia
DESCRIPTION:Saints\, Feasts\, and Readings for 08/12/2025\nSaints and Feasts: The Holy Martyrs Photius and Anicetus of Nicomedia; Sergios\, Stephen and Kastor; Palamon\, Elder of Saint Pachomius the Great; Soldier-martyrs of Crete; Afterfeast of the Transfiguration of our Lord and Savior Jesus Christ\nStrict Fast\nEpistle Reading: I Corinthians 15:29-38\nBrethren\, what do people mean by being baptized on behalf of the dead? If the dead are not raised at all\, why are people baptized on their behalf? Why am I in peril every hour? I protest\, brethren\, by my pride in you which I have in Christ Jesus our Lord\, I die every day! What do I gain if\, humanly speaking\, I fought with beasts at Ephesos? If the dead are not raised\, “Let us eat and drink\, for tomorrow we die.” Do not be deceived: “Bad company ruins good morals.” Come to your right mind\, and sin no more. For some have no knowledge of God. I say this to your shame. But some one will ask\, “How are the dead raised? With what kind of body do they come?” You foolish man! What you sow does not come to life unless it dies. And what you sow is not the body which is to be\, but a bare kernel\, perhaps of wheat or some other grain. But God gives it a body as he has chosen\, and to each kind of seed its own body.\nGospel Reading: Matthew 21:23-27\nAt that time\, when Jesus entered the temple\, the chief priests and the elders of the people came up to him as he was teaching\, and said\, “By what authority are you doing these things\, and who gave you this authority?” Jesus answered them\, “I also will ask you a question; and if you tell me the answer\, then I also will tell you by what authority I do these things. The baptism of John\, whence was it? From heaven or from men?” And they argued with one another\, “If we say\, ‘From heaven\,’ he will say to us\, ‘Why then did you not believe him?’ But if we say\, ‘From men\,’ we are afraid of the multitude; for all hold that John was a prophet.” So they answered Jesus\, “We do not know.” And he said to them\, “Neither will I tell you by what authority I do these things.”
URL:https://2033.ad/event/the-holy-martyrs-photius-and-anicetus-of-nicomedia/
END:VEVENT
BEGIN:VEVENT
DTSTART;VALUE=DATE:20250812
DTEND;VALUE=DATE:20250813
DTSTAMP:20260422T062052
CREATED:20250309T164803Z
LAST-MODIFIED:20250309T164803Z
UID:26316-1754956800-1755043199@2033.ad
SUMMARY:Φώτιος και Ανίκητος Μάρτυρες
DESCRIPTION:Άγιοι\, εορταί\, και Αναγνώσεις – Τρίτη\, 12 Αυγούστου 2025\nΆγιοι και εορταί: Φώτιος και Ανίκητος Μάρτυρες; Σέργιος\, Στέφανος και Κάστωρ; Παλάμων; 12 Στρατιώται μάρτυρες εκ Κρήτης; Μεθεόρτια της Μεταμορφώσεως\nΑυστηρή Νηστεία\nΑνάγνωσις Επιστολής: Α’ Κορινθ. 15:29-38\nΑδελφοί\, τί ποιήσουσιν οι βαπτιζόμενοι υπέρ των νεκρών; Ει όλως νεκροί ουκ εγείρονται\, τί και βαπτίζονται υπέρ των νεκρών; Τί και ημείς κινδυνεύομεν πάσαν ώραν; Καθʼ ημέραν αποθνῄσκω\, νή την υμετέραν καύχησιν\, ήν έχω εν Χριστώ Ιησού τω κυρίω ημών. Ει κατά άνθρωπον εθηριομάχησα εν Εφέσω\, τί μοι το όφελος\, ει νεκροί ουκ εγείρονται\, Φάγωμεν και πίωμεν\, αύριον γαρ αποθνῄσκομεν. Μή πλανάσθε· Φθείρουσιν ήθη χρηστά ομιλίαι κακαί. Εκνήψατε δικαίως και μή αμαρτάνετε· αγνωσίαν γαρ θεού τινές έχουσιν· πρός εντροπήν υμίν λέγω. Αλλʼ ερεί τις\, Πώς εγείρονται οι νεκροί; Ποίω δε σώματι έρχονται; Άφρον\, σύ ό σπείρεις\, ου ζωοποιείται εάν μή αποθάνη· και ό σπείρεις\, ου το σώμα το γενησόμενον σπείρεις\, αλλά γυμνόν κόκκον\, ει τύχοι\, σίτου ή τινος των λοιπών· ο δε θεός αυτώ δίδωσιν σώμα καθώς ηθέλησεν\, και εκάστω των σπερμάτων το ίδιον σώμα.\nΑνάγνωσις Ευαγγελίου: Κατά Ματθαίον 21:23-27\nΤω καιρώ εκείνω\, ελθόντι αυτώ εις το ιερόν προσήλθον αυτώ διδάσκοντι οι αρχιερείς και οι πρεσβύτεροι του λαού λέγοντες· εν ποία εξουσία ταύτα ποιείς\, και τίς σοι έδωκε την εξουσίαν ταύτην; αποκριθείς δε ο ᾿Ιησούς είπεν αυτοίς· ερωτήσω υμάς καγώ λόγον ένα\, όν εάν είπητέ μοι\, καγώ υμίν ερώ εν ποία εξουσία ταύτα ποιώ. το βάπτισμα ᾿Ιωάννου πόθεν ήν\, εξ ουρανού ή εξ ανθρώπων; οι δε διελογίζοντο παρ᾿ εαυτοίς λέγοντες· εάν είπωμεν\, εξ ουρανού\, ερεί ημίν\, διατί ούν ουκ επιστεύσατε αυτώ· εάν δε είπωμεν\, εξ ανθρώπων\, φοβούμεθα τον όχλον· πάντες γαρ έχουσι τον ᾿Ιωάννην ως προφήτην. και αποκριθέντες τω ᾿Ιησού είπον· ουκ οίδαμεν. έφη αυτοίς και αυτός· ουδέ εγώ λέγω υμίν εν ποία εξουσία ταύτα ποιώ.
URL:https://2033.ad/event/%cf%86%cf%8e%cf%84%ce%b9%ce%bf%cf%82-%ce%ba%ce%b1%ce%b9-%ce%b1%ce%bd%ce%af%ce%ba%ce%b7%cf%84%ce%bf%cf%82-%ce%bc%ce%ac%cf%81%cf%84%cf%85%cf%81%ce%b5%cf%82/
END:VEVENT
END:VCALENDAR