BEGIN:VCALENDAR
VERSION:2.0
PRODID:-//Holy Trinity Greek Orthodox Church - ECPv6.15.20//NONSGML v1.0//EN
CALSCALE:GREGORIAN
METHOD:PUBLISH
X-WR-CALNAME:Holy Trinity Greek Orthodox Church
X-ORIGINAL-URL:https://2033.ad
X-WR-CALDESC:Events for Holy Trinity Greek Orthodox Church
REFRESH-INTERVAL;VALUE=DURATION:PT1H
X-Robots-Tag:noindex
X-PUBLISHED-TTL:PT1H
BEGIN:VTIMEZONE
TZID:UTC
BEGIN:STANDARD
TZOFFSETFROM:+0000
TZOFFSETTO:+0000
TZNAME:UTC
DTSTART:20240101T000000
END:STANDARD
END:VTIMEZONE
BEGIN:VEVENT
DTSTART;VALUE=DATE:20250809
DTEND;VALUE=DATE:20250810
DTSTAMP:20260422T114246
CREATED:20250309T164700Z
LAST-MODIFIED:20250309T164700Z
UID:26108-1754697600-1754783999@2033.ad
SUMMARY:The Holy Apostle Matthias
DESCRIPTION:Saints\, Feasts\, and Readings for 08/09/2025\nSaints and Feasts: The Holy Apostle Matthias  ; Constantine\, Patriarch of Constantinople; Euthymios the Hieromartyr\, Metropolitan of Rhodes; Afterfeast of the Transfiguration of our Lord and Savior Jesus Christ; Anthony the Martyr of Alexandria\nFast Day (Wine and Oil Allowed)\nEpistle Reading: Acts 1:12-17\, 21-26\nIn those days\, the apostles returned to Jerusalem from the mount called Olivet\, which is near Jerusalem\, a sabbath day’s journey away; and when they had entered\, they went up to the upper room\, where they were staying\, Peter and John and James and Andrew\, Philip and Thomas\, Bartholomew and Matthew\, James the son of Alphaios and Simon the Zealot and Judas the son of James. All these with one accord devoted themselves to prayer\, together with the women and Mary the mother of Jesus\, and with his brothers.\nIn those days Peter stood up among the brethren (the company of persons was in all about a hundred and twenty)\, and said\, “Brethren\, the scripture had to be fulfilled\, which the Holy Spirit spoke beforehand by the mouth of David\, concerning Judas who was guide to those who arrested Jesus. For he was numbered among us\, and was allotted his share in this ministry. “So one of the men who have accompanied us during all the time that the Lord Jesus went in and out among us\, beginning from the baptism of John until the day when he was taken up from us — one of these men must become with us a witness to his resurrection.”\nAnd they put forward two\, Joseph called Barsabbas\, who was surnamed Justos\, and Matthias. And they prayed and said\, “Lord\, who knowest the hearts of all men\, show which one of these two thou hast chosen to take the place in this ministry and apostleship from which Judas turned aside\, to go to his own place.” And they cast lots for them\, and the lot fell on Matthias; and he was enrolled with the eleven apostles.\nGospel Reading: Matthew 15:32-39\nAt that time\, Jesus called his disciples to him and said\, “I have compassion on the crowd\, because they have been with me now three days\, and have nothing to eat; and I am unwilling to send them away hungry\, lest they faint on the way.” And the disciples said to him\, “Where are we to get bread enough in the desert to feed so great a crowd?” And Jesus said to them\, “How many loaves have you?” They said\, “Seven\, and a few small fish.” And commanding the crowd to sit down on the ground\, he took the seven loaves and the fish\, and having given thanks he broke them and gave them to the disciples\, and the disciples gave them to the crowds. And they all ate and were satisfied; and they took up seven baskets full of the broken pieces left over. Those who ate were four thousand men\, besides women and children. And sending away the crowds\, he got into the boat and went to the region of Magadan.
URL:https://2033.ad/event/the-holy-apostle-matthias/
END:VEVENT
BEGIN:VEVENT
DTSTART;VALUE=DATE:20250809
DTEND;VALUE=DATE:20250810
DTSTAMP:20260422T114246
CREATED:20250309T164803Z
LAST-MODIFIED:20250309T164803Z
UID:26315-1754697600-1754783999@2033.ad
SUMMARY:Απόστολος Ματθίας
DESCRIPTION:Άγιοι\, εορταί\, και Αναγνώσεις – Σάββατο\, 9 Αυγούστου 2025\nΆγιοι και εορταί: Απόστολος Ματθίας ; Κωνσταντίνος\, Πατριάρχης Κωνσταντινουπόλεως; Ιερομάρτυρος Ευθύμιος\, Μητροπολίτος Ρόδου; Μεθεόρτια της Μεταμορφώσεως; Αντώνιος Αλεξανδρείας\nΗμέρα Νηστείας (Κατάλυσις οίνου και ελαίου)\nΑνάγνωσις Επιστολής: Πράξ. 1:12-17\, 21-26\nΕν ταις ημεραίς εκείναις\, υπέστρεψαν εις Ιερουσαλήμ από όρους του καλουμένου Ελαιώνος\, ό εστιν εγγύς Ιερουσαλήμ\, σαββάτου έχον οδόν. Και ότε εισήλθον\, ανέβησαν εις το υπερώον ού ήσαν καταμένοντες\, ό τε Πέτρος και Ιάκωβος και Ιωάννης και Ανδρέας\, Φίλιππος και Θωμάς\, Βαρθολομαίος και Ματθαίος\, Ιάκωβος Αλφαίου και Σίμων ο Ζηλωτής\, και Ιούδας Ιακώβου. Ούτοι πάντες ήσαν προσκαρτερούντες ομοθυμαδόν τη προσευχή και τη δεήσει\, σύν γυναιξίν και Μαρία τη μητρί του Ιησού\, και σύν τοις αδελφοίς αυτού. Και εν ταις ημέραις ταύταις αναστάς Πέτρος εν μέσω των μαθητών είπεν – ήν τε όχλος ονομάτων επί το αυτό ως εκατόν είκοσι – Άνδρες αδελφοί\, έδει πληρωθήναι την γραφήν ταύτην\, ήν προείπεν το πνεύμα το άγιον διά στόματος Δαυίδ περί Ιούδα\, του γενομένου οδηγού τοις συλλαβούσιν τον Ιησούν. Ότι κατηριθμημένος ήν σύν ημίν\, και έλαχεν τον κλήρον της διακονίας ταύτης. Δεί ούν των συνελθόντων ημίν ανδρών εν παντί χρόνω εν ώ εισήλθεν και εξήλθεν εφʼ ημάς ο κύριος Ιησούς\, αρξάμενος από του βαπτίσματος Ιωάννου\, έως της ημέρας ής ανελήφθη αφʼ ημών\, μάρτυρα της αναστάσεως αυτού γενέσθαι σύν ημίν ένα τούτων. Και έστησαν δύο\, Ιωσήφ τον καλούμενον Βαρσαβάν\, ός επεκλήθη Ιούστος\, και Ματθίαν. Και προσευξάμενοι είπον\, Σύ κύριε καρδιογνώστα πάντων\, ανάδειξον όν εξελέξω\, εκ τούτων των δύο ένα λαβείν τον κλήρον της διακονίας ταύτης και αποστολής\, εξ ής παρέβη Ιούδας\, πορευθήναι εις τον τόπον τον ίδιον. Και έδωκαν κλήρους αυτών\, και έπεσεν ο κλήρος επί Ματθίαν\, και συγκατεψηφίσθη μετά των ένδεκα αποστόλων.\nΑνάγνωσις Ευαγγελίου: Κατά Ματθαίον 15:32-39\nΤω καιρώ εκείνω\, προσκαλεσάμενος ῾Ο᾿Ιησούς τους μαθητάς αυτού είπε· σπλαγχνίζομαι επί τον όχλον\, ότι ήδη ημέραι τρείς προσμένουσί μοι και ουκ έχουσι τί φάγωσι· και απολύσαι αυτούς νήστεις ου θέλω\, μήποτε εκλυθώσιν εν τη οδώ. και λέγουσιν αυτώ οι μαθηταί αυτού· πόθεν ημίν εν ερημία άρτοι τοσούτοι ώστε χορτάσαι όχλον τοσούτον; και λέγει αυτοίς ο ᾿Ιησούς· πόσους άρτους έχετε; οι δε είπον· επτά\, και ολίγα ιχθύδια. και εκέλευσε τοις όχλοις αναπεσείν επί την γήν. και λαβών τους επτά άρτους και τους ιχθύας\, ευχαριστήσας έκλασε και έδωκε τοις μαθηταίς αυτού\, οι δε μαθηταί τοις όχλοις. και έφαγον πάντες και εχορτάσθησαν\, και ήραν το περισσεύον των κλασμάτων επτά σπυρίδας πλήρεις· οι δε εσθίοντες ήσαν τετρακισχίλιοι άνδρες χωρίς γυναικών και παιδίων. και απολύσας τους όχλους ανέβη εις το πλοίον και ήλθεν εις τα όρια Μαγδαλά.
URL:https://2033.ad/event/%ce%b1%cf%80%cf%8c%cf%83%cf%84%ce%bf%ce%bb%ce%bf%cf%82-%ce%bc%ce%b1%cf%84%ce%b8%ce%af%ce%b1%cf%82/
END:VEVENT
END:VCALENDAR