BEGIN:VCALENDAR
VERSION:2.0
PRODID:-//Holy Trinity Greek Orthodox Church - ECPv6.15.20//NONSGML v1.0//EN
CALSCALE:GREGORIAN
METHOD:PUBLISH
X-ORIGINAL-URL:https://2033.ad
X-WR-CALDESC:Events for Holy Trinity Greek Orthodox Church
REFRESH-INTERVAL;VALUE=DURATION:PT1H
X-Robots-Tag:noindex
X-PUBLISHED-TTL:PT1H
BEGIN:VTIMEZONE
TZID:UTC
BEGIN:STANDARD
TZOFFSETFROM:+0000
TZOFFSETTO:+0000
TZNAME:UTC
DTSTART:20240101T000000
END:STANDARD
END:VTIMEZONE
BEGIN:VEVENT
DTSTART;VALUE=DATE:20250808
DTEND;VALUE=DATE:20250809
DTSTAMP:20260422T055724
CREATED:20250309T164659Z
LAST-MODIFIED:20250309T164659Z
UID:26105-1754611200-1754697599@2033.ad
SUMMARY:Emilian the Confessor & Bishop of Cyzikos
DESCRIPTION:Saints\, Feasts\, and Readings for 08/08/2025\nSaints and Feasts: Emilian the Confessor & Bishop of Cyzikos; Our Holy Father Myronus the Wonderworker\, Bishop of Crete; Holy New Martyrs Triantaphillus of Zagoras and Anastasius of Thessolonica; Gregory of Sinai and Mount Athos; Kallinikos\, Metropolitan of Edessa and Pella; Afterfeast of the Transfiguration of our Lord and Savior Jesus Christ; Anastatios the Martyr from Bulgaria\nStrict Fast\nEpistle Reading: I Corinthians 14:26-40\nBRETHREN\, when you come together\, each one has a hymn\, a lesson\, a revelation\, a tongue\, or an interpretation. Let all things be done for edification. If any speak in a tongue\, let there be only two or at most three\, and each in turn; and let one interpret. But if there is no one to interpret\, let each one of them keep silence in church and speak to himself and to God. Let two or three prophets speak\, and let the others weigh what is said. If a revelation is made to another by sitting by\, let the first be silent. For you can all prophesy one by one\, so that all may learn and all be encouraged; and the spirits of prophets are subject to prophets. But God is not a God of confusion but of peace. As in all the churches of the saints\, the women should keep silence in the churches. For they are not permitted to speak\, but should be subordinate\, as even the law says. If there is anything they desire to know\, let them ask their husbands at home. For it is shameful for a woman to speak in church. What! Did the word of God originate with you\, or are you the only one it has reached? If any one thinks that he is a prophet\, or spiritual\, he should acknowledge that what I am writing to you is a command of the Lord. If any one does not recognize this\, he is not recognized. So\, my brethren\, earnestly desire to prophesy\, and do not forbid speaking in tongues; but all things should be done decently and in order.\nGospel Reading: Matthew 21:12-14; 17-20\nAt that time\, Jesus entered the temple of God and drove out all who sold and bought in the temple\, and he overturned the tables of the moneychangers and the seats of those who sold pigeons. He said to them\, “It is written\, ‘My house shall be called a house of prayer’; but you make it a den of robbers.” And the blind and the lame came to him in the temple\, and he healed them. And leaving them\, he went out of the city to Bethany and lodged there.\nIn the morning\, as he was returning to the city\, he was hungry. And seeing a fig tree by the wayside he went to it\, and found nothing on it but leaves only. And he said to it\, “May no fruit ever come from you again!” And the fig tree withered at once. When the disciples saw it they marveled\, saying\, “How did the fig tree wither at once?”
URL:https://2033.ad/event/emilian-the-confessor-bishop-of-cyzikos/
END:VEVENT
BEGIN:VEVENT
DTSTART;VALUE=DATE:20250808
DTEND;VALUE=DATE:20250809
DTSTAMP:20260422T055724
CREATED:20250309T164802Z
LAST-MODIFIED:20250309T164802Z
UID:26312-1754611200-1754697599@2033.ad
SUMMARY:Αιμιλιανός ο Ομολογητής Επίσκοπος Κύζικος
DESCRIPTION:Άγιοι\, εορταί\, και Αναγνώσεις – Παρασκευή\, 8 Αυγούστου 2025\nΆγιοι και εορταί: Αιμιλιανός ο Ομολογητής Επίσκοπος Κύζικος; Μύρων Επίσκοπος Κρήτης; Νεομαρτύρων Τριαντάφυλλου\, του από Ζαγοράς και Αναστασίου (Βουλγάρου)\, του εν Θεσ/νίκη; Γρηγόριος του Σινά και του Αγίου Όρους; Καλλινίκου\, Μητροπολίτου Εδέσσης και Πέλλης; Μεθεόρτια της Μεταμορφώσεως; Αναστάσιος ο Μάρτυρας από τη Βουλγαρία\nΑυστηρή Νηστεία\nΑνάγνωσις Επιστολής: Α’ Κορινθ. 14:26-40\nΑδελφοί\, όταν συνέρχησθε\, έκαστος υμών ψαλμόν έχει\, διδαχήν έχει\, γλώσσαν έχει\, αποκάλυψιν έχει\, ερμηνείαν έχει. Πάντα πρός οικοδομήν γινέσθω. Είτε γλώσση τις λαλεί\, κατά δύο ή το πλείστον τρείς\, και ανά μέρος\, και εις διερμηνευέτω· εάν δε μή ᾖ διερμηνευτής\, σιγάτω εν εκκλησία· εαυτώ δε λαλείτω και τω θεώ. Προφήται δε δύο ή τρείς λαλείτωσαν\, και οι άλλοι διακρινέτωσαν. Εάν δε άλλω αποκαλυφθή καθημένω\, ο πρώτος σιγάτω. Δύνασθε γαρ καθʼ ένα πάντες προφητεύειν\, ίνα πάντες μανθάνωσιν\, και πάντες παρακαλώνται· και πνεύματα προφητών προφήταις υποτάσσεται. Ου γαρ εστιν ακαταστασίας ο θεός\, αλλά ειρήνης\, ως εν πάσαις ταις εκκλησίαις των αγίων. Αι γυναίκες υμών εν ταις εκκλησίαις σιγάτωσαν· ου γαρ επιτέτραπται αυταίς λαλείν\, αλλʼ υποτάσσεσθαι\, καθώς και ο νόμος λέγει. Ει δε τι μαθείν θέλουσιν\, εν οίκω τους ιδίους άνδρας επερωτάτωσαν· αισχρόν γαρ εστιν γυναιξίν εν εκκλησία λαλείν. Ή αφʼ υμών ο λόγος του θεού εξήλθεν; Ή εις υμάς μόνους κατήντησεν; Ει τις δοκεί προφήτης είναι ή πνευματικός\, επιγινωσκέτω ά γράφω υμίν\, ότι κυρίου εισίν εντολαί. Ει δε τις αγνοεί\, αγνοέιτω. Ώστε\, αδελφοί\, ζηλούτε το προφητεύειν\, και το λαλείν γλώσσαις μή κωλύετε· πάντα ευσχημόνως και κατά τάξιν γινέσθω.\nΑνάγνωσις Ευαγγελίου: Κατά Ματθαίον 21:12-14\, 17-20\nΤω καιρώ εκείνω\, εισήλθεν ο ᾿Ιησούς εις το ιερόν του Θεού\, και εξέβαλε πάντας τους πωλούντας και αγοράζοντας εν τω ιερώ\, και τάς τραπέζας των κολλυβιστών κατέστρεψε και τάς καθέδρας των πωλούντων τάς περιστεράς\, και λέγει αυτοίς· γέγραπται\, ο οίκός μου οίκος προσευχής κληθήσεται· υμείς δε αυτόν εποιήσατε σπήλαιον ληστών. Και προσήλθον αυτώ χωλοί και τυφλοί εν τω ιερώ και εθεράπευσεν αυτούς. και καταλιπών αυτούς εξήλθεν έξω της πόλεως εις Βηθανίαν και ηυλίσθη εκεί. Πρωΐας δε επανάγων εις την πόλιν επείνασε· και ιδών συκήν μίαν επί της οδού ήλθεν επ᾿ αυτήν\, και ουδέν εύρεν εν αυτή ει μή φύλλα μόνον\, και λέγει αυτή· μηκέτι εκ σού καρπός γένηται εις τον αιώνα. και εξηράνθη παραχρήμα η συκή. και ιδόντες οι μαθηταί εθαύμασαν λέγοντες· πώς παραχρήμα εξηράνθη η συκή;
URL:https://2033.ad/event/%ce%b1%ce%b9%ce%bc%ce%b9%ce%bb%ce%b9%ce%b1%ce%bd%cf%8c%cf%82-%ce%bf-%ce%bf%ce%bc%ce%bf%ce%bb%ce%bf%ce%b3%ce%b7%cf%84%ce%ae%cf%82-%ce%b5%cf%80%ce%af%cf%83%ce%ba%ce%bf%cf%80%ce%bf%cf%82-%ce%ba%cf%8d/
END:VEVENT
END:VCALENDAR