BEGIN:VCALENDAR
VERSION:2.0
PRODID:-//Holy Trinity Greek Orthodox Church - ECPv6.15.20//NONSGML v1.0//EN
CALSCALE:GREGORIAN
METHOD:PUBLISH
X-WR-CALNAME:Holy Trinity Greek Orthodox Church
X-ORIGINAL-URL:https://2033.ad
X-WR-CALDESC:Events for Holy Trinity Greek Orthodox Church
REFRESH-INTERVAL;VALUE=DURATION:PT1H
X-Robots-Tag:noindex
X-PUBLISHED-TTL:PT1H
BEGIN:VTIMEZONE
TZID:UTC
BEGIN:STANDARD
TZOFFSETFROM:+0000
TZOFFSETTO:+0000
TZNAME:UTC
DTSTART:20240101T000000
END:STANDARD
END:VTIMEZONE
BEGIN:VTIMEZONE
TZID:America/New_York
BEGIN:DAYLIGHT
TZOFFSETFROM:-0500
TZOFFSETTO:-0400
TZNAME:EDT
DTSTART:20240310T070000
END:DAYLIGHT
BEGIN:STANDARD
TZOFFSETFROM:-0400
TZOFFSETTO:-0500
TZNAME:EST
DTSTART:20241103T060000
END:STANDARD
BEGIN:DAYLIGHT
TZOFFSETFROM:-0500
TZOFFSETTO:-0400
TZNAME:EDT
DTSTART:20250309T070000
END:DAYLIGHT
BEGIN:STANDARD
TZOFFSETFROM:-0400
TZOFFSETTO:-0500
TZNAME:EST
DTSTART:20251102T060000
END:STANDARD
BEGIN:DAYLIGHT
TZOFFSETFROM:-0500
TZOFFSETTO:-0400
TZNAME:EDT
DTSTART:20260308T070000
END:DAYLIGHT
BEGIN:STANDARD
TZOFFSETFROM:-0400
TZOFFSETTO:-0500
TZNAME:EST
DTSTART:20261101T060000
END:STANDARD
END:VTIMEZONE
BEGIN:VEVENT
DTSTART;VALUE=DATE:20250807
DTEND;VALUE=DATE:20250808
DTSTAMP:20260422T073734
CREATED:20250309T164659Z
LAST-MODIFIED:20250309T164659Z
UID:26104-1754524800-1754611199@2033.ad
SUMMARY:Afterfeast of the Transfiguration of our Lord and Savior Jesus Christ
DESCRIPTION:Saints\, Feasts\, and Readings for 08/07/2025\nSaints and Feasts: Afterfeast of the Transfiguration of our Lord and Savior Jesus Christ; The Holy Righteous Martyr Dometius; Our Holy Father Nicanorus the Wonderworker; Theodosius the New; Joseph Gerontogiannis of Lithines Sitia; Sozon of Nicomedea; The Holy Ten Thousand Ascetics of Thebes; Narcissus the Hieromartyr of Jerusalem\nStrict Fast\nEpistle Reading: I Corinthians 14:6-19\nBrethren\, if I come to you speaking in tongues\, how shall I benefit you unless I bring you some revelation or knowledge or prophecy or teaching? If even lifeless instruments\, such as the flute or the harp\, do not give distinct notes\, how will any one know what is played? And if the bugle gives an indistinct sound\, who will get ready for battle? So with yourselves; if you in a tongue utter speech that is not intelligible\, how will any one know what is said? For you will be speaking into the air. There are doubtless many different languages in the world\, and none is without meaning; but if I do not know the meaning of the language\, I shall be a foreigner to the speaker and the speaker a foreigner to me. So with yourselves; since you are eager for manifestations of the Spirit\, strive to excell in building up the church. Therefore\, he who speaks in a tongue should pray for the power to interpret. For if I pray in a tongue\, my spirit prays but my mind is unfruitful. What am I to do? I will pray with spirit and I will sing with the mind also. Otherwise\, if you bless with the spirit\, how can any one in the position of an outsider say the “Amen” to your thanksgiving when he does not know what you are saying? For you may give thanks well enough\, but the other man is not edified. I thank God that I speak in tongues more than you all; nevertheless\, in church I would rather speak five words with my mind\, in order to instruct others\, than ten thousand words in a tongue.\nGospel Reading: Mark 9:2-9\nAt that time\, Jesus took with him Peter and James and John\, and led them up a high mountain apart by themselves; and he was transfigured before them\, and his garments became glistening\, intensely white\, as no fuller on earth could bleach them. And there appeared to them Elijah with Moses; and they were talking to Jesus. And Peter said to Jesus\, “Master\, it is well that we are here; let us make three booths\, one for you and one for Moses and one for Elijah.” For he did not know what to say\, for they were exceedingly afraid. And a cloud overshadowed them\, and a voice came out of the cloud\, “This is my beloved son; listen to him.” And suddenly\, looking around they no longer saw any one with them but Jesus only. And as they were coming down the mountain he charged them to tell no one what they had seen\, until the Son of man should have risen from the dead.
URL:https://2033.ad/event/afterfeast-of-the-transfiguration-of-our-lord-and-savior-jesus-christ/
END:VEVENT
BEGIN:VEVENT
DTSTART;VALUE=DATE:20250807
DTEND;VALUE=DATE:20250808
DTSTAMP:20260422T073735
CREATED:20250309T164802Z
LAST-MODIFIED:20250309T164802Z
UID:26311-1754524800-1754611199@2033.ad
SUMMARY:Μεθεόρτια της Μεταμορφώσεως
DESCRIPTION:Άγιοι\, εορταί\, και Αναγνώσεις – Πέμπτη\, 7 Αυγούστου 2025\nΆγιοι και εορταί: Μεθεόρτια της Μεταμορφώσεως; Δομέτιος Οσιομάρτυς; Νικάνωρ ο Θαυματουργός; Θεοδοσίου Οσίου; Ιωσήφ Γεροντόγιαννης\, ο εκ Λιθινών Σητείας; Μάρτυρος Σώζοντος του εκ Νικομηδείας; Των εν Θηβαΐδι Μυρίων (10.000) Ασκητών; Ναρκίσσου πατριάρχου Ιεροσολύμων\nΑυστηρή Νηστεία\nΑνάγνωσις Επιστολής: Α’ Κορινθ. 14:6-19\nΑδελφοί\, εάν έλθω πρός υμάς γλώσσαις λαλών\, τί υμάς ωφελήσω\, εάν μή υμίν λαλήσω ή εν αποκαλύψει\, ή εν γνώσει\, ή εν προφητεία ή εν διδαχή; Όμως τα άψυχα φωνήν διδόντα\, είτε αυλός\, είτε κιθάρα\, εάν διαστολήν τοις φθόγγοις μή διδώ\, πώς γνωσθήσεται το αυλούμενον ή το κιθαριζόμενον; Και γαρ εάν άδηλον φωνήν σάλπιγξ δώ\, τις παρασκευάσεται εις πόλεμον; Ούτως και υμείς διά της γλώσσης εάν μή εύσημον λόγον δώτε\, πώς γνωσθήσεται το λαλούμενον; Έσεσθε γαρ εις αέρα λαλούντες. Τοσαύτα\, ει τύχοι\, γένη φωνών εστίν εν κόσμω και ουδέν αυτών άφωνον. Εάν ούν μή ειδώ την δύναμιν της φωνής\, έσομαι τω λαλούντι βάρβαρος\, και ο λαλών εν εμοί βάρβαρος. Ούτως και υμείς\, επεί ζηλωταί εστε πνευμάτων\, πρός την οικοδομήν της εκκλησίας ζητείτε ίνα περισσεύητε. Διόπερ ο λαλών γλώσση προσευχέσθω ίνα διερμηνεύη. Εάν γαρ προσεύχωμαι γλώσση\, το πνεύμά μου προσεύχεται\, ο δε νούς μου άκαρπός εστιν. Τί ούν εστίν; Προσεύξομαι τω πνεύματι\, προσεύξομαι δε και τω νοΐ· ψαλώ τω πνεύματι\, ψαλώ δε και τω νοΐ. Επεί εάν ευλογήσης τω πνεύματι\, ο αναπληρών τον τόπον του ιδιώτου πώς ερεί το Αμήν επί τη σή ευχαριστία\, επειδή τί λέγεις ουκ οίδεν; Σύ μέν γαρ καλώς ευχαριστείς\, αλλʼ ο έτερος ουκ οικοδομείται. Ευχαριστώ τω θεώ μου\, πάντων υμών μάλλον γλώσσαις λαλών· αλλʼ εν εκκλησία θέλω πέντε λόγους διά του νοός μου λαλήσαι\, ίνα και άλλους κατηχήσω\, ή μυρίους λόγους εν γλώσση.\nΑνάγνωσις Ευαγγελίου: Κατά Μάρκον 9:2-9\nΤω καιρώ εκείνω\, παραλαμβάνει ο ᾿Ιησούς τον Πέτρον και τον ᾿Ιάκωβον και τον ᾿Ιωάννην και αναφέρει αυτούς εις όρος υψηλόν κατ᾿ ιδίαν μόνους· και μετεμορφώθη έμπροσθεν αυτών\, καί τα ιμάτια αυτού εγένετο στίλβοντα\, λευκά λίαν ως χιών\, οία γναφεύς επί της γής ου δύναται ούτω λευκάναι. καί ώφθη αυτοίς ᾿Ηλίας σύν Μωϋσεί\, και ήσαν συλλαλούντες τω ᾿Ιησού. και αποκριθείς ο Πέτρος λέγει τω ᾿Ιησού· ραββί\, καλόν εστιν ημάς ώδε είναι· και ποιήσωμεν σκηνάς τρείς\, σοί μίαν και Μωϋσεί μίαν και ᾿Ηλία μίαν. ου γαρ ᾔδει τί λαλήση· ήσαν γαρ έκφοβοι. καί εγένετο νεφέλη επισκιάζουσα αυτοίς\, και ήλθε φωνή εκ της νεφέλης λέγουσα· ούτός εστιν ο υιός μου ο αγαπητός· αυτού ακούετε. καί εξάπινα περιβλεψάμενοι ουκέτι ουδένα είδον\, αλλά τον ᾿Ιησούν μόνον μεθ᾿ εαυτών. καταβαινόντων δε αυτών από του όρους διεστείλατο αυτοίς ίνα μηδενί διηγήσωνται ά είδον\, ει μή όταν ο υιός του ανθρώπου εκ νεκρών αναστή.
URL:https://2033.ad/event/%ce%bc%ce%b5%ce%b8%ce%b5%cf%8c%cf%81%cf%84%ce%b9%ce%b1-%cf%84%ce%b7%cf%82-%ce%bc%ce%b5%cf%84%ce%b1%ce%bc%ce%bf%cf%81%cf%86%cf%8e%cf%83%ce%b5%cf%89%cf%82/
END:VEVENT
BEGIN:VEVENT
DTSTART;TZID=America/New_York:20250807T130000
DTEND;TZID=America/New_York:20250807T140000
DTSTAMP:20260422T073735
CREATED:20250425T023807Z
LAST-MODIFIED:20250425T023807Z
UID:27071-1754571600-1754575200@2033.ad
SUMMARY:Bible Study
DESCRIPTION:
URL:https://2033.ad/event/bible-study-21/
END:VEVENT
BEGIN:VEVENT
DTSTART;TZID=America/New_York:20250807T190000
DTEND;TZID=America/New_York:20250807T203000
DTSTAMP:20260422T073735
CREATED:20250425T023807Z
LAST-MODIFIED:20250425T023807Z
UID:27072-1754593200-1754598600@2033.ad
SUMMARY:Stewardship Committee Meeting
DESCRIPTION:
URL:https://2033.ad/event/stewardship-committee-meeting-5/
END:VEVENT
END:VCALENDAR