BEGIN:VCALENDAR
VERSION:2.0
PRODID:-//Holy Trinity Greek Orthodox Church - ECPv6.15.20//NONSGML v1.0//EN
CALSCALE:GREGORIAN
METHOD:PUBLISH
X-ORIGINAL-URL:https://2033.ad
X-WR-CALDESC:Events for Holy Trinity Greek Orthodox Church
REFRESH-INTERVAL;VALUE=DURATION:PT1H
X-Robots-Tag:noindex
X-PUBLISHED-TTL:PT1H
BEGIN:VTIMEZONE
TZID:UTC
BEGIN:STANDARD
TZOFFSETFROM:+0000
TZOFFSETTO:+0000
TZNAME:UTC
DTSTART:20240101T000000
END:STANDARD
END:VTIMEZONE
BEGIN:VTIMEZONE
TZID:America/New_York
BEGIN:DAYLIGHT
TZOFFSETFROM:-0500
TZOFFSETTO:-0400
TZNAME:EDT
DTSTART:20240310T070000
END:DAYLIGHT
BEGIN:STANDARD
TZOFFSETFROM:-0400
TZOFFSETTO:-0500
TZNAME:EST
DTSTART:20241103T060000
END:STANDARD
BEGIN:DAYLIGHT
TZOFFSETFROM:-0500
TZOFFSETTO:-0400
TZNAME:EDT
DTSTART:20250309T070000
END:DAYLIGHT
BEGIN:STANDARD
TZOFFSETFROM:-0400
TZOFFSETTO:-0500
TZNAME:EST
DTSTART:20251102T060000
END:STANDARD
BEGIN:DAYLIGHT
TZOFFSETFROM:-0500
TZOFFSETTO:-0400
TZNAME:EDT
DTSTART:20260308T070000
END:DAYLIGHT
BEGIN:STANDARD
TZOFFSETFROM:-0400
TZOFFSETTO:-0500
TZNAME:EST
DTSTART:20261101T060000
END:STANDARD
END:VTIMEZONE
BEGIN:VEVENT
DTSTART;VALUE=DATE:20250730
DTEND;VALUE=DATE:20250731
DTSTAMP:20260422T054119
CREATED:20250309T164657Z
LAST-MODIFIED:20250309T164657Z
UID:26096-1753833600-1753919999@2033.ad
SUMMARY:Silas\, Silvan\, Crescens\, Epenetus and Andronicus the Apostles of the 70
DESCRIPTION:Saints\, Feasts\, and Readings for 07/30/2025\nSaints and Feasts: Silas\, Silvan\, Crescens\, Epenetus and Andronicus the Apostles of the 70; Julitta of Caesaria\nStrict Fast\nEpistle Reading: Acts 15:35-41\nIN THOSE DAYS\, Paul and Barnabas remained in Antioch\, teaching and preaching the word of the Lord\, with many others also. And after some days Paul said to Barnabas\, “Come\, let us return and visit the brethren in every city where we proclaimed the word of the Lord\, and see how they are.” And Barnabas wanted to take with them John called Mark. But Paul thought best not to take with them one who had withdrawn from them in Pamphylia\, and had not gone with them to the work. And there arose a sharp contention\, so that they separated from each other; Barnabas took Mark with him and sailed away to Cyprus\, but Paul chose Silas and departed\, being commended by the brethren to the grace of the Lord. And he went through Syria and Cilicia\, strengthening the churches.\nGospel Reading: Matthew 16:20-24\nAt that time\, Jesus strictly charged the disciples to tell no one that he was the Christ. From that time Jesus began to show his disciples that he must go to Jerusalem and suffer many things from the elders and chief priests and scribes\, and be killed\, and on the third day be raised. And Peter took him and began to rebuke him\, saying\, “God forbid\, Lord! This shall never happen to you.” But he turned and said to Peter\, “Get behind me\, Satan! You are a hindrance to me; for you are not on the side of God\, but of men.” Then Jesus told his disciples\, “If any man would come after me\, let him deny himself\, and take up his cross and follow me.”
URL:https://2033.ad/event/silas-silvan-crescens-epenetus-and-andronicus-the-apostles-of-the-70/
END:VEVENT
BEGIN:VEVENT
DTSTART;VALUE=DATE:20250730
DTEND;VALUE=DATE:20250731
DTSTAMP:20260422T054119
CREATED:20250309T164801Z
LAST-MODIFIED:20250309T164801Z
UID:26299-1753833600-1753919999@2033.ad
SUMMARY:Σίλα\, Σιλουανού\, Κρήσκεντος\, Επαινετού και Ανδρονίκου εκ των 70
DESCRIPTION:Άγιοι\, εορταί\, και Αναγνώσεις – Τετάρτη\, 30 Ιουλίου 2025\nΆγιοι και εορταί: Σίλα\, Σιλουανού\, Κρήσκεντος\, Επαινετού και Ανδρονίκου εκ των 70; Αγία Μάρτυς Ιουλίττα η εκ Καισαρείας\nΑυστηρή Νηστεία\nΑνάγνωσις Επιστολής: Πράξ. 15:35-41\nΕν ταις ημεραίς εκείναις\, Παύλος δε και Βαρνάβας διέτριβον εν Αντιοχεία\, διδάσκοντες και ευαγγελιζόμενοι\, μετά και ετέρων πολλών\, τον λόγον του κυρίου. Μετά δε τινας ημέρας είπεν Παύλος πρός Βαρνάβαν\, Επιστρέψαντες δή επισκεψώμεθα τους αδελφούς ημών κατά πάσαν πόλιν\, εν αίς κατηγγείλαμεν τον λόγον του κυρίου\, πώς έχουσιν. Βαρνάβας δε εβουλεύσατο συμπαραλαβείν τον Ιωάννην\, τον καλούμενον Μάρκον. Παύλος δε ηξίου\, τον αποστάντα απʼ αυτών από Παμφυλίας\, και μή συνελθόντα αυτοίς εις το έργον\, μή συμπαραλαβείν τούτον. Εγένετο ούν παροξυσμός\, ώστε αποχωρισθήναι αυτούς απʼ αλλήλων\, τον τε Βαρνάβαν παραλαβόντα τον Μάρκον εκπλεύσαι εις Κύπρον· Παύλος δε επιλεξάμενος Σίλαν εξήλθεν\, παραδοθείς τη χάριτι του θεού υπό των αδελφών. Διήρχετο δε την Συρίαν και Κιλικίαν\, επιστηρίζων τάς εκκλησίας.\nΑνάγνωσις Ευαγγελίου: Κατά Ματθαίον 16:20-24\nΤω καιρώ εκείνω\, διεστείλατο ο Ιησούς τοις μαθηταίς αυτού ίνα μηδενί είπωσιν ότι αυτός εστιν ᾿Ιησούς ο Χριστός. ᾿Από τότε ήρξατο ο ᾿Ιησούς δεικνύειν τοις μαθηταίς αυτού ότι δεί αυτόν απελθείν εις ῾Ιεροσόλυμα και πολλά παθείν από των πρεσβυτέρων και αρχιερέων και γραμματέων και αποκτανθήναι\, και τη τρίτη ημέρα εγερθήναι. καί προσλαβόμενος αυτόν ο Πέτρος ήρξατο επιτιμάν αυτώ λέγων· ίλεώς σοι\, Κύριε· ου μή έσται σοι τούτο. ο δε στραφείς είπε τω Πέτρω· ύπαγε οπίσω μου\, σατανά· σκάνδαλόν μου εί· ότι ου φρονείς τα του Θεού\, αλλά τα των ανθρώπων. Τότε ο ᾿Ιησούς είπε τοις μαθηταίς αυτού· ει τις θέλει οπίσω μου ελθείν\, απαρνησάσθω εαυτόν και αράτω τον σταυρόν αυτού και ακολουθείτω μοι.
URL:https://2033.ad/event/%cf%83%e1%bd%b7%ce%bb%ce%b1-%cf%83%ce%b9%ce%bb%ce%bf%cf%85%ce%b1%ce%bd%ce%bf%cf%8d-%ce%ba%cf%81%e1%bd%b5%cf%83%ce%ba%ce%b5%ce%bd%cf%84%ce%bf%cf%82-%ce%b5%cf%80%ce%b1%ce%b9%ce%bd%ce%b5%cf%84%ce%bf/
END:VEVENT
BEGIN:VEVENT
DTSTART;TZID=America/New_York:20250730T170000
DTEND;TZID=America/New_York:20250730T193000
DTSTAMP:20260422T054119
CREATED:20250309T165835Z
LAST-MODIFIED:20250425T023805Z
UID:26699-1753894800-1753903800@2033.ad
SUMMARY:Adult Basketball
DESCRIPTION:Contact Mark Lagos for details:  mark@pinellasautobody.com
URL:https://2033.ad/event/adult-basketball-20/
LOCATION:Gym
END:VEVENT
END:VCALENDAR