BEGIN:VCALENDAR
VERSION:2.0
PRODID:-//Holy Trinity Greek Orthodox Church - ECPv6.15.20//NONSGML v1.0//EN
CALSCALE:GREGORIAN
METHOD:PUBLISH
X-WR-CALNAME:Holy Trinity Greek Orthodox Church
X-ORIGINAL-URL:https://2033.ad
X-WR-CALDESC:Events for Holy Trinity Greek Orthodox Church
REFRESH-INTERVAL;VALUE=DURATION:PT1H
X-Robots-Tag:noindex
X-PUBLISHED-TTL:PT1H
BEGIN:VTIMEZONE
TZID:UTC
BEGIN:STANDARD
TZOFFSETFROM:+0000
TZOFFSETTO:+0000
TZNAME:UTC
DTSTART:20240101T000000
END:STANDARD
END:VTIMEZONE
BEGIN:VTIMEZONE
TZID:America/New_York
BEGIN:DAYLIGHT
TZOFFSETFROM:-0500
TZOFFSETTO:-0400
TZNAME:EDT
DTSTART:20240310T070000
END:DAYLIGHT
BEGIN:STANDARD
TZOFFSETFROM:-0400
TZOFFSETTO:-0500
TZNAME:EST
DTSTART:20241103T060000
END:STANDARD
BEGIN:DAYLIGHT
TZOFFSETFROM:-0500
TZOFFSETTO:-0400
TZNAME:EDT
DTSTART:20250309T070000
END:DAYLIGHT
BEGIN:STANDARD
TZOFFSETFROM:-0400
TZOFFSETTO:-0500
TZNAME:EST
DTSTART:20251102T060000
END:STANDARD
BEGIN:DAYLIGHT
TZOFFSETFROM:-0500
TZOFFSETTO:-0400
TZNAME:EDT
DTSTART:20260308T070000
END:DAYLIGHT
BEGIN:STANDARD
TZOFFSETFROM:-0400
TZOFFSETTO:-0500
TZNAME:EST
DTSTART:20261101T060000
END:STANDARD
END:VTIMEZONE
BEGIN:VEVENT
DTSTART;VALUE=DATE:20250723
DTEND;VALUE=DATE:20250724
DTSTAMP:20260422T105142
CREATED:20250309T164656Z
LAST-MODIFIED:20250309T164656Z
UID:26088-1753228800-1753315199@2033.ad
SUMMARY:Phocas the Holy Martyr\, Bishop of Sinope
DESCRIPTION:Saints\, Feasts\, and Readings for 07/23/2025\nSaints and Feasts: Phocas the Holy Martyr\, Bishop of Sinope; Ezekiel the Prophet; Pelagia the Righteous of Tinos; Trophimos & Theophilios and the 13 others martyred in Lycia; St. Anna of Levkadio; The Icons of the Most Holy Theotokos of Pochaev; Icon of the Mother of God\nStrict Fast\nEpistle Reading: I Corinthians 7:12-24\nBrethren\, if any brother has a wife who is an unbeliever\, and she consents to live with him\, he should not divorce her. If any woman has a husband who is an unbeliever\, and he consents to live with her\, she should not divorce him. For the unbelieving husband is consecrated through his wife\, and the unbelieving wife is consecrated through her husband. Otherwise\, your children would be unclean\, but as it is they are holy. But if the unbelieving partner desires to separate\, let it be so; in such a case the brother or sister is not bound. For God has called us to peace. Wife\, how do you know whether you will save your husband? Husband\, how do you know whether you will save your wife? Only\, let every one lead the life which the Lord has assigned to him\, and in which God has called him. This is my rule in all the churches. Was any one at the time of his call already circumcised? Let him not seek to remove the marks of circumcision. Was any one at the time of his call uncircumcised? Let him not seek circumcision. For neither circumcision counts for anything nor uncircumcision\, but keeping the commandments of God. Every one should remain in the state in which he was called. Were you a slave when called? Never mind. But if you can gain your freedom\, avail yourself of the opportunity. \nFor he who was called in the Lord as a slave is a freedman of the Lord. Likewise he who was free when called is a slave of Christ. You were bought with a price; do not become slaves of men. So\, brethren\, in whatever state each was called\, there let him remain with God.\nGospel Reading: Matthew 14:35-36;15:1-11\nAt that time\, when the men of Gennesaret recognized Jesus\, they sent round to all that region and brought to him all that were sick\, and besought him that they might only touch the fringe of his garment; and as many as touched it were made well.\nThen Pharisees and scribes came to Jesus from Jerusalem and said\, “Why do your disciples transgress the tradition of the elders? For they do not wash their hands when they eat.” He answered them\, “And why do you transgress the commandment of God for the sake of your tradition? For God commanded\, ‘Honor your father and your mother\,’ and\, ‘He who speaks evil of father or mother\, let him surely die.’ But you say\, ‘If any one tells his father or his mother\, What you would have gained from me is given to God\, he need not honor his father.’ So\, for the sake of your tradition\, you have made void the word of God. You hypocrites! Well did Isaiah prophesy of you\, when he said: ‘This people honors me with their lips\, but their heart is far from me; in vain do they worship me\, teaching as doctrines the precepts of men.’ ” And he called the people to him and said to them\, “Hear and understand: not what goes into the mouth defiles a man\, but what comes out of the mouth\, this defiles a man.”
URL:https://2033.ad/event/phocas-the-holy-martyr-bishop-of-sinope/
END:VEVENT
BEGIN:VEVENT
DTSTART;VALUE=DATE:20250723
DTEND;VALUE=DATE:20250724
DTSTAMP:20260422T105142
CREATED:20250309T164759Z
LAST-MODIFIED:20250309T164759Z
UID:26286-1753228800-1753315199@2033.ad
SUMMARY:Φωκάς Μάρτυς
DESCRIPTION:Άγιοι\, εορταί\, και Αναγνώσεις – Τετάρτη\, 23 Ιουλίου 2025\nΆγιοι και εορταί: Φωκάς Μάρτυς; Ιεξεκιήλ Προφήτης; Πελαγίας της Τηνίας; Τρόφιμος και Θεοφίλιος; Άννης\, της εν τη Λευκάτη; Εικόνες της Παναγίας  Θεοτόκου του Ποτσάγεβ; Εικών της μητέρος Θέου\nΑυστηρή Νηστεία\nΑνάγνωσις Επιστολής: Α’ Κορινθ. 7:12-24\nΑδελφοί\, ει τις αδελφός γυναίκα έχει άπιστον\, και αυτή συνευδοκεί οικείν μετʼ αυτού\, μή αφιέτω αυτήν. Και γυνή ήτις έχει άνδρα άπιστον\, και αυτός συνευδοκεί οικείν μετʼ αυτής\, μή αφιέτω αυτόν. Ηγίασται γαρ ο ανήρ ο άπιστος εν τη γυναικί\, και ηγίασται η γυνή η άπιστος εν τω ανδρί· επεί άρα τα τέκνα υμών ακάθαρτά εστιν\, νύν δε άγιά εστιν. Ει δε ο άπιστος χωρίζεται\, χωριζέσθω. Ου δεδούλωται ο αδελφός ή η αδελφή εν τοις τοιούτοις· εν δε ειρήνη κέκληκεν ημάς ο θεός. Τί γαρ οίδας\, γύναι\, ει τον άνδρα σώσεις; Ή τί οίδας\, άνερ\, ει την γυναίκα σώσεις; Ει μή εκάστω ως εμέρισεν ο θεός\, έκαστον ως κέκληκεν ο κύριος\, ούτως περιπατείτω. Και ούτως εν ταις εκκλησίαις πάσαις διατάσσομαι. Περιτετμημένος τις εκλήθη; Μή επισπάσθω. Εν ακροβυστία τις εκλήθη; Μή περιτεμνέσθω. Η περιτομή ουδέν εστιν\, και η ακροβυστία ουδέν εστιν\, αλλά τήρησις εντολών θεού. Έκαστος εν τη κλήσει ή εκλήθη\, εν ταύτη μενέτω. Δούλος εκλήθης; Μή σοι μελέτω· αλλʼ ει και δύνασαι ελεύθερος γενέσθαι\, μάλλον χρήσαι. Ο γαρ εν κυρίω κληθείς δούλος\, απελεύθερος κυρίου εστίν· ομοίως και ο ελεύθερος κληθείς\, δούλός εστιν Χριστού. Τιμής ηγοράσθητε· μή γίνεσθε δούλοι ανθρώπων. Έκαστος εν ώ εκλήθη\, αδελφοί\, εν τούτω μενέτω παρά θεώ.\nΑνάγνωσις Ευαγγελίου: Κατά Ματθαίον 14:35-36\, 15:1-11\nΤω καιρώ εκείνω\, επιγνόντες αυτόν οι άνδρες του τόπου εκείνου απέστειλαν εις όλην την περίχωρον εκείνην\, και προσήνεγκαν αυτώ πάντας τους κακώς έχοντας\, καί παρεκάλουν αυτόν ίνα κάν μόνον άψωνται του κρασπέδου του ιματίου αυτού· και όσοι ήψαντο διεσώθησαν. Τότε προσέρχονται τω ᾿Ιησού οι από ῾Ιεροσολύμων γραμματείς και Φαρισαίοι λέγοντες· διατί οι μαθηταί σου παραβαίνουσι την παράδοσιν των πρεσβυτέρων; ου γαρ νίπτονται τάς χείρας αυτών όταν άρτον εσθίωσιν. ο δε αποκριθείς είπεν αυτοίς· διατί και υμείς παραβαίνετε την εντολήν του Θεού διά την παράδοσιν υμών; ο γαρ Θεός ενετείλατο λέγων· τίμα τον πατέρα και την μητέρα· καί· ο κακολογών πατέρα ή μητέρα θανάτω τελευτάτω. υμείς δε λέγετε· ός άν είπη τω πατρί ή τη μητρί\, δώρον ό εάν εξ εμού ωφεληθής\, και ου μή τιμήση τον πατέρα αυτού ή την μητέρα αυτού· και ηκυρώσατε την εντολήν του Θεού διά την παράδοσιν υμών. υποκριταί! καλώς προεφήτευσε περί υμών ῾Ησαΐας λέγων· εγγίζει μοι ο λαός ούτος τω στόματι αυτώνκαί τοις χείλεσί με τιμά\,η δε καρδία αυτών πόρρω απέχει απ᾿ εμού· μάτην δε σέβονταί με\, διδάσκοντες διδασκαλίας εντάλματα ανθρώπων. Και προσκαλεσάμενος τον όχλον είπεν αυτοίς· ακούετε και συνίετε· ου το εισερχόμενον εις το στόμα κοινοί τον άνθρωπον\, αλλά το εκπορευόμενον εκ του στόματος τούτο κοινοί τον άνθρωπον.
URL:https://2033.ad/event/%cf%86%cf%89%ce%ba%ce%ac%cf%82-%ce%bc%ce%ac%cf%81%cf%84%cf%85%cf%82/
END:VEVENT
BEGIN:VEVENT
DTSTART;TZID=America/New_York:20250723T170000
DTEND;TZID=America/New_York:20250723T193000
DTSTAMP:20260422T105142
CREATED:20250309T165832Z
LAST-MODIFIED:20250425T023803Z
UID:26685-1753290000-1753299000@2033.ad
SUMMARY:Adult Basketball
DESCRIPTION:Contact Mark Lagos for details:  mark@pinellasautobody.com
URL:https://2033.ad/event/adult-basketball-19/
LOCATION:Gym
END:VEVENT
BEGIN:VEVENT
DTSTART;TZID=America/New_York:20250723T183000
DTEND;TZID=America/New_York:20250723T193000
DTSTAMP:20260422T105142
CREATED:20250309T165832Z
LAST-MODIFIED:20250425T023803Z
UID:26686-1753295400-1753299000@2033.ad
SUMMARY:Walking Through our Spiritual Home
DESCRIPTION:
URL:https://2033.ad/event/walking-through-our-spiritual-home-4/
END:VEVENT
END:VCALENDAR