BEGIN:VCALENDAR
VERSION:2.0
PRODID:-//Holy Trinity Greek Orthodox Church - ECPv6.15.20//NONSGML v1.0//EN
CALSCALE:GREGORIAN
METHOD:PUBLISH
X-ORIGINAL-URL:https://2033.ad
X-WR-CALDESC:Events for Holy Trinity Greek Orthodox Church
REFRESH-INTERVAL;VALUE=DURATION:PT1H
X-Robots-Tag:noindex
X-PUBLISHED-TTL:PT1H
BEGIN:VTIMEZONE
TZID:UTC
BEGIN:STANDARD
TZOFFSETFROM:+0000
TZOFFSETTO:+0000
TZNAME:UTC
DTSTART:20240101T000000
END:STANDARD
END:VTIMEZONE
BEGIN:VTIMEZONE
TZID:America/New_York
BEGIN:DAYLIGHT
TZOFFSETFROM:-0500
TZOFFSETTO:-0400
TZNAME:EDT
DTSTART:20240310T070000
END:DAYLIGHT
BEGIN:STANDARD
TZOFFSETFROM:-0400
TZOFFSETTO:-0500
TZNAME:EST
DTSTART:20241103T060000
END:STANDARD
BEGIN:DAYLIGHT
TZOFFSETFROM:-0500
TZOFFSETTO:-0400
TZNAME:EDT
DTSTART:20250309T070000
END:DAYLIGHT
BEGIN:STANDARD
TZOFFSETFROM:-0400
TZOFFSETTO:-0500
TZNAME:EST
DTSTART:20251102T060000
END:STANDARD
BEGIN:DAYLIGHT
TZOFFSETFROM:-0500
TZOFFSETTO:-0400
TZNAME:EDT
DTSTART:20260308T070000
END:DAYLIGHT
BEGIN:STANDARD
TZOFFSETFROM:-0400
TZOFFSETTO:-0500
TZNAME:EST
DTSTART:20261101T060000
END:STANDARD
END:VTIMEZONE
BEGIN:VEVENT
DTSTART;VALUE=DATE:20250722
DTEND;VALUE=DATE:20250723
DTSTAMP:20260422T110047
CREATED:20250309T164656Z
LAST-MODIFIED:20250309T164656Z
UID:26087-1753142400-1753228799@2033.ad
SUMMARY:Mary Magdalene\, the Holy Myrrh-bearer and Equal to the Apostles
DESCRIPTION:Saints\, Feasts\, and Readings for 07/22/2025\nSaints and Feasts: Mary Magdalene\, the Holy Myrrh-bearer and Equal to the Apostles; Markella\, the Virgin-martyr of Chios\nEpistle Reading: I Corinthians 9:2-12\nBrethren\, you are the seal of my apostleship in the Lord. This is my defense to those who would examine me. Do we not have the right to our food and drink? Do we not have the right to be accompanied by a wife\, as the other apostles and the brothers of the Lord and Cephas? Or is it only Barnabas and I who have no right to refrain from working for a living? Who serves as a soldier at his own expense? Who plants a vineyard without eating any of its fruit? Who tends a flock without getting some of the milk? Do I say this on human authority? Does not the law say the same? For it is written in the law of Moses\, “You shall not muzzle an ox when it is treading out the grain.” Is it for oxen that God is concerned? Does he not speak entirely for our sake? It was written for our sake\, because the plowman should plow in hope and the thresher thresh in hope of a share in the crop. If we have sown spiritual good among you\, is it too much if we reap your material benefits? If others share this rightful claim upon you\, do not we still more? Nevertheless\, we have not made use of this right\, but we endure anything rather than put an obstacle in the way of the gospel of Christ.\nGospel Reading: Luke 8:1-3\nAt that time Jesus went on through cities and villages\, preaching and bringing the good news of the kingdom of God. And the twelve were with him\, and also some women who had been healed of evil spirits and infirmities: Mary\, called Magdalene\, from whom seven demons had gone out\, and Joanna\, the wife of Chuza\, Herod’s steward\, and Susanna\, and many others\, who provided for him out of their means.
URL:https://2033.ad/event/mary-magdalene-the-holy-myrrh-bearer-and-equal-to-the-apostles/
END:VEVENT
BEGIN:VEVENT
DTSTART;VALUE=DATE:20250722
DTEND;VALUE=DATE:20250723
DTSTAMP:20260422T110047
CREATED:20250309T164759Z
LAST-MODIFIED:20250309T164759Z
UID:26285-1753142400-1753228799@2033.ad
SUMMARY:Μαρία η Μαγδαληνή
DESCRIPTION:Άγιοι\, εορταί\, και Αναγνώσεις – Τρίτη\, 22 Ιουλίου 2025\nΆγιοι και εορταί: Μαρία η Μαγδαληνή; Παρθενομάρτυρος Μαρκέλλης της Χιοπολίτιδος\nΑνάγνωσις Επιστολής: Α’ Κορινθ. 9:2-12\nΑδελφοί\, η σφραγίς της εμής αποστολής υμείς εστε εν κυρίω. Η εμή απολογία τοις εμέ ανακρίνουσιν αύτη εστίν. Μή ουκ έχομεν εξουσίαν φαγείν και πιείν; Μή ουκ έχομεν εξουσίαν αδελφήν γυναίκα περιάγειν\, ως και οι λοιποί απόστολοι\, και οι αδελφοί του κυρίου\, και Κηφάς; Ή μόνος εγώ και Βαρνάβας ουκ έχομεν εξουσίαν του μή εργάζεσθαι; Τις στρατεύεται ιδίοις οψωνίοις ποτέ; Τις φυτεύει αμπελώνα\, και εκ του καρπού αυτού ουκ εσθίει; Ή τις ποιμαίνει ποίμνην\, και εκ του γάλακτος της ποίμνης ουκ εσθίει; Μή κατά άνθρωπον ταύτα λαλώ; Ή ουχί και ο νόμος ταύτα λέγει; Εν γαρ τω Μωϋσέως νόμω γέγραπται\, Ου φιμώσεις βούν αλοώντα. Μή των βοών μέλει τω θεώ; Ή διʼ ημάς πάντως λέγει; Διʼ ημάς γαρ εγράφη\, ότι επʼ ελπίδι οφείλει ο αροτριών αροτριάν\, και ο αλοών της ελπίδος αυτού μετέχειν επʼ ελπίδι. Ει ημείς υμίν τα πνευματικά εσπείραμεν\, μέγα ει ημείς υμών τα σαρκικά θερίσομεν; Ει άλλοι της εξουσίας υμών μετέχουσιν\, ου μάλλον ημείς; Αλλʼ ουκ εχρησάμεθα τη εξουσία ταύτη\, αλλά πάντα στέγομεν\, ίνα μή εγκοπήν τινα δώμεν τω ευαγγελίω του Χριστού.\nΑνάγνωσις Ευαγγελίου: Κατά Λουκάν 8:1-3\nΤω καιρώ εκείνω\, επορεύετο ο Ιησούς κατά πόλιν και κώμην κηρύσσων και ευαγγελιζόμενος την βασιλείαν του Θεού\, και οι δώδεκα σύν αυτώ\, και γυναίκές τινες αί ήσαν τεθεραπευμέναι από νόσων και μαστίγων και πνευμάτων πονηρών και ασθενειών\, Μαρία η καλουμένη Μαγδαληνή\, αφ᾿ ής δαιμόνια επτά εξεληλύθει\, και ᾿Ιωάννα γυνή Χουζά επιτρόπου ῾Ηρῴδου\, και Σουσάννα και έτεραι πολλαί\, αίτινες διηκόνουν αυτώ από των υπαρχόντων αυταίς.
URL:https://2033.ad/event/%ce%bc%ce%b1%cf%81%ce%af%ce%b1-%ce%b7-%ce%bc%ce%b1%ce%b3%ce%b4%ce%b1%ce%bb%ce%b7%ce%bd%ce%ae/
END:VEVENT
BEGIN:VEVENT
DTSTART;TZID=America/New_York:20250722T100000
DTEND;TZID=America/New_York:20250722T110000
DTSTAMP:20260422T110047
CREATED:20250309T165832Z
LAST-MODIFIED:20250425T023802Z
UID:26684-1753178400-1753182000@2033.ad
SUMMARY:Divine Liturgy - Markella of Chios; Mary Magdalene\, Myrrh Bearer
DESCRIPTION:
URL:https://2033.ad/event/divine-liturgy-markella-of-chios-mary-magdalene-myrrh-bearer/
LOCATION:Church
END:VEVENT
END:VCALENDAR