BEGIN:VCALENDAR
VERSION:2.0
PRODID:-//Holy Trinity Greek Orthodox Church - ECPv6.15.20//NONSGML v1.0//EN
CALSCALE:GREGORIAN
METHOD:PUBLISH
X-ORIGINAL-URL:https://2033.ad
X-WR-CALDESC:Events for Holy Trinity Greek Orthodox Church
REFRESH-INTERVAL;VALUE=DURATION:PT1H
X-Robots-Tag:noindex
X-PUBLISHED-TTL:PT1H
BEGIN:VTIMEZONE
TZID:UTC
BEGIN:STANDARD
TZOFFSETFROM:+0000
TZOFFSETTO:+0000
TZNAME:UTC
DTSTART:20240101T000000
END:STANDARD
END:VTIMEZONE
BEGIN:VTIMEZONE
TZID:America/New_York
BEGIN:DAYLIGHT
TZOFFSETFROM:-0500
TZOFFSETTO:-0400
TZNAME:EDT
DTSTART:20240310T070000
END:DAYLIGHT
BEGIN:STANDARD
TZOFFSETFROM:-0400
TZOFFSETTO:-0500
TZNAME:EST
DTSTART:20241103T060000
END:STANDARD
BEGIN:DAYLIGHT
TZOFFSETFROM:-0500
TZOFFSETTO:-0400
TZNAME:EDT
DTSTART:20250309T070000
END:DAYLIGHT
BEGIN:STANDARD
TZOFFSETFROM:-0400
TZOFFSETTO:-0500
TZNAME:EST
DTSTART:20251102T060000
END:STANDARD
BEGIN:DAYLIGHT
TZOFFSETFROM:-0500
TZOFFSETTO:-0400
TZNAME:EDT
DTSTART:20260308T070000
END:DAYLIGHT
BEGIN:STANDARD
TZOFFSETFROM:-0400
TZOFFSETTO:-0500
TZNAME:EST
DTSTART:20261101T060000
END:STANDARD
END:VTIMEZONE
BEGIN:VEVENT
DTSTART;VALUE=DATE:20250721
DTEND;VALUE=DATE:20250722
DTSTAMP:20260422T110120
CREATED:20250309T164656Z
LAST-MODIFIED:20250309T164656Z
UID:26086-1753056000-1753142399@2033.ad
SUMMARY:John and Symeon the Fool for Christ
DESCRIPTION:Saints\, Feasts\, and Readings for 07/21/2025\nSaints and Feasts: John and Symeon the Fool for Christ; Parthenios\, Bishop of Arta\nEpistle Reading: I Corinthians 5:9-13;6:1-11\nBrethren\, I wrote to you in my letter not to associate with immoral men; not at all meaning the immoral of this world\, or the greedy and robbers\, or idolaters\, since then you would need to go out of the world. But rather I wrote to you not to associate with any one who bears the name of brother if he is guilty of immorality or greed\, or is an idolater\, reviler\, drunkard\, or robber – not even to eat with such a one. For what have I to do with judging outsiders? Is it not those inside the church whom you are to judge? God judges those outside. “Drive out the wicked person from among you.” When one of you has a grievance against a brother\, does he dare go to law before the unrighteous instead of the saints? Do you not know that the saints will judge the world? And if the world is to be judged by you\, are you incompetent to try trivial cases? Do you not know that we are to judge angels? How much more\, matters pertaining to this life! If then you have such cases\, why do you lay them before those who are least esteemed by the church? I say this to your shame. Can it be that there is no man among you wise enough to decide between members of the brotherhood\, but brother goes to law against brother and that before unbelievers? To have lawsuits at all with one another is defeat for you. Why not rather suffer wrong? Why not rather be defrauded? But you yourselves wrong and defraud\, and that even your own brethren. Do you not know that the unrighteous will not inherit the kingdom of God? Do not be deceived; neither the immoral\, nor idolators\, nor adulterers\, nor sexual perverts\, nor thieves\, nor the greedy\, nor drunkards\, nor revilers\, nor robbers will inherit the kingdom of God. And such were some of you. But you were washed\, you were sanctified\, you were justified in the name of the Lord Jesus Christ and in the Spirit of our God.\nGospel Reading: Matthew 13:54-58\nAt that time\, Jesus came to his own country\, and taught the people in their synagogue so that they were astonished\, and said\, “Where did this man get this wisdom and these mighty works? Is not this the carpenter’s son? Is not his mother called Mary? And are not his brothers James and Joseph and Simon and Judas? And are not all his sisters with us? Where then did this man get all this?” And they took offense at him. But Jesus said to them\, “A prophet is not without honor except in his own country and in his own house.” And he did not do many mighty works there\, because of their unbelief.
URL:https://2033.ad/event/john-and-symeon-the-fool-for-christ/
END:VEVENT
BEGIN:VEVENT
DTSTART;VALUE=DATE:20250721
DTEND;VALUE=DATE:20250722
DTSTAMP:20260422T110120
CREATED:20250309T164759Z
LAST-MODIFIED:20250309T164759Z
UID:26284-1753056000-1753142399@2033.ad
SUMMARY:Ιωάννης και Συμεών ο διά Χριστόν Σαλόυ
DESCRIPTION:Άγιοι\, εορταί\, και Αναγνώσεις – Δευτέρα\, 21 Ιουλίου 2025\nΆγιοι και εορταί: Ιωάννης και Συμεών ο διά Χριστόν Σαλόυ; Παρθένιος\, Επισκόπου Ραδοβυζίων Άρτης\nΑνάγνωσις Επιστολής: Α’ Κορινθ. 5:9-13\, 6:1-11\nΑδελφοί\, έγραψα υμίν εν τη επιστολή μή συναναμίγνυσθαι πόρνοις· και ου πάντως τοις πόρνοις του κόσμου τούτου ή τοις πλεονέκταις\, ή άρπαξιν\, ή ειδωλολάτραις· επεί οφείλετε άρα εκ του κόσμου εξελθείν. Νύν δε έγραψα υμίν μή συναναμίγνυσθαι\, εάν τις αδελφός ονομαζόμενος ᾖ πόρνος\, ή πλεονέκτης\, ή ειδωλολάτρης\, ή λοίδορος\, ή μέθυσος\, ή άρπαξ· τω τοιούτω μηδέ συνεσθίειν. Τί γαρ μοι και τους έξω κρίνειν; Ουχί τους έσω υμείς κρίνετε; Τους δε έξω ο θεός κρινεί. Και εξαρείτε τον πονηρόν εξ υμών αυτών. Τολμά τις υμών\, πράγμα έχων πρός τον έτερον\, κρίνεσθαι επί των αδίκων\, και ουχί επί των αγίων; Ουκ οίδατε ότι οι άγιοι τον κόσμον κρινούσιν; Και ει εν υμίν κρίνεται ο κόσμος\, ανάξιοί εστε κριτηρίων ελαχίστων; Ουκ οίδατε ότι αγγέλους κρινούμεν; Μήτι γε βιωτικά; Βιωτικά μέν ούν κριτήρια εάν έχητε\, τους εξουθενημένους εν τη εκκλησία\, τούτους καθίζετε. Πρός εντροπήν υμίν λέγω. Ούτως ουκ ένι εν υμίν σοφός ουδέ είς\, ός δυνήσεται διακρίναι ανά μέσον του αδελφού αυτού\, αλλά αδελφός μετά αδελφού κρίνεται\, και τούτο επί απίστων; Ήδη μέν ούν όλως ήττημα υμίν εστιν\, ότι κρίματα έχετε μεθʼ εαυτών. Διά τί ουχί μάλλον αδικείσθε; Διά τί ουχί μάλλον αποστερείσθε; Αλλά υμείς αδικείτε και αποστερείτε\, και ταύτα αδελφούς. Ή ουκ οίδατε ότι άδικοι βασιλείαν θεού ου κληρονομήσουσιν; Μή πλανάσθε· ούτε πόρνοι\, ούτε ειδωλολάτραι\, ούτε μοιχοί\, ούτε μαλακοί\, ούτε αρσενοκοίται\, ούτε πλεονέκται\, ούτε κλέπται\, ούτε μέθυσοι\, ου λοίδοροι\, ουχ άρπαγες\, βασιλείαν θεού ου κληρονομήσουσιν. Και ταύτά τινες ήτε· αλλά απελούσασθε\, αλλά ηγιάσθητε\, αλλʼ εδικαιώθητε εν τω ονόματι του κυρίου Ιησού\, και εν τω πνεύματι του θεού ημών.\nΑνάγνωσις Ευαγγελίου: Κατά Ματθαίον 13:54-58\nΤω καιρώ εκείνω\, ελθών εις την πατρίδα αυτού εδίδασκεν αυτούς εν τη συναγωγή αυτών\, ώστε εκπλήττεσθαι αυτούς και λέγειν· πόθεν τούτω η σοφία αύτη και αι δυνάμεις; ουχ ούτός εστιν ο του τέκτονος υιός; ουχί η μήτηρ αυτού λέγεται Μαριάμ και οι αδελφοί αυτού ᾿Ιάκωβος και ᾿Ιωσής και Σίμων και ᾿Ιούδας; και αι αδελφαί αυτού ουχί πάσαι πρός ημάς εισι; πόθεν ούν τούτω ταύτα πάντα; και εσκανδαλίζοντο εν αυτώ. ο δε ᾿Ιησούς είπεν αυτοίς· ουκ έστι προφήτης άτιμος ει μή εν τη πατρίδι αυτού και εν τη οικία αυτού. και ουκ εποίησεν εκεί δυνάμεις πολλάς διά την απιστίαν αυτών.
URL:https://2033.ad/event/%ce%b9%cf%89%ce%ac%ce%bd%ce%bd%ce%b7%cf%82-%ce%ba%ce%b1%ce%b9-%cf%83%cf%85%ce%bc%ce%b5%cf%8e%ce%bd-%ce%bf-%ce%b4%ce%b9%ce%ac-%cf%87%cf%81%ce%b9%cf%83%cf%84%cf%8c%ce%bd-%cf%83%ce%b1%ce%bb%cf%8c%cf%85/
END:VEVENT
BEGIN:VEVENT
DTSTART;TZID=America/New_York:20250721T190000
DTEND;TZID=America/New_York:20250721T220000
DTSTAMP:20260422T110120
CREATED:20250309T165831Z
LAST-MODIFIED:20250425T023802Z
UID:26683-1753124400-1753135200@2033.ad
SUMMARY:Parish Council Meeting
DESCRIPTION:Change of Meeting date for monthly PC meetings.  Please update your calendars\nJoin with Google Meet: https://meet.google.com/yjn-qmru-ddk\nLearn more about Meet at: https://support.google.com/a/users/answer/9282720
URL:https://2033.ad/event/parish-council-meeting-5/
END:VEVENT
END:VCALENDAR