BEGIN:VCALENDAR
VERSION:2.0
PRODID:-//Holy Trinity Greek Orthodox Church - ECPv6.15.20//NONSGML v1.0//EN
CALSCALE:GREGORIAN
METHOD:PUBLISH
X-ORIGINAL-URL:https://2033.ad
X-WR-CALDESC:Events for Holy Trinity Greek Orthodox Church
REFRESH-INTERVAL;VALUE=DURATION:PT1H
X-Robots-Tag:noindex
X-PUBLISHED-TTL:PT1H
BEGIN:VTIMEZONE
TZID:UTC
BEGIN:STANDARD
TZOFFSETFROM:+0000
TZOFFSETTO:+0000
TZNAME:UTC
DTSTART:20240101T000000
END:STANDARD
END:VTIMEZONE
BEGIN:VTIMEZONE
TZID:America/New_York
BEGIN:DAYLIGHT
TZOFFSETFROM:-0500
TZOFFSETTO:-0400
TZNAME:EDT
DTSTART:20240310T070000
END:DAYLIGHT
BEGIN:STANDARD
TZOFFSETFROM:-0400
TZOFFSETTO:-0500
TZNAME:EST
DTSTART:20241103T060000
END:STANDARD
BEGIN:DAYLIGHT
TZOFFSETFROM:-0500
TZOFFSETTO:-0400
TZNAME:EDT
DTSTART:20250309T070000
END:DAYLIGHT
BEGIN:STANDARD
TZOFFSETFROM:-0400
TZOFFSETTO:-0500
TZNAME:EST
DTSTART:20251102T060000
END:STANDARD
BEGIN:DAYLIGHT
TZOFFSETFROM:-0500
TZOFFSETTO:-0400
TZNAME:EDT
DTSTART:20260308T070000
END:DAYLIGHT
BEGIN:STANDARD
TZOFFSETFROM:-0400
TZOFFSETTO:-0500
TZNAME:EST
DTSTART:20261101T060000
END:STANDARD
END:VTIMEZONE
BEGIN:VEVENT
DTSTART;VALUE=DATE:20250710
DTEND;VALUE=DATE:20250711
DTSTAMP:20260422T114412
CREATED:20250309T164653Z
LAST-MODIFIED:20250309T164653Z
UID:26065-1752105600-1752191999@2033.ad
SUMMARY:45 Holy Martyrs of Nikopolis\, Armenia
DESCRIPTION:Saints\, Feasts\, and Readings for 07/10/2025\nSaints and Feasts: 45 Holy Martyrs of Nikopolis\, Armenia; Our Holy Father Gregory\, Bishop of Assa; Parthenios and Eumenios of Koudoumas; 10\,000 Fathers martyred in Egypt; Apollonios the Martyr; Deposition of the Precious Robe of Our Lord Jesus Christ in Moscow; Righteous Father Anthony of the Kiev Caves\nEpistle Reading: Romans 15:17-29\nBrethren\, in Christ Jesus I have reason to be proud of my work for God. For I will not venture to speak of anything except what Christ has wrought through me to win obedience from the Gentiles\, by word and deed\, by the power of signs and wonders\, by the power of the Holy Spirit\, so that from Jerusalem and as far round as Illyricum I have fully preached the gospel of Christ\, thus making it my ambition to preach the gospel\, not where Christ has already been named\, lest I build on another man’s foundation\, but as it is written\, “They shall see who have never been told of him\, and they shall understand who have never heard of him.” This is the reason why I have so often been hindered from coming to you. But now\, since I no longer have any room for work in these regions\, and since I have longed for many years to come to you\, I hope to see you in passing as I go to Spain\, and to be sped on my journey there by you\, once I have enjoyed your company for a little. At present\, however\, I am going to Jerusalem with aid for the saints. For Macedonia and Achaia have been pleased to make some contribution for the poor among the saints at Jerusalem; they were pleased to do it\, and indeed – they are in debt to them\, for if the Gentiles have come to share in their spiritual blessings\, they ought also to be of service to them in material blessings. When therefore I have completed this\, and have sealed to them this fruit\, I shall go on by way of you to Spain; and I know that when I come to you I shall come in the fulness of the blessing of the gospel of Christ.\nGospel Reading: Matthew 12:46-50; 13:1-3\nAt that time\, while Jesus was speaking to the people\, behold\, his mother and his brothers stood outside\, asking to speak to him. But he replied to the man who told him\, “Who is my mother\, and who are my brothers?” And stretching out his hand toward his disciples\, he said\, “Here are my mother and my brothers! For whoever does the will of my Father in heaven is my brother\, and sister\, and mother.”\nThat same day Jesus went out of the house and sat beside the sea. And great crowds gathered about him\, so that he entered a boat and sat there; and the whole crowd stood on the beach. And he told them many things in parables.
URL:https://2033.ad/event/45-holy-martyrs-of-nikopolis-armenia/
END:VEVENT
BEGIN:VEVENT
DTSTART;VALUE=DATE:20250710
DTEND;VALUE=DATE:20250711
DTSTAMP:20260422T114412
CREATED:20250309T164756Z
LAST-MODIFIED:20250309T164756Z
UID:26273-1752105600-1752191999@2033.ad
SUMMARY:Οι εν Νικοπόλει Αρμενίας 45 Μαρτύρες
DESCRIPTION:Άγιοι\, εορταί\, και Αναγνώσεις – Πέμπτη\, 10 Ιουλίου 2025\nΆγιοι και εορταί: Οι εν Νικοπόλει Αρμενίας 45 Μαρτύρες; Γρηγόριος Επίσκοπος Ασσα; Παρθένιος και Ευμένιος οι εν Κουδουμά; 10\,000 Μάρτυρες του Αιγύπτου; Απολλώνιος Μάρτυς; Πολύτιμη τήβεννος Ιησού Χριστού στη Μόσχα; Αντώνιος των σπηλιών του Κίεβου\nΑνάγνωσις Επιστολής: Ρωμ. 15:17-29\nΑδελφοί\, έχω ούν καύχησιν εν Χριστώ Ιησού τα πρός τον θεόν. Ου γαρ τολμήσω λαλείν τι ών ου κατειργάσατο Χριστός διʼ εμού\, εις υπακοήν εθνών\, λόγω και έργω\, εν δυνάμει σημείων και τεράτων\, εν δυνάμει πνεύματος θεού· ώστε με από Ιερουσαλήμ και κύκλω μέχρι του Ιλλυρικού πεπληρωκέναι το ευαγγέλιον του Χριστού· ούτως δε φιλοτιμούμενον ευαγγελίζεσθαι\, ουχ όπου ωνομάσθη Χριστός\, ίνα μή επʼ αλλότριον θεμέλιον οικοδομώ· αλλά\, καθώς γέγραπται\, Οίς ουκ ανηγγέλη περί αυτού\, όψονται· και οί ουκ ακηκόασιν συνήσουσιν. Διό και ενεκοπτόμην τα πολλά του ελθείν πρός υμάς· νυνί δε μηκέτι τόπον έχων εν τοις κλίμασιν τούτοις\, επιποθίαν δε έχων του ελθείν πρός υμάς από πολλών ετών\, ως εάν πορεύωμαι εις την Σπανίαν\, ελεύσομαι πρός υμάς· ελπίζω γαρ διαπορευόμενος θεάσασθαι υμάς\, και υφʼ υμών προπεμφθήναι εκεί\, εάν υμών πρώτον από μέρους εμπλησθώ. Νυνί δε πορεύομαι εις Ιερουσαλήμ\, διακονών τοις αγίοις. Ευδόκησαν γαρ Μακεδονία και Αχαΐα κοινωνίαν τινά ποιήσασθαι εις τους πτωχούς των αγίων των εν Ιερουσαλήμ. Ευδόκησαν γάρ\, και οφειλέται αυτών εισιν. Ει γαρ τοις πνευματικοίς αυτών εκοινώνησαν τα έθνη\, οφείλουσιν και εν τοις σαρκικοίς λειτουργήσαι αυτοίς. Τούτο ούν επιτελέσας\, και σφραγισάμενος αυτοίς τον καρπόν τούτον\, απελεύσομαι διʼ υμών εις την Σπανίαν. Οίδα δε ότι ερχόμενος πρός υμάς εν πληρώματι ευλογίας του ευαγγελίου του Χριστού ελεύσομαι.\nΑνάγνωσις Ευαγγελίου: Κατά Ματθαίον 12:46-50\, 13:1-3\nΤω καιρώ εκείνω\, λαλούντος τοις όχλοις ιδού η μήτηρ και οι αδελφοί αυτού ειστήκεισαν έξω\, ζητούντες λαλήσαι αυτώ. είπε δέ τις αυτώ· ιδού η μήτηρ σου και οι αδελφοί σου εστήκασιν έξω ζητούντές σε ιδείν. ο δε αποκριθείς είπε τω λέγοντι αυτώ· τίς εστιν η μήτηρ μου και τίνες εισίν οι αδελφοί μου; και εκτείνας την χείρα αυτού επί τους μαθητάς αυτού έφη· ιδού η μήτηρ μου και οι αδελφοί μου· όστις γαρ άν ποιήση το θέλημα του πατρός μου του εν ουρανοίς\, αυτός μου αδελφός και αδελφή και μήτηρ εστίν. Εν δε τη ημέρα εκείνη εξελθών ο ᾿Ιησούς της οικίας εκάθητο παρά την θάλασσαν· και συνήχθησαν πρός αυτόν όχλοι πολλοί\, ώστε αυτόν εις πλοίον εμβάντα καθήσθαι\, και πάς ο όχλος επί τον αιγιαλόν ειστήκει. και ελάλησεν αυτοίς πολλά εν παραβολαίς λέγων.
URL:https://2033.ad/event/%ce%bf%ce%b9-%ce%b5%ce%bd-%ce%bd%ce%b9%ce%ba%ce%bf%cf%80%cf%8c%ce%bb%ce%b5%ce%b9-%ce%b1%cf%81%ce%bc%ce%b5%ce%bd%ce%af%ce%b1%cf%82-45-%ce%bc%ce%b1%cf%81%cf%84%cf%8d%cf%81%ce%b5%cf%82/
END:VEVENT
BEGIN:VEVENT
DTSTART;TZID=America/New_York:20250710T130000
DTEND;TZID=America/New_York:20250710T140000
DTSTAMP:20260422T114412
CREATED:20250309T165827Z
LAST-MODIFIED:20250425T023755Z
UID:26664-1752152400-1752156000@2033.ad
SUMMARY:Bible Study
DESCRIPTION:
URL:https://2033.ad/event/bible-study-17/
END:VEVENT
END:VCALENDAR