BEGIN:VCALENDAR
VERSION:2.0
PRODID:-//Holy Trinity Greek Orthodox Church - ECPv6.15.20//NONSGML v1.0//EN
CALSCALE:GREGORIAN
METHOD:PUBLISH
X-WR-CALNAME:Holy Trinity Greek Orthodox Church
X-ORIGINAL-URL:https://2033.ad
X-WR-CALDESC:Events for Holy Trinity Greek Orthodox Church
REFRESH-INTERVAL;VALUE=DURATION:PT1H
X-Robots-Tag:noindex
X-PUBLISHED-TTL:PT1H
BEGIN:VTIMEZONE
TZID:America/New_York
BEGIN:DAYLIGHT
TZOFFSETFROM:-0500
TZOFFSETTO:-0400
TZNAME:EDT
DTSTART:20240310T070000
END:DAYLIGHT
BEGIN:STANDARD
TZOFFSETFROM:-0400
TZOFFSETTO:-0500
TZNAME:EST
DTSTART:20241103T060000
END:STANDARD
BEGIN:DAYLIGHT
TZOFFSETFROM:-0500
TZOFFSETTO:-0400
TZNAME:EDT
DTSTART:20250309T070000
END:DAYLIGHT
BEGIN:STANDARD
TZOFFSETFROM:-0400
TZOFFSETTO:-0500
TZNAME:EST
DTSTART:20251102T060000
END:STANDARD
BEGIN:DAYLIGHT
TZOFFSETFROM:-0500
TZOFFSETTO:-0400
TZNAME:EDT
DTSTART:20260308T070000
END:DAYLIGHT
BEGIN:STANDARD
TZOFFSETFROM:-0400
TZOFFSETTO:-0500
TZNAME:EST
DTSTART:20261101T060000
END:STANDARD
END:VTIMEZONE
BEGIN:VTIMEZONE
TZID:UTC
BEGIN:STANDARD
TZOFFSETFROM:+0000
TZOFFSETTO:+0000
TZNAME:UTC
DTSTART:20240101T000000
END:STANDARD
END:VTIMEZONE
BEGIN:VTIMEZONE
TZID:UTC
BEGIN:STANDARD
TZOFFSETFROM:+0000
TZOFFSETTO:+0000
TZNAME:UTC
DTSTART:20240101T000000
END:STANDARD
END:VTIMEZONE
BEGIN:VEVENT
DTSTART;TZID=America/New_York:20250703T080000
DTEND;TZID=America/New_York:20250706T130000
DTSTAMP:20260422T105916
CREATED:20250309T165824Z
LAST-MODIFIED:20250425T023749Z
UID:26651-1751529600-1751806800@2033.ad
SUMMARY:National Forum of Greek Orthodox Musicians Meeting
DESCRIPTION:
URL:https://2033.ad/event/national-forum-of-greek-orthodox-musicians-meeting-2/
END:VEVENT
BEGIN:VEVENT
DTSTART;TZID=America/New_York:20250703T083000
DTEND;TZID=America/New_York:20250706T160000
DTSTAMP:20260422T105916
CREATED:20250309T165824Z
LAST-MODIFIED:20250425T023749Z
UID:26650-1751531400-1751817600@2033.ad
SUMMARY:Choir Conference
DESCRIPTION:
URL:https://2033.ad/event/choir-conference-2/
END:VEVENT
BEGIN:VEVENT
DTSTART;TZID=UTC:20250703T120000
DTEND;TZID=UTC:20250706T170000
DTSTAMP:20260422T105916
CREATED:20241107T035922Z
LAST-MODIFIED:20241107T035922Z
UID:24878-1751544000-1751821200@2033.ad
SUMMARY:National Forum of Greek Orthodox Musicians Meeting
DESCRIPTION:
URL:https://2033.ad/event/national-forum-of-greek-orthodox-musicians-meeting/
END:VEVENT
BEGIN:VEVENT
DTSTART;VALUE=DATE:20250704
DTEND;VALUE=DATE:20250705
DTSTAMP:20260422T105916
CREATED:20250309T164651Z
LAST-MODIFIED:20250309T164651Z
UID:26059-1751587200-1751673599@2033.ad
SUMMARY:Andrew of Crete Author of the Great Canon
DESCRIPTION:Saints\, Feasts\, and Readings for 07/04/2025\nSaints and Feasts: Andrew of Crete Author of the Great Canon; Martha\, mother of St. Symeon Stylites the Younger; Asclepias the Wonderworker; Michael Choniates\, Metropolitan of Athens\nStrict Fast\nEpistle Reading: Romans 11:25-36\nBrethren\, lest you be wise in your own conceits\, I want you to understand this mystery: a hardening has come upon part of Israel\, until the full number of Gentiles come in\, and so all Israel will be saved; as it is written\, “The Deliverer will come from Zion\, he will banish ungodliness from Jacob”; “and this will be my covenant with them when I take away their sins.” As regards the gospel they are enemies of God\, for your sake; but as regards election they are beloved for the sake of their forefathers. For the gifts and the call of God are irrevocable. Just as you were once disobedient to God but now have received mercy because of their disobedience\, so they have now been disobedient in order that by the mercy shown to you they also may receive mercy. For God has consigned all men to disobedience\, that he may have mercy upon all. O the depth of the riches and wisdom and knowledge of God! How unsearchable are his judgments and how inscrutable his ways! “For who has known the mind of the Lord\, or who has been his counselor?” “Or who has given a gift to him that he might be repaid?” For from him and through him and to him are all things. To him be glory for ever. Amen.\nGospel Reading: Matthew 12:1-8\nAt that time\, Jesus went through the grain fields on the sabbath; his disciples were hungry\, and they began to pluck heads of grain and to eat. But when the Pharisees saw it\, they said to him\, “Look\, your disciples are doing what is not lawful to do on the sabbath.” He said to them\, “Have you not read what David did\, when he was hungry\, and those who were with him: how he entered the house of God and ate the bread of the Presence\, which it was not lawful for him to eat nor for those who were with him\, but only for the priests? Or have you not read in the law how on the sabbath the priests in the temple profane the sabbath\, and are guiltless? I tell you\, something greater than the temple is here. And if you had known what this means\, ‘I desire mercy\, and not sacrifice\,’ you would not have condemned the guiltless. For the Son of man is lord of the sabbath.”
URL:https://2033.ad/event/andrew-of-crete-author-of-the-great-canon/
END:VEVENT
BEGIN:VEVENT
DTSTART;VALUE=DATE:20250704
DTEND;VALUE=DATE:20250705
DTSTAMP:20260422T105916
CREATED:20250309T164755Z
LAST-MODIFIED:20250309T164755Z
UID:26267-1751587200-1751673599@2033.ad
SUMMARY:Ανδρέας Κρήτης\, ο Υμνογράφος
DESCRIPTION:Άγιοι\, εορταί\, και Αναγνώσεις – Παρασκευή\, 4 Ιουλίου 2025\nΆγιοι και εορταί: Ανδρέας Κρήτης\, ο Υμνογράφος; Μάρθα\, Μητέρα του Συμεών του Στυλίτου; Ασκληπιάς η θαυματουργός; Μιχαήλ ο Χωνιάτης Αρχιεπίσκοπος Αθηνών\nΑυστηρή Νηστεία\nΑνάγνωσις Επιστολής: Ρωμ. 11:25-36\nΑδελφοί\, ου θέλω υμάς αγνοείν το μυστήριον τούτο\, ίνα μή ήτε παρʼ εαυτοίς φρόνιμοι\, ότι πώρωσις από μέρους τω Ισραήλ γέγονεν\, άχρι ού το πλήρωμα των εθνών εισέλθη· και ούτως πάς Ισραήλ σωθήσεται· καθώς γέγραπται\, Ήξει εκ Σιών ο ρυόμενος\, και αποστρέψει ασεβείας από Ιακώβ· και αύτη αυτοίς η παρʼ εμού διαθήκη\, όταν αφέλωμαι τάς αμαρτίας αυτών. Κατά μέν το ευαγγέλιον\, εχθροί διʼ υμάς· κατά δε την εκλογήν\, αγαπητοί διά τους πατέρας. 29 Αμεταμέλητα γαρ τα χαρίσματα και η κλήσις του θεού. Ώσπερ γαρ και υμείς ποτέ ηπειθήσατε τω θεώ\, νύν δε ηλεήθητε τη τούτων απειθεία· ούτως και ούτοι νύν ηπείθησαν\, τω υμετέρω ελέει ίνα και αυτοί ελεηθώσιν· συνέκλεισεν γαρ ο θεός τους πάντας εις απείθειαν\, ίνα τους πάντας ελεήση. Ώ βάθος πλούτου και σοφίας και γνώσεως θεού. Ως ανεξερεύνητα τα κρίματα αυτού\, και ανεξιχνίαστοι αι οδοί αυτού. Τις γαρ έγνω νούν κυρίου; Ή τις σύμβουλος αυτού εγένετο; Ή τις προέδωκεν αυτώ\, και ανταποδοθήσεται αυτώ; 36 Ότι εξ αυτού και διʼ αυτού και εις αυτόν τα πάντα· αυτώ η δόξα εις τους αιώνας. Αμήν.\nΑνάγνωσις Ευαγγελίου: Κατά Ματθαίον 12:1-8\nΤω καιρώ εκείνω\, επορεύθη ο ᾿Ιησούς τοις σάββασι διά των σπορίμων· οι δε μαθηταί αυτού επείνασαν\, και ήρξαντο τίλλειν στάχυας και εσθίειν. οι δε Φαρισαίοι ιδόντες είπον αυτώ· ιδού οι μαθηταί σου ποιούσιν ό ουκ έξεστι ποιείν εν σαββάτω. ο δε είπεν αυτοίς· ουκ ανέγνωτε τί εποίησε Δαυῒδ ότε επείνασεν αυτός και οι μετ᾿ αυτού; πώς εισήλθεν εις τον οίκον του Θεού και τους άρτους της προθέσεως έφαγεν\, ούς ουκ εξόν ήν αυτώ φαγείν ουδέ τοις μετ᾿ αυτού\, ει μή μόνοις τοις ιερεύσι; ή ουκ ανέγνωτε εν τω νόμω ότι τοις σάββασιν οι ιερείς εν τω ιερώ το σάββατον βεβηλούσι\, και αναίτιοί εισι; λέγω δε υμίν ότι του ιερού μείζόν εστιν ώδε. ει δε εγνώκειτε τί εστιν έλεον θέλω και ου θυσίαν\, ουκ άν κατεδικάσατε τους αναιτίους. κύριος γάρ εστιν ο υιός του ανθρώπου και του σαββάτου.
URL:https://2033.ad/event/%ce%b1%ce%bd%ce%b4%cf%81%ce%ad%ce%b1%cf%82-%ce%ba%cf%81%ce%ae%cf%84%ce%b7%cf%82-%ce%bf-%cf%85%ce%bc%ce%bd%ce%bf%ce%b3%cf%81%ce%ac%cf%86%ce%bf%cf%82/
END:VEVENT
BEGIN:VEVENT
DTSTART;TZID=America/New_York:20250704T100000
DTEND;TZID=America/New_York:20250704T160000
DTSTAMP:20260422T105916
CREATED:20250309T165825Z
LAST-MODIFIED:20250425T023752Z
UID:26654-1751623200-1751644800@2033.ad
SUMMARY:Church OFFICE Closed
DESCRIPTION:
URL:https://2033.ad/event/church-office-closed-2/
END:VEVENT
END:VCALENDAR