BEGIN:VCALENDAR
VERSION:2.0
PRODID:-//Holy Trinity Greek Orthodox Church - ECPv6.15.20//NONSGML v1.0//EN
CALSCALE:GREGORIAN
METHOD:PUBLISH
X-ORIGINAL-URL:https://2033.ad
X-WR-CALDESC:Events for Holy Trinity Greek Orthodox Church
REFRESH-INTERVAL;VALUE=DURATION:PT1H
X-Robots-Tag:noindex
X-PUBLISHED-TTL:PT1H
BEGIN:VTIMEZONE
TZID:UTC
BEGIN:STANDARD
TZOFFSETFROM:+0000
TZOFFSETTO:+0000
TZNAME:UTC
DTSTART:20240101T000000
END:STANDARD
END:VTIMEZONE
BEGIN:VEVENT
DTSTART;VALUE=DATE:20250628
DTEND;VALUE=DATE:20250629
DTSTAMP:20260422T090322
CREATED:20250309T164647Z
LAST-MODIFIED:20250309T164647Z
UID:26051-1751068800-1751155199@2033.ad
SUMMARY:Finding of the Relics of Cyrus and John the Unmercenaries
DESCRIPTION:Saints\, Feasts\, and Readings for 06/28/2025\nSaints and Feasts: Finding of the Relics of Cyrus and John the Unmercenaries; Sergios the Magister; Pappias the Martyr; Righteous Fathers Sergius and Herman\, Founders of Valaam Monastery; Synaxis of the Icon of our Most Holy Lady the Theotokos ; Paul the Physician of Corinth\nFast Day (Fish Allowed)\nEpistle Reading: Romans 3:28-31;4:1-3\nBrethren\, we hold that a man is justified by faith apart from works of law. Or is God the God of Jews only? Is he not the God of Gentiles also? Yes\, of Gentiles also\, since God is one; and he will justify the circumcised on the ground of their faith and the uncircumcised through their faith. Do we then overthrow the law by this faith? By no means! On the contrary\, we uphold the law. What then shall we say about Abraham\, our forefather according to the flesh? For if Abraham was justified by works\, he has something to boast about\, but not before God. For what does the scripture say? “Abraham believed God\, and it was reckoned to him as righteousness.”\nGospel Reading: Matthew 7:24-29; 8:1-4\nThe Lord said\, “Every one who hears these words of mine and does them will be like a wise man who built his house upon the rock; and the rain fell\, and the floods came\, and the winds blew and beat upon that house\, but it did not fall\, because it had been founded on the rock. And every one who hears these words of mine and does not do them will be like a foolish man who built his house upon the sand; and the rain fell\, and the floods came\, and the winds blew and beat against that house\, and it fell; and great was the fall of it.” And when Jesus finished these sayings\, the crowds were astonished at his teaching\, for he taught them as one who had authority\, and not as their scribes. When he came down from the mountain\, great crowds followed him; and behold\, a leper came to him and knelt before him saying\, “Lord\, if you will\, you can make me clean.” And he stretched out his hand and touched him\, saying\, “I will; be clean.” And immediately his leprosy was cleansed. And Jesus said to him\, “See that you say nothing to any one; but go\, show yourself to the priest\, and offer the gift that Moses commanded\, for a proof to them.”
URL:https://2033.ad/event/finding-of-the-relics-of-cyrus-and-john-the-unmercenaries/
END:VEVENT
BEGIN:VEVENT
DTSTART;VALUE=DATE:20250628
DTEND;VALUE=DATE:20250629
DTSTAMP:20260422T090322
CREATED:20250309T164754Z
LAST-MODIFIED:20250309T164754Z
UID:26259-1751068800-1751155199@2033.ad
SUMMARY:Ανακομιδή Λειψάνων Κύρου και Ιωάννου Αναργύρων
DESCRIPTION:Άγιοι\, εορταί\, και Αναγνώσεις – Σάββατο\, 28 Ιουνίου 2025\nΆγιοι και εορταί: Ανακομιδή Λειψάνων Κύρου και Ιωάννου Αναργύρων; Σέργιος ο μάγιστρος; Άγιος Μάρτυς Παππίας; Γερμανού και Σεργίου των Ρώσων; Σύναξις του εικόνος της Παναγίας δεσποίνης Θεοτόκου ; Παύλου του ιατρού\nΗμέρα Νηστείας (Κατάλυσις ιχθύος\, ελαίου και οίνου)\nΑνάγνωσις Επιστολής: Ρωμ. 3:28-31\, 4:1-3\nΑδελφοί\, λογιζόμεθα ούν πίστει δικαιούσθαι άνθρωπον\, χωρίς έργων νόμου. Ή Ιουδαίων ο θεός μόνον; Ουχί δε και εθνών; Ναί και εθνών· επείπερ εις ο θεός\, ός δικαιώσει περιτομήν εκ πίστεως\, και ακροβυστίαν διά της πίστεως. Νόμον ούν καταργούμεν διά της πίστεως; Μή γένοιτο· αλλά νόμον ιστώμεν. Τί ούν ερούμεν Αβραάμ τον πατέρα ημών ευρηκέναι κατά σάρκα; Ει γαρ Αβραάμ εξ έργων εδικαιώθη\, έχει καύχημα\, αλλʼ ου πρός τον θεόν. Τί γαρ η γραφή λέγει; Επίστευσεν δε Αβραάμ τω θεώ\, και ελογίσθη αυτώ εις δικαιοσύνην.\nΑνάγνωσις Ευαγγελίου: Κατά Ματθαίον 7:24-29\, 8:1-4\nΕίπεν ο Κυριος τοις εαυτού μαθηταίς· Πάς ούν όστις ακούει μου τους λόγους τούτους και ποιεί αυτούς\, ομοιώσω αυτόν ανδρί φρονίμω\, όστις ᾠκοδόμησε την οικίαν αυτού επί την πέτραν· και κατέβη η βροχή και ήλθον οι ποταμοί και έπνευσαν οι άνεμοι και προσέπεσον τη οικία εκείνη\, και ουκ έπεσε· τεθεμελίωτο γαρ επί την πέτραν. και πάς ο ακούων μου τους λόγους τούτους και μή ποιών αυτούς ομοιωθήσεται ανδρί μωρώ\, όστις ᾠκοδόμησε την οικίαν αυτού επί την άμμον· και κατέβη η βροχή και ήλθον οι ποταμοί και έπνευσαν οι άνεμοι και προσέκοψαν τη οικία εκείνη\, και έπεσε\, και ήν η πτώσις αυτής μεγάλη. Και εγένετο ότε συνετέλεσεν ο ᾿Ιησούς τους λόγους τούτους\, εξεπλήσσοντο οι όχλοι επί τη διδαχή αυτού· ήν γαρ διδάσκων αυτούς ως εξουσίαν έχων\, και ουχ ως οι γραμματείς. Καταβάντι δε αυτώ από του όρους ηκολούθησαν αυτώ όχλοι πολλοί. Και ιδού λεπρός ελθών προσεκύνει αυτώ λέγων· Κύριε\, εάν θέλης\, δύνασαί με καθαρίσαι. και εκτείνας την χείρα ήψατο αυτού ο ᾿Ιησούς λέγων· θέλω\, καθαρίσθητι. και ευθέως εκαθαρίσθη αυτού η λέπρα. και λέγει αυτώ ο ᾿Ιησούς· όρα μηδενί είπης\, αλλά ύπαγε σεαυτόν δείξον τω ιερεί και προσένεγκε το δώρον ό προσέταξε Μωσής εις μαρτύριον αυτοίς.
URL:https://2033.ad/event/%ce%b1%ce%bd%ce%b1%ce%ba%ce%bf%ce%bc%ce%b9%ce%b4%ce%ae-%ce%bb%ce%b5%ce%b9%cf%88%ce%ac%ce%bd%cf%89%ce%bd-%ce%ba%cf%8d%cf%81%ce%bf%cf%85-%ce%ba%ce%b1%ce%b9-%ce%b9%cf%89%ce%ac%ce%bd%ce%bd%ce%bf%cf%85/
END:VEVENT
END:VCALENDAR