BEGIN:VCALENDAR
VERSION:2.0
PRODID:-//Holy Trinity Greek Orthodox Church - ECPv6.15.20//NONSGML v1.0//EN
CALSCALE:GREGORIAN
METHOD:PUBLISH
X-WR-CALNAME:Holy Trinity Greek Orthodox Church
X-ORIGINAL-URL:https://2033.ad
X-WR-CALDESC:Events for Holy Trinity Greek Orthodox Church
REFRESH-INTERVAL;VALUE=DURATION:PT1H
X-Robots-Tag:noindex
X-PUBLISHED-TTL:PT1H
BEGIN:VTIMEZONE
TZID:UTC
BEGIN:STANDARD
TZOFFSETFROM:+0000
TZOFFSETTO:+0000
TZNAME:UTC
DTSTART:20240101T000000
END:STANDARD
END:VTIMEZONE
BEGIN:VTIMEZONE
TZID:America/New_York
BEGIN:DAYLIGHT
TZOFFSETFROM:-0500
TZOFFSETTO:-0400
TZNAME:EDT
DTSTART:20240310T070000
END:DAYLIGHT
BEGIN:STANDARD
TZOFFSETFROM:-0400
TZOFFSETTO:-0500
TZNAME:EST
DTSTART:20241103T060000
END:STANDARD
BEGIN:DAYLIGHT
TZOFFSETFROM:-0500
TZOFFSETTO:-0400
TZNAME:EDT
DTSTART:20250309T070000
END:DAYLIGHT
BEGIN:STANDARD
TZOFFSETFROM:-0400
TZOFFSETTO:-0500
TZNAME:EST
DTSTART:20251102T060000
END:STANDARD
BEGIN:DAYLIGHT
TZOFFSETFROM:-0500
TZOFFSETTO:-0400
TZNAME:EDT
DTSTART:20260308T070000
END:DAYLIGHT
BEGIN:STANDARD
TZOFFSETFROM:-0400
TZOFFSETTO:-0500
TZNAME:EST
DTSTART:20261101T060000
END:STANDARD
END:VTIMEZONE
BEGIN:VEVENT
DTSTART;VALUE=DATE:20250625
DTEND;VALUE=DATE:20250626
DTSTAMP:20260422T103737
CREATED:20250309T164647Z
LAST-MODIFIED:20250309T164647Z
UID:26050-1750809600-1750895999@2033.ad
SUMMARY:Leavetaking of the Nativity of the Forerunner John the Baptist
DESCRIPTION:Saints\, Feasts\, and Readings for 06/25/2025\nSaints and Feasts: Leavetaking of the Nativity of the Forerunner John the Baptist; The Righteous Martyr Febronia; Methodius of Nevritos; Prokopios the New Martyr; Dionysius & Dometios the Righteous of Mount Athos; Orentios\, Pharmakios\, Eros\, Phirmos\, Phirminos\, Kyriakos\, and Longinos the Martyrs and Brothers\nStrict Fast\nEpistle Reading: Romans 8:2-13\nBrethren\, the law of the Spirit of life in Christ Jesus has set me free from the law of sin and death. For God has done what the law\, weakened by the flesh\, could not do: sending his own Son in the likeness of sinful flesh and for sin\, he condemned sin in the flesh\, in order that the just requirement of the law might be fulfilled in us\, who walk not according to the flesh but according to the Spirit. For those who live according to the flesh set their minds on the things of the flesh\, but those who live according to the Spirit set their minds on the things of the Spirit. To set the mind on the flesh is death\, but to set the mind on the Spirit is life and peace. For the mind that is set on the flesh is hostile to God; it does not submit to God’s law\, indeed it cannot; and those who are in the flesh cannot please God.\nBut you are not in the flesh\, you are in the Spirit\, if in fact the Spirit of God dwells in you. Any one who does not have the Spirit of Christ does not belong to him. But if Christ is in you\, although your bodies are dead because of sin\, your spirits are alive because of righteousness. If the Spirit of him who raised Jesus from the dead dwells in you\, he who raised Christ Jesus from the dead will give life to your mortal bodies also through his Spirit which dwells in you.\nSo then\, brethren\, we are debtors\, not to the flesh\, to live according to the flesh-for if you live according to the flesh you will die\, but if by the Spirit you put to death the deeds of the body you will live.\nGospel Reading: Matthew 10:16-22\nThe Lord said to his disciples\, “Behold\, I send you out as sheep in the midst of wolves; so be wise as serpents and innocent as doves. Beware of men; for they will deliver you up to councils\, and flog you in their synagogues\, and you will be dragged before governors and kings for my sake\, to bear testimony before them and the Gentiles. When they deliver you up\, do not be anxious how you are to speak or what you are to say; for what you are to say will be given to you in that hour; for it is not you who speak\, but the Spirit of your Father speaking through you. Brother will deliver up brother to death\, and the father his child\, and children will rise against parents and have them put to death; and you will be hated by all for my name’s sake. But he who endures to the end will be saved.”
URL:https://2033.ad/event/leavetaking-of-the-nativity-of-the-forerunner-john-the-baptist/
END:VEVENT
BEGIN:VEVENT
DTSTART;VALUE=DATE:20250625
DTEND;VALUE=DATE:20250626
DTSTAMP:20260422T103737
CREATED:20250309T164753Z
LAST-MODIFIED:20250309T164753Z
UID:26258-1750809600-1750895999@2033.ad
SUMMARY:Απόδοσις της εορτής του Προδρόμου
DESCRIPTION:Άγιοι\, εορταί\, και Αναγνώσεις – Τετάρτη\, 25 Ιουνίου 2025\nΆγιοι και εορταί: Απόδοσις της εορτής του Προδρόμου; Οσία Φευρωνία\, Μάρτυς; Μεθόδιος ο εν Νηβρύτω; Προκόπιος ο Νέος; Διονήσιος και Δομέτιος; Ορέντιος\, Φαρμάκιος\, Έρως\, Φίρμος\, Φιρμίνος\, Κυριακός και Λογγίνος οι Μάρτυρες\nΑυστηρή Νηστεία\nΑνάγνωσις Επιστολής: Ρωμ. 8:2-13\nΑδελφοί\, ο νόμος του πνεύματος της ζωής εν Χριστώ Ιησού ηλευθέρωσέν με από του νόμου της αμαρτίας και του θανάτου. Το γαρ αδύνατον του νόμου\, εν ώ ησθένει διά της σαρκός\, ο θεός τον εαυτού υιόν πέμψας εν ομοιώματι σαρκός αμαρτίας και περί αμαρτίας κατέκρινεν την αμαρτίαν εν τη σαρκί· ίνα το δικαίωμα του νόμου πληρωθή εν ημίν\, τοις μή κατά σάρκα περιπατούσιν\, αλλά κατά πνεύμα. Οι γαρ κατά σάρκα όντες τα της σαρκός φρονούσιν· οι δε κατά πνεύμα τα του πνεύματος. Το γαρ φρόνημα της σαρκός θάνατος· το δε φρόνημα του πνεύματος ζωή και ειρήνη· διότι το φρόνημα της σαρκός έχθρα εις θεόν\, τω γαρ νόμω του θεού ουχ υποτάσσεται\, ουδέ γαρ δύναται· οι δε εν σαρκί όντες θεώ αρέσαι ου δύνανται. Υμείς δε ουκ εστέ εν σαρκί\, αλλʼ εν πνεύματι\, είπερ πνεύμα θεού οικεί εν υμίν. Ει δε τις πνεύμα Χριστού ουκ έχει\, ούτος ουκ έστιν αυτού. Ει δε Χριστός εν υμίν\, το μέν σώμα νεκρόν διά αμαρτίαν\, το δε πνεύμα ζωή διά δικαιοσύνην. Ει δε το πνεύμα του εγείραντος Ιησούν εκ νεκρών οικεί εν υμίν\, ο εγείρας τον Χριστόν εκ νεκρών ζωοποιήσει και τα θνητά σώματα υμών\, διά το ενοικούν αυτού πνεύμα εν υμίν. Άρα ούν\, αδελφοί\, οφειλέται εσμέν\, ου τη σαρκί\, του κατά σάρκα ζήν· ει γαρ κατά σάρκα ζήτε\, μέλλετε αποθνῄσκειν· ει δε πνεύματι τάς πράξεις του σώματος θανατούτε\, ζήσεσθε.\nΑνάγνωσις Ευαγγελίου: Κατά Ματθαίον 10:16-22\nΕίπεν ο Κυριος τοις εαυτού μαθηταίς· ᾿Ιδού εγώ αποστέλλω υμάς ως πρόβατα εν μέσω λύκων· γίνεσθε ούν φρόνιμοι ως οι όφεις και ακέραιοι ως αι περιστεραί. Προσέχετε δε από των ανθρώπων· παραδώσουσι γαρ υμάς εις συνέδρια και εν ταις συναγωγαίς αυτών μαστιγώσουσιν υμάς· καί επί ηγεμόνας δε και βασιλείς αχθήσεσθε ένεκεν εμού εις μαρτύριον αυτοίς και τοις έθνεσιν. όταν δε παραδώσουσιν υμάς\, μή μεριμνήσητε πώς ή τί λαλήσετε· δοθήσεται γαρ υμίν εν εκείνη τη ώρα τί λαλήσετε. ου γαρ υμείς εστε οι λαλούντες\, αλλά το Πνεύμα του πατρός υμών το λαλούν εν υμίν. Παραδώσει δε αδελφός αδελφόν εις θάνατον και πατήρ τέκνον\, και επαναστήσονται τέκνα επί γονείς και θανατώσουσιν αυτούς· καί έσεσθε μισούμενοι υπό πάντων διά το όνομά μου· ο δε υπομείνας εις τέλος\, ούτος σωθήσεται.
URL:https://2033.ad/event/%ce%b1%cf%80%cf%8c%ce%b4%ce%bf%cf%83%ce%b9%cf%82-%cf%84%ce%b7%cf%82-%ce%b5%ce%bf%cf%81%cf%84%ce%ae%cf%82-%cf%84%ce%bf%cf%85-%cf%80%cf%81%ce%bf%ce%b4%cf%81%cf%8c%ce%bc%ce%bf%cf%85/
END:VEVENT
BEGIN:VEVENT
DTSTART;TZID=America/New_York:20250625T170000
DTEND;TZID=America/New_York:20250625T193000
DTSTAMP:20260422T103737
CREATED:20250309T165820Z
LAST-MODIFIED:20250425T023746Z
UID:26625-1750870800-1750879800@2033.ad
SUMMARY:Adult Basketball
DESCRIPTION:Contact Mark Lagos for details:  mark@pinellasautobody.com
URL:https://2033.ad/event/adult-basketball-15/
LOCATION:Gym
END:VEVENT
BEGIN:VEVENT
DTSTART;TZID=America/New_York:20250625T183000
DTEND;TZID=America/New_York:20250625T193000
DTSTAMP:20260422T103737
CREATED:20250309T165820Z
LAST-MODIFIED:20250425T023746Z
UID:26627-1750876200-1750879800@2033.ad
SUMMARY:Walking Through our Spiritual Home
DESCRIPTION:
URL:https://2033.ad/event/walking-through-our-spiritual-home-3/
END:VEVENT
END:VCALENDAR