BEGIN:VCALENDAR
VERSION:2.0
PRODID:-//Holy Trinity Greek Orthodox Church - ECPv6.15.20//NONSGML v1.0//EN
CALSCALE:GREGORIAN
METHOD:PUBLISH
X-ORIGINAL-URL:https://2033.ad
X-WR-CALDESC:Events for Holy Trinity Greek Orthodox Church
REFRESH-INTERVAL;VALUE=DURATION:PT1H
X-Robots-Tag:noindex
X-PUBLISHED-TTL:PT1H
BEGIN:VTIMEZONE
TZID:UTC
BEGIN:STANDARD
TZOFFSETFROM:+0000
TZOFFSETTO:+0000
TZNAME:UTC
DTSTART:20240101T000000
END:STANDARD
END:VTIMEZONE
BEGIN:VEVENT
DTSTART;VALUE=DATE:20250621
DTEND;VALUE=DATE:20250622
DTSTAMP:20260422T104021
CREATED:20250309T164646Z
LAST-MODIFIED:20250309T164646Z
UID:26046-1750464000-1750550399@2033.ad
SUMMARY:Julian the Martyr of Tarsus
DESCRIPTION:Saints\, Feasts\, and Readings for 06/21/2025\nSaints and Feasts: Julian the Martyr of Tarsus; Terentios\, Bishop of Iconium; Nikitas the New Martyr of Nisyros\nFast Day (Fish Allowed)\nEpistle Reading: Romans 3:19-24\nBrethren\, we know that whatever the law says it speaks to those who are under the law\, so that every mouth may be stopped\, and the whole world may be held accountable to God. For no human being will be justified in his sight by works of the law\, since through the law comes knowledge of sin. But now the righteousness of God has been manifested apart from law\, although the law and the prophets bear witness to it\, the righteousness of God through faith in Jesus Christ for all who believe. For there is no distinction; since all have sinned and fall short of the glory of God\, they are justified by his grace as a gift\, through the redemption which is in Christ Jesus.\nGospel Reading: Matthew 7:1-8\nThe Lord said\, “Judge not\, that you be not judged. For with the judgment you pronounce you will be judged\, and the measure you give will be the measure you get. Why do you see the speck that is in your brother’s eye\, but do not notice the log that is in your own eye? Or how can you say to your brother\, ‘Let me take the speck out of your eye\,’ when there is the log in your own eye? You hypocrite\, first take the log out of your own eye\, and then you will see clearly to take the speck out of your brother’s eye. Do not give dogs what is holy; and do not throw your pearls before swine\, lest they trample them under foot and turn to attack you. Ask\, and it will be given you; seek\, and you will find; knock\, and it will be opened to you. For every one who asks receives\, and he who seeks finds\, and to him who knocks it will be opened.
URL:https://2033.ad/event/julian-the-martyr-of-tarsus/
END:VEVENT
BEGIN:VEVENT
DTSTART;VALUE=DATE:20250621
DTEND;VALUE=DATE:20250622
DTSTAMP:20260422T104021
CREATED:20250309T164753Z
LAST-MODIFIED:20250309T164753Z
UID:26254-1750464000-1750550399@2033.ad
SUMMARY:Ιουλιανός Μάρτυς
DESCRIPTION:Άγιοι\, εορταί\, και Αναγνώσεις – Σάββατο\, 21 Ιουνίου 2025\nΆγιοι και εορταί: Ιουλιανός Μάρτυς; Τερέντιος\, Ιερομάρτυς Ικονίου; Νεομαρτύρος Νικήτα του Νισυρίου\nΗμέρα Νηστείας (Κατάλυσις ιχθύος\, ελαίου και οίνου)\nΑνάγνωσις Επιστολής: Ρωμ. 3:19-24\nΑδελφοί\, οίδαμεν δε ότι όσα ο νόμος λέγει\, τοις εν τω νόμω λαλεί\, ίνα πάν στόμα φραγή\, και υπόδικος γένηται πάς ο κόσμος τω θεώ· διότι εξ έργων νόμου ου δικαιωθήσεται πάσα σάρξ ενώπιον αυτού· διά γαρ νόμου επίγνωσις αμαρτίας. Νυνί δε χωρίς νόμου δικαιοσύνη θεού πεφανέρωται\, μαρτυρουμένη υπό του νόμου και των προφητών· δικαιοσύνη δε θεού διά πίστεως Ιησού Χριστού εις πάντας και επί πάντας τους πιστεύοντας· ου γαρ εστιν διαστολή· πάντες γαρ ήμαρτον και υστερούνται της δόξης του θεού\, δικαιούμενοι δωρεάν τη αυτού χάριτι διά της απολυτρώσεως της εν Χριστώ Ιησού.\nΑνάγνωσις Ευαγγελίου: Κατά Ματθαίον  7:1-8\nΕίπεν ο Κύριος· Μή κρίνετε\, ίνα μή κριθήτε· εν ώ γαρ κρίματι κρίνετε κριθήσεσθε\, και εν ώ μέτρω μετρείτε μετρηθήσεται υμίν. τί δε βλέπεις το κάρφος το εν τω οφθαλμώ του αδελφού σου\, την δε εν τω σώ οφθαλμώ δοκόν ου κατανοείς; ή πώς ερείς τω αδελφώ σου\, άφες εκβάλω το κάρφος από του οφθαλμού σου\, και ιδού η δοκός εν τω οφθαλμώ σου; υποκριτά\, έκβαλε πρώτον την δοκόν εκ του οφθαλμού σου\, και τότε διαβλέψεις εκβαλείν το κάρφος εκ του οφθαλμού του αδελφού σου. Μή δώτε το άγιον τοις κυσί μηδέ βάλητε τους μαργαρίτας υμών έμπροσθεν των χοίρων\, μήποτε καταπατήσωσιν αυτούς εν τοις ποσίν αυτών και στραφέντες ρήξωσιν υμάς. Αιτείτε\, και δοθήσεται υμίν\, ζητείτε\, και ευρήσετε\, κρούετε\, και ανοιγήσεται υμίν· πάς γαρ ο αιτών λαμβάνει και ο ζητών ευρίσκει και τω κρούοντι ανοιγήσεται.
URL:https://2033.ad/event/%ce%b9%ce%bf%cf%85%ce%bb%ce%b9%ce%b1%ce%bd%cf%8c%cf%82-%ce%bc%ce%ac%cf%81%cf%84%cf%85%cf%82/
END:VEVENT
END:VCALENDAR