BEGIN:VCALENDAR
VERSION:2.0
PRODID:-//Holy Trinity Greek Orthodox Church - ECPv6.15.20//NONSGML v1.0//EN
CALSCALE:GREGORIAN
METHOD:PUBLISH
X-WR-CALNAME:Holy Trinity Greek Orthodox Church
X-ORIGINAL-URL:https://2033.ad
X-WR-CALDESC:Events for Holy Trinity Greek Orthodox Church
REFRESH-INTERVAL;VALUE=DURATION:PT1H
X-Robots-Tag:noindex
X-PUBLISHED-TTL:PT1H
BEGIN:VTIMEZONE
TZID:UTC
BEGIN:STANDARD
TZOFFSETFROM:+0000
TZOFFSETTO:+0000
TZNAME:UTC
DTSTART:20240101T000000
END:STANDARD
END:VTIMEZONE
BEGIN:VEVENT
DTSTART;VALUE=DATE:20250620
DTEND;VALUE=DATE:20250621
DTSTAMP:20260422T103742
CREATED:20250309T164646Z
LAST-MODIFIED:20250309T164646Z
UID:26045-1750377600-1750463999@2033.ad
SUMMARY:Methodios the Martyr\, Bishop of Olympus
DESCRIPTION:Saints\, Feasts\, and Readings for 06/20/2025\nSaints and Feasts: Methodios the Martyr\, Bishop of Olympus; Kallistos I\, Patriarch of Constantinople; Nicholas Cabasilas of Thessaloniki\nStrict Fast\nEpistle Reading: Romans 5:17-21; 6:1-2\nBrethren\, if\, because of one man’s trespass\, death reigned through that one man\, much more will those who receive the abundance of grace and the free gift of righteousness reign in life through the one man Jesus Christ.\nThen as one man’s trespass led to condemnation for all men\, so one man’s act of righteousness leads to acquittal and life for all men. For as by one man’s disobedience many were made sinners\, so by one man’s obedience many will be made righteous. Law came in\, to increase the trespass; but where sin increased\, grace abounded all the more\, so that\, as sin reigned in death\, grace also might reign through righteousness to eternal life through Jesus Christ our Lord.\nWhat shall we say then? Are we to continue in sin that grace may abound? By no means! How can we who died to sin still live in it?\nGospel Reading: Matthew 9:14-17\nAt that time\, the disciples of John came to Jesus\, saying\, “Why do we and the Pharisees fast\, but your disciples do not fast?” And Jesus said to them\, “Can the wedding guests mourn as long as the bridegroom is with them? The days will come\, when the bridegroom is taken away from them\, and then they will fast. And no one puts a piece of unshrunk cloth on an old garment\, for the patch tears away from the garment\, and a worse tear is made. Neither is new wine put into old wineskins; if it is\, the skins burst\, and the wine is spilled\, and the skins are destroyed; but new wine is put into fresh wineskins\, and so both are preserved.”
URL:https://2033.ad/event/methodios-the-martyr-bishop-of-olympus/
END:VEVENT
BEGIN:VEVENT
DTSTART;VALUE=DATE:20250620
DTEND;VALUE=DATE:20250621
DTSTAMP:20260422T103742
CREATED:20250309T164753Z
LAST-MODIFIED:20250309T164753Z
UID:26253-1750377600-1750463999@2033.ad
SUMMARY:Μεθόδιος\, Ιερομάρτυς
DESCRIPTION:Άγιοι\, εορταί\, και Αναγνώσεις – Παρασκευή\, 20 Ιουνίου 2025\nΆγιοι και εορταί: Μεθόδιος\, Ιερομάρτυς; Κάλλιστος Ι. Πατριάρχης Κωνσταντινουπόλεως; Νικολάου Καβάσιλα του Θεσσαλονικέως\nΑυστηρή Νηστεία\nΑνάγνωσις Επιστολής: Ρωμ. 5:17-21\, 6:1-2\nΑδελφοί\, ει τω του ενός παραπτώματι ο θάνατος εβασίλευσεν διά του ενός\, πολλώ μάλλον οι την περισσείαν της χάριτος και της δωρεάς της δικαιοσύνης λαμβάνοντες εν ζωή βασιλεύσουσιν διά του ενός Ιησού Χριστού. Άρα ούν ως διʼ ενός παραπτώματος εις πάντας ανθρώπους εις κατάκριμα\, ούτως και διʼ ενός δικαιώματος εις πάντας ανθρώπους εις δικαίωσιν ζωής. Ώσπερ γαρ διά της παρακοής του ενός ανθρώπου αμαρτωλοί κατεστάθησαν οι πολλοί\, ούτως και διά της υπακοής του ενός δίκαιοι κατασταθήσονται οι πολλοί. Νόμος δε παρεισήλθεν\, ίνα πλεονάση το παράπτωμα· ού δε επλεόνασεν η αμαρτία\, υπερεπερίσσευσεν η χάρις· ίνα ώσπερ εβασίλευσεν η αμαρτία εν τω θανάτω\, ούτως και η χάρις βασιλεύση διά δικαιοσύνης εις ζωήν αιώνιον\, διά Ιησού Χριστού του κυρίου ημών. Τί ούν ερούμεν; Επιμένομεν τη αμαρτία\, ίνα η χάρις πλεονάση; Μή γένοιτο. Οίτινες απεθάνομεν τη αμαρτία\, πώς έτι ζήσομεν εν αυτή;\nΑνάγνωσις Ευαγγελίου: Κατά Ματθαίον  9:14-17\nΤω καιρώ εκείνω\, προσέρχονται αυτώ οι μαθηταί ᾿Ιωάννου λέγοντες· διατί ημείς και οι Φαρισαίοι νηστεύομεν πολλά\, οι δε μαθηταί σου ου νηστεύουσι; καί είπεν αυτοίς ο ᾿Ιησούς· μή δύνανται οι υιοί του νυμφώνος πενθείν εφ᾿ όσον χρόνον μετ᾿ αυτών εστιν ο νυμφίος; ελεύσονται δε ημέραι όταν απαρθή απ᾿ αυτών ο νυμφίος\, και τότε νηστεύσουσιν. ουδείς δε επιβάλλει επίβλημα ράκους αγνάφου επί ιματίω παλαιώ· αίρει γαρ το πλήρωμα αυτού από του ιματίου\, και χείρον σχίσμα γίνεται. ουδέ βάλλουσιν οίνον νέον εις ασκούς παλαιούς· ει δε μήγε\, ρήγνυνται οι ασκοί\, και ο οίνος εκχείται και οι ασκοί απολούνται· αλλά οίνον νέον εις ασκούς βάλλουσιν καινούς\, και αμφότεροι συντηρούνται.
URL:https://2033.ad/event/%ce%bc%ce%b5%ce%b8%cf%8c%ce%b4%ce%b9%ce%bf%cf%82-%ce%b9%ce%b5%cf%81%ce%bf%ce%bc%ce%ac%cf%81%cf%84%cf%85%cf%82/
END:VEVENT
END:VCALENDAR