BEGIN:VCALENDAR
VERSION:2.0
PRODID:-//Holy Trinity Greek Orthodox Church - ECPv6.15.20//NONSGML v1.0//EN
CALSCALE:GREGORIAN
METHOD:PUBLISH
X-WR-CALNAME:Holy Trinity Greek Orthodox Church
X-ORIGINAL-URL:https://2033.ad
X-WR-CALDESC:Events for Holy Trinity Greek Orthodox Church
REFRESH-INTERVAL;VALUE=DURATION:PT1H
X-Robots-Tag:noindex
X-PUBLISHED-TTL:PT1H
BEGIN:VTIMEZONE
TZID:UTC
BEGIN:STANDARD
TZOFFSETFROM:+0000
TZOFFSETTO:+0000
TZNAME:UTC
DTSTART:20240101T000000
END:STANDARD
END:VTIMEZONE
BEGIN:VTIMEZONE
TZID:America/New_York
BEGIN:DAYLIGHT
TZOFFSETFROM:-0500
TZOFFSETTO:-0400
TZNAME:EDT
DTSTART:20240310T070000
END:DAYLIGHT
BEGIN:STANDARD
TZOFFSETFROM:-0400
TZOFFSETTO:-0500
TZNAME:EST
DTSTART:20241103T060000
END:STANDARD
BEGIN:DAYLIGHT
TZOFFSETFROM:-0500
TZOFFSETTO:-0400
TZNAME:EDT
DTSTART:20250309T070000
END:DAYLIGHT
BEGIN:STANDARD
TZOFFSETFROM:-0400
TZOFFSETTO:-0500
TZNAME:EST
DTSTART:20251102T060000
END:STANDARD
BEGIN:DAYLIGHT
TZOFFSETFROM:-0500
TZOFFSETTO:-0400
TZNAME:EDT
DTSTART:20260308T070000
END:DAYLIGHT
BEGIN:STANDARD
TZOFFSETFROM:-0400
TZOFFSETTO:-0500
TZNAME:EST
DTSTART:20261101T060000
END:STANDARD
END:VTIMEZONE
BEGIN:VEVENT
DTSTART;VALUE=DATE:20250619
DTEND;VALUE=DATE:20250620
DTSTAMP:20260422T103744
CREATED:20250309T164646Z
LAST-MODIFIED:20250309T164646Z
UID:26044-1750291200-1750377599@2033.ad
SUMMARY:Thaddeus (Jude) the Apostle & Brother of Our Lord
DESCRIPTION:Saints\, Feasts\, and Readings for 06/19/2025\nSaints and Feasts: Thaddeus (Jude) the Apostle & Brother of Our Lord; Holy Martyr Zosima; Our Righteous Father Zenonus; Paisius the Great of Egypt\nFast Day (Fish Allowed)\nEpistle Reading: Jude 1:1-25\nJUDE\, a servant of Jesus Christ\, and brother of James\, To those who are called\, beloved in God the Father and kept for Jesus Christ: May mercy\, peace\, and love be multiplied to you. Beloved\, being very eager to write to you of our common salvation\, I found it necessary to write appealing to you to contend for the faith which was once for all delivered to the saints. For admission has been secretly gained by some who long ago were designated for this condemnation\, ungodly persons who pervert the grace of our God into licentiousness and deny the only Master and our Lord Jesus Christ. Now I desire to remind you\, though you were once for all fully informed\, that the Lord saved a people out of the land of Egypt\, afterward destroyed those who did not believe. And the angels that did not keep their own position but left their proper dwelling have been kept by him in eternal chains in the nether gloom until the judgment of the great day; just as Sodom and Gomorrah and the surrounding cities\, which likewise acted immorally and indulged in unnatural lust\, serve as an example by undergoing a punishment of eternal fire. Yet in like manner these men in their dreamings defile the flesh\, reject authority\, and revile the glorious ones. But when the archangel Michael\, contending with the devil\, disputed about the body of Moses\, he did not presume to pronounce a reviling judgment upon him\, but said\, “The Lord rebuke you.” But these men revile whatever they do not understand\, and by those things that they know by instinct as irrational animals\, they are destroyed. Woe to the ungodly\, for they walk in the way of Cain\, and abandon themselves for the sake of gain to Balaam’s error\, and perish in Korah’s rebellion. These are blemishes on your love feasts\, as they boldly carouse together\, looking after themselves; waterless clouds\, carried along by winds; fruitless trees in late autumn\, twice dead\, uprooted; wild waves of the sea\, casting up the foam of their own shame; wandering stars for whom the nether gloom of darkness has been reserved for ever. It was of these also that Enoch in the seventh generation from Adam prophesied\, saying\, “Behold\, the Lord came with his holy myriads\, to execute judgment on all\, and to convict all the ungodly of all their deeds of ungodliness which they have committed in such an ungodly way\, and of all the harsh things which ungodly sinners have spoken against him.” These are grumblers\, malcontents\, following their own passions\, loud-mouthed boasters\, flattering people to gain advantage. But you must remember\, beloved\, the predictions of the apostles of our Lord Jesus Christ; they said to you\, “in the last time there will be scoffers\, following their own ungodly passions.” It is these who set up divisions\, worldly people\, devoid of the Spirit. But you\, beloved\, build yourselves up on your most holy faith; pray in the Holy Spirit; keep yourselves in the love of God; wait for the mercy of our Lord Jesus Christ unto eternal life. And convince some\, who doubt; save some\, by snatching them out of the fire; on some have mercy with fear\, hating even the garment spotted by the flesh. Now to him who is able to keep you from falling and to present you without blemish before the presence of his glory with rejoicing\, to the only God\, our Savior through Jesus Christ our Lord\, be glory\, majesty\, dominion\, and authority\, before all time and now and for ever. Amen.\nGospel Reading: John 14:21-24\nThe Lord said to his disciples\, “He who has my commandments and keeps them\,  he it is who loves me; and he who loves me will be loved by my Father\,  and I will love him and manifest myself to him.” Judas (not Iscariot)  said to him\, “Lord\, how is it that you will manifest yourself to us\, and  not to the world?” Jesus answered him\, “If a man loves me\, he will keep  my word\, and my Father will love him\, and we will come to him and make  our home with him. He who does not love me does not keep my words; and  the word which you hear is not mine but the Father’s who sent me.”
URL:https://2033.ad/event/thaddeus-jude-the-apostle-brother-of-our-lord/
END:VEVENT
BEGIN:VEVENT
DTSTART;VALUE=DATE:20250619
DTEND;VALUE=DATE:20250620
DTSTAMP:20260422T103744
CREATED:20250309T164752Z
LAST-MODIFIED:20250309T164752Z
UID:26252-1750291200-1750377599@2033.ad
SUMMARY:Ιούδας Απόστολος
DESCRIPTION:Άγιοι\, εορταί\, και Αναγνώσεις – Πέμπτη\, 19 Ιουνίου 2025\nΆγιοι και εορταί: Ιούδας Απόστολος; Μάρτυς Ζώσιμος; ‘Οσιος Ζήνωνος; Οσίου Παϊσίου του Μεγάλου\nΗμέρα Νηστείας (Κατάλυσις ιχθύος\, ελαίου και οίνου)\nΑνάγνωσις Επιστολής: Ιούδα 1:1-25\n᾿ Ιούδας\, ᾿ Ιησού   Χριστού   δούλος\, αδελφός   δε ᾿ Ιακώβου\,  τοις εν   Θεώ πατρί   ηγιασμένοις   και ᾿ Ιησού   Χριστώ   τετηρημένοις   κλητοίς·     έλεος   υμίν   και ειρήνη   και αγάπη   πληθυνθείη.   ᾿   Αγαπητοί\,   πάσαν σπουδήν   ποιούμενος   γράφειν   υμίν περί   της κοινής   σωτηρίας\,   ανάγκην   έσχον γράψαι   υμίν παρακαλών   επαγωνίζεσθαι   τη άπαξ   παραδοθείση   τοις αγίοις   πίστει.     παρεισέδυσαν   γαρ   τινες άνθρωποι\,  οι πάλαι   προγεγραμμένοι   εις τούτο   το κρίμα\,  ασεβείς\,   την του   Θεού ημών   χάριν μετατιθέντες   εις ασέλγειαν   και τον   μόνον δεσπότην   και Κύριον   ημών ᾿ Ιησούν   Χριστόν   αρνούμενοι.   ῾   Υπομνήσαι   δε υμάς   βούλομαι\,   ειδότας   υμάς άπαξ   τούτο\, ότι  ο Κύριος   λαόν εκ   γής Αιγύπτου   σώσας\, το   δεύτερον   τους μή   πιστεύσαντας   απώλεσεν\,     αγγέλους   τε   τους μή   τηρήσαντας   την εαυτών   αρχήν\, αλλά   απολιπόντας   το ίδιον   οικητήριον   εις κρίσιν   μεγάλης   ημέρας δεσμοίς   αῑδίοις   υπό ζόφον   τετήρηκεν ·     ως   Σόδομα   και Γόμορρα   και αι   περί αυτάς   πόλεις   τον όμοιον   τούτοις   τρόπον εκπορνεύσασαι   και απελθούσαι   οπίσω σαρκός   ετέρας   πρόκεινται   δείγμα\,   πυρός αιωνίου   δίκην υπέχουσαι.     ομοίως   μέντοι   και ούτοι   ενυπνιαζόμενοι   σάρκα μέν   μιαίνουσι\,  κυριότητα   δε αθετούσι\,  δόξας δε   βλασφημούσιν.   ο   δε Μιχαήλ  ο αρχάγγελος\,  ότε τω   διαβόλω   διακρινόμενος   διελέγετο   περί του   Μωσέως   σώματος\,   ουκ ετόλμησε   κρίσιν   επενεγκείν   βλασφημίας\,  αλλ ᾿ είπεν ·  επιτιμήσαι   σοι Κύριος.     ούτοι   δε   όσα μέν   ουκ οίδασι   βλασφημούσιν\,  όσα δε   φυσικώς   ως τα   άλογα ζώα   επίστανται\,  εν τούτοις   φθείρονται.     ουαί   αυτοίς\,  ότι τη   οδώ του   Κάῑν επορεύθησαν\,  και τη   πλάνη του   Βαλαάμ   μισθού εξεχύθησαν\,  και τη   αντιλογία   του Κορέ   απώλοντο.     Ούτοί   εισιν   εν ταις   αγάπαις   υμών σπιλάδες\,  συνευωχούμενοι   αφόβως\,   εαυτούς   ποιμαίνοντες\,  νεφέλαι   άνυδροι   υπό ανέμων   παραφερόμεναι\,  δένδρα   φθινοπωρινά\,  άκαρπα\,   δίς αποθανόντα\,     κύματα   άγρια   θαλάσσης   επαφρίζοντα   τάς εαυτών   αισχύνας\,   αστέρες   πλανήται\,   οίς ο ζόφος   του σκότους   εις τον   αιώνα τετήρηται.     προεφήτευσε   δε   και τούτοις   έβδομος   από Αδάμ   Ενώχ λέγων ·  ιδού ήλθε   Κύριος   εν αγίαις   μυριάσιν   αυτού\,   ποιήσαι   κρίσιν   κατά πάντων   και ελέγξαι   πάντας   τους ασεβείς   αυτών περί   πάντων   των έργων   ασεβείας   αυτών ών   ησέβησαν   και περί   πάντων   των σκληρών   ών ελάλησαν   κατ ‘ αυτού   αμαρτωλοί   ασεβείς.     Ούτοί     εισι γογγυσταί\,  μεμψίμοιροι\,  κατά τάς   επιθυμίας   αυτών πορευόμενοι\,  και το   στόμα αυτών   λαλεί υπέρογκα\,  θαυμάζοντες   πρόσωπα   ωφελείας   χάριν.     Υμείς     δέ\, αγαπητοί\,  μνήσθητε   των ρημάτων   των προειρημένων   υπό των   αποστόλων   του Κυρίου   ημών Ιησού   Χριστού\,   ότι   έλεγον   υμίν ότι   εν εσχάτω   χρόνω έσονται   εμπαίκται   κατά τάς   εαυτών   επιθυμίας   πορευόμενοι   των ασεβειών.     Ούτοί     εισιν οι   αποδιορίζοντες\,  ψυχικοί\,   Πνεύμα μή   έχοντες.     Υμείς     δέ\, αγαπητοί\,  τη αγιωτάτη   υμών πίστει   εποικοδομούντες   εαυτούς\,   εν Πνεύματι   Αγίω προσευχόμενοι\,     εαυτούς   εν   αγάπη Θεού   τηρήσατε\,   προσδεχόμενοι   το έλεος   του Κυρίου   ημών Ιησού   Χριστού\,   εις ζωήν   αιώνιον.     και     ούς       μέν     ελεείτε       διακρινόμενοι\,     ούς     δε     εν       φόβω     σώζετε       εκ     του     πυρός       αρπάζοντες  \,     μισούντες       και     τον       από     της       σαρκός     εσπιλωμένον       χιτώνα  .   Τω       δε     δυναμένω       φυλάξαι     υμάς       απταίστους       και     στήσαι       κατενώπιον       της     δόξης       αυτού     αμώμους       εν     αγαλλιάσει\,     μόνω     σοφώ       Θεώ     σωτήρι       ημών\,   δόξα       και     μεγαλωσύνη\,     κράτος     και       εξουσία     και       νύν     και       εις     πάντας       τους     αιώνας·       αμήν.\nΑνάγνωσις Ευαγγελίου: Κατά Ιωάννην 14:21-24\nΕίπεν ο Κυριος τοις εαυτού μαθηταίς· Ο έχων τάς εντολάς μου και τηρών αυτάς\, εκείνός εστιν ο αγαπών με· ο δε αγαπών με αγαπηθήσεται υπό του πατρός μου\, και εγώ αγαπήσω αυτόν και εμφανίσω αυτώ εμαυτόν. Λέγει αυτώ ᾿Ιούδας\, ουχ ο ᾿Ισκαριώτης· Κύριε\, και τί γέγονεν ότι ημίν μέλλεις εμφανίζειν σεαυτόν και ουχί τω κόσμω; απεκρίθη ᾿Ιησούς και είπεν αυτώ· εάν τις αγαπά με\, τον λόγον μου τηρήσει\, και ο πατήρ μου αγαπήσει αυτόν\, και πρός αυτόν ελευσόμεθα και μονήν παρ᾽ αυτώ ποιήσομεν. ο μή αγαπών με τους λόγους μου ου τηρεί· και ο λόγος όν ακούετε ουκ έστιν εμός\, αλλά του πέμψαντός με πατρός.
URL:https://2033.ad/event/%ce%b9%ce%bf%cf%8d%ce%b4%ce%b1%cf%82-%ce%b1%cf%80%cf%8c%cf%83%cf%84%ce%bf%ce%bb%ce%bf%cf%82/
END:VEVENT
BEGIN:VEVENT
DTSTART;TZID=America/New_York:20250619T100000
DTEND;TZID=America/New_York:20250619T130000
DTSTAMP:20260422T103744
CREATED:20250309T165818Z
LAST-MODIFIED:20250425T023744Z
UID:26617-1750327200-1750338000@2033.ad
SUMMARY:Cooking for Homeless
DESCRIPTION:Contact Person: Fran Mastorides 727.443.0666 ffmastor@yahoo.com
URL:https://2033.ad/event/cooking-for-homeless-3/
LOCATION:Kitchen
END:VEVENT
BEGIN:VEVENT
DTSTART;TZID=America/New_York:20250619T130000
DTEND;TZID=America/New_York:20250619T140000
DTSTAMP:20260422T103744
CREATED:20250309T165818Z
LAST-MODIFIED:20250425T023744Z
UID:26619-1750338000-1750341600@2033.ad
SUMMARY:Bible Study
DESCRIPTION:
URL:https://2033.ad/event/bible-study-14/
END:VEVENT
END:VCALENDAR