BEGIN:VCALENDAR
VERSION:2.0
PRODID:-//Holy Trinity Greek Orthodox Church - ECPv6.15.20//NONSGML v1.0//EN
CALSCALE:GREGORIAN
METHOD:PUBLISH
X-WR-CALNAME:Holy Trinity Greek Orthodox Church
X-ORIGINAL-URL:https://2033.ad
X-WR-CALDESC:Events for Holy Trinity Greek Orthodox Church
REFRESH-INTERVAL;VALUE=DURATION:PT1H
X-Robots-Tag:noindex
X-PUBLISHED-TTL:PT1H
BEGIN:VTIMEZONE
TZID:UTC
BEGIN:STANDARD
TZOFFSETFROM:+0000
TZOFFSETTO:+0000
TZNAME:UTC
DTSTART:20240101T000000
END:STANDARD
END:VTIMEZONE
BEGIN:VTIMEZONE
TZID:America/New_York
BEGIN:DAYLIGHT
TZOFFSETFROM:-0500
TZOFFSETTO:-0400
TZNAME:EDT
DTSTART:20240310T070000
END:DAYLIGHT
BEGIN:STANDARD
TZOFFSETFROM:-0400
TZOFFSETTO:-0500
TZNAME:EST
DTSTART:20241103T060000
END:STANDARD
BEGIN:DAYLIGHT
TZOFFSETFROM:-0500
TZOFFSETTO:-0400
TZNAME:EDT
DTSTART:20250309T070000
END:DAYLIGHT
BEGIN:STANDARD
TZOFFSETFROM:-0400
TZOFFSETTO:-0500
TZNAME:EST
DTSTART:20251102T060000
END:STANDARD
BEGIN:DAYLIGHT
TZOFFSETFROM:-0500
TZOFFSETTO:-0400
TZNAME:EDT
DTSTART:20260308T070000
END:DAYLIGHT
BEGIN:STANDARD
TZOFFSETFROM:-0400
TZOFFSETTO:-0500
TZNAME:EST
DTSTART:20261101T060000
END:STANDARD
END:VTIMEZONE
BEGIN:VEVENT
DTSTART;VALUE=DATE:20250618
DTEND;VALUE=DATE:20250619
DTSTAMP:20260422T090101
CREATED:20250309T164646Z
LAST-MODIFIED:20250309T164646Z
UID:26043-1750204800-1750291199@2033.ad
SUMMARY:Leontius\, Hypatius\, & Theodulus the Martyrs of Syria
DESCRIPTION:Saints\, Feasts\, and Readings for 06/18/2025\nSaints and Feasts: Leontius\, Hypatius\, & Theodulus the Martyrs of Syria; Leontios the Myrrh-Streamer of Argos; Aitherios the Martyr of Nicomedia\nStrict Fast\nEpistle Reading: Romans 4:13-25\nBrethren\, the promise to Abraham and his descendants\, that they should inherit the world\, did not come through the law but through the righteousness of faith. If it is the adherents of the law who are to be the heirs\, faith is null and the promise is void. For the law brings wrath\, but where there is no law there is no transgression. That is why it depends on faith\, in order that the promise may rest on grace and be guaranteed to all his descendants — not only to the adherents of the law but also to those who share the faith of Abraham\, for he is the father of us all\, as it is written\, “I have made you the father of many nations” — in the presence of the God in whom he believed\, who gives life to the dead and calls into existence the things that do not exist. In hope he believed against hope\, that he should become the father of many nations; as he had been told\, “So shall your descendants be.” He did not weaken in faith when he considered his own body\, which was as good as dead because he was about a hundred years old\, or when he considered the barrenness of Sarah’s womb. No distrust made him waver concerning the promise of God\, but he grew strong in his faith as he gave glory to God\, fully convinced that God was able to do what he had promised. That is why his faith was “reckoned to him as righteousness.” But the words\, “it was reckoned to him\,” were written not for his sake alone\, but for ours also. It will be reckoned to us who believe in him that raised from the dead Jesus our Lord\, who was put to death for our trespasses and raised for our justification.\nGospel Reading: Matthew 7:21-23\nThe Lord said\, “Not every one who says to me\, ‘Lord\, Lord\,’ shall enter the kingdom of heaven\, but he who does the will of my Father who is in heaven. On that day many will say to me\, ‘Lord\, Lord\, did we not prophesy in your name\, and cast out demons in your name\, and do many mighty works in your name?’ And then will I declare to them\, ‘I never knew you; depart from me\, you evildoers.'”
URL:https://2033.ad/event/leontius-hypatius-theodulus-the-martyrs-of-syria/
END:VEVENT
BEGIN:VEVENT
DTSTART;VALUE=DATE:20250618
DTEND;VALUE=DATE:20250619
DTSTAMP:20260422T090101
CREATED:20250309T164752Z
LAST-MODIFIED:20250309T164752Z
UID:26251-1750204800-1750291199@2033.ad
SUMMARY:Μάρτυρος Λεόντιος και οι σύν αυτώ Υπάτιος και Θεοδούλος
DESCRIPTION:Άγιοι\, εορταί\, και Αναγνώσεις – Τετάρτη\, 18 Ιουνίου 2025\nΆγιοι και εορταί: Μάρτυρος Λεόντιος και οι σύν αυτώ Υπάτιος και Θεοδούλος; Λεόντιος ο Μυροβλήτης του Αργείου; Αιθέριος ο Μάρτυρας ο εν Νικομηδεία\nΑυστηρή Νηστεία\nΑνάγνωσις Επιστολής: Ρωμ. 4:13-25\nΑδελφοί\, ου διά νόμου η επαγγελία τω Αβραάμ ή τω σπέρματι αυτού\, το κληρονόμον αυτόν είναι του κόσμου\, αλλά διά δικαιοσύνης πίστεως. Ει γαρ οι εκ νόμου κληρονόμοι\, κεκένωται η πίστις\, και κατήργηται η επαγγελία· ο γαρ νόμος οργήν κατεργάζεται· ού γαρ ουκ έστιν νόμος\, ουδέ παράβασις. Διά τούτο εκ πίστεως\, ίνα κατά χάριν\, εις το είναι βεβαίαν την επαγγελίαν παντί τω σπέρματι\, ου τω εκ του νόμου μόνον\, αλλά και τω εκ πίστεως Αβραάμ\, ός εστιν πατήρ πάντων ημών – καθώς γέγραπται ότι Πατέρα πολλών εθνών τέθεικά σε – κατέναντι ού επίστευσεν θεού\, του ζωοποιούντος τους νεκρούς\, και καλούντος τα μή όντα ως όντα. Ός παρʼ ελπίδα επʼ ελπίδι επίστευσεν\, εις το γενέσθαι αυτόν πατέρα πολλών εθνών\, κατά το ειρημένον\, Ούτως έσται το σπέρμα σου. Και μή ασθενήσας τη πίστει\, ου κατενόησεν το εαυτού σώμα ήδη νενεκρωμένον – εκατονταέτης που υπάρχων – και την νέκρωσιν της μήτρας Σάρρας· εις δε την επαγγελίαν του θεού ου διεκρίθη τη απιστία\, αλλʼ ενεδυναμώθη τη πίστει\, δούς δόξαν τω θεώ\, και πληροφορηθείς ότι ό επήγγελται\, δυνατός εστιν και ποιήσαι. Διό και ελογίσθη αυτώ εις δικαιοσύνην. Ουκ εγράφη δε διʼ αυτόν μόνον\, ότι ελογίσθη αυτώ· αλλά και διʼ ημάς\, οίς μέλλει λογίζεσθαι\, τοις πιστεύουσιν επί τον εγείραντα Ιησούν τον κύριον ημών εκ νεκρών\, ός παρεδόθη διά τα παραπτώματα ημών\, και ηγέρθη διά την δικαίωσιν ημών.\nΑνάγνωσις Ευαγγελίου: Κατά Ματθαίον  7:21-23\nΕίπεν ο Κύριος· Ου πάς ο λέγων μοι Κύριε Κύριε\, εισελεύσεται εις την βασιλείαν των ουρανών\, αλλ᾿ ο ποιών το θέλημα του πατρός μου του εν ουρανοίς. πολλοί ερούσί μοι εν εκείνη τη ημέρα· Κύριε Κύριε\, ου τω σώ ονόματι προεφητεύσαμεν\, και τω σώ ονόματι δαιμόνια εξεβάλομεν\, και τω σώ ονόματι δυνάμεις πολλάς εποιήσαμεν; και τότε ομολογήσω αυτοίς ότι ουδέποτε έγνων υμάς· αποχωρείτε απ᾿ εμού οι εργαζόμενοι την ανομίαν.
URL:https://2033.ad/event/%ce%bc%ce%ac%cf%81%cf%84%cf%85%cf%81%ce%bf%cf%82-%ce%bb%ce%b5%cf%8c%ce%bd%cf%84%ce%b9%ce%bf%cf%82-%ce%ba%ce%b1%ce%b9-%ce%bf%ce%b9-%cf%83%cf%8d%ce%bd-%ce%b1%cf%85%cf%84%cf%8e-%cf%85%cf%80%ce%ac%cf%84/
END:VEVENT
BEGIN:VEVENT
DTSTART;TZID=America/New_York:20250618T130000
DTEND;TZID=America/New_York:20250618T150000
DTSTAMP:20260422T090101
CREATED:20250309T165817Z
LAST-MODIFIED:20250425T023743Z
UID:26615-1750251600-1750258800@2033.ad
SUMMARY:Leisure Timers
DESCRIPTION:Bingo Cards are $1.00\nBingo begins at 1:00
URL:https://2033.ad/event/leisure-timers-6/
END:VEVENT
BEGIN:VEVENT
DTSTART;TZID=America/New_York:20250618T170000
DTEND;TZID=America/New_York:20250618T193000
DTSTAMP:20260422T090101
CREATED:20250309T165818Z
LAST-MODIFIED:20250425T023744Z
UID:26616-1750266000-1750275000@2033.ad
SUMMARY:Adult Basketball
DESCRIPTION:Contact Mark Lagos for details:  mark@pinellasautobody.com
URL:https://2033.ad/event/adult-basketball-14/
LOCATION:Gym
END:VEVENT
END:VCALENDAR