BEGIN:VCALENDAR
VERSION:2.0
PRODID:-//Holy Trinity Greek Orthodox Church - ECPv6.15.20//NONSGML v1.0//EN
CALSCALE:GREGORIAN
METHOD:PUBLISH
X-WR-CALNAME:Holy Trinity Greek Orthodox Church
X-ORIGINAL-URL:https://2033.ad
X-WR-CALDESC:Events for Holy Trinity Greek Orthodox Church
REFRESH-INTERVAL;VALUE=DURATION:PT1H
X-Robots-Tag:noindex
X-PUBLISHED-TTL:PT1H
BEGIN:VTIMEZONE
TZID:UTC
BEGIN:STANDARD
TZOFFSETFROM:+0000
TZOFFSETTO:+0000
TZNAME:UTC
DTSTART:20240101T000000
END:STANDARD
END:VTIMEZONE
BEGIN:VTIMEZONE
TZID:America/New_York
BEGIN:DAYLIGHT
TZOFFSETFROM:-0500
TZOFFSETTO:-0400
TZNAME:EDT
DTSTART:20240310T070000
END:DAYLIGHT
BEGIN:STANDARD
TZOFFSETFROM:-0400
TZOFFSETTO:-0500
TZNAME:EST
DTSTART:20241103T060000
END:STANDARD
BEGIN:DAYLIGHT
TZOFFSETFROM:-0500
TZOFFSETTO:-0400
TZNAME:EDT
DTSTART:20250309T070000
END:DAYLIGHT
BEGIN:STANDARD
TZOFFSETFROM:-0400
TZOFFSETTO:-0500
TZNAME:EST
DTSTART:20251102T060000
END:STANDARD
BEGIN:DAYLIGHT
TZOFFSETFROM:-0500
TZOFFSETTO:-0400
TZNAME:EDT
DTSTART:20260308T070000
END:DAYLIGHT
BEGIN:STANDARD
TZOFFSETFROM:-0400
TZOFFSETTO:-0500
TZNAME:EST
DTSTART:20261101T060000
END:STANDARD
END:VTIMEZONE
BEGIN:VEVENT
DTSTART;VALUE=DATE:20250617
DTEND;VALUE=DATE:20250618
DTSTAMP:20260422T103717
CREATED:20250309T164645Z
LAST-MODIFIED:20250309T164645Z
UID:26040-1750118400-1750204799@2033.ad
SUMMARY:Isaurus the Holy Martyr & his Companions of Athens
DESCRIPTION:Saints\, Feasts\, and Readings for 06/17/2025\nSaints and Feasts: Isaurus the Holy Martyr & his Companions of Athens; Manuel\, Sabel\, & Ishmael the Martyrs of Persia; Righteous Father Botolph\, Abbot of the Monastery of Ikanhoe\nFast Day (Fish Allowed)\nEpistle Reading: Romans 4:4-12\nBrethren\, to one who works\, his wages are not reckoned as a gift but as his due. And to one who does not work but trusts him who justifies the ungodly\, his faith is reckoned as righteousness. So also David pronounces a blessing upon the man to whom God reckons righteousness apart from works: “Blessed are those whose iniquities are forgiven\, and whose sins are covered; blessed is the man against whom the Lord will not reckon his sin.” Is this blessing pronounced only upon the circumcised\, or also upon the uncircumcised? We say that faith was reckoned to Abraham as righteousness. How then was it reckoned to him? Was it before or after he had been circumcised? It was not after\, but before he was circumcised. He received circumcision as a sign or seal of the righteousness which he had by faith while he was still uncircumcised. The purpose was to make him the father of all who believe without being circumcised and who thus have righteousness reckoned to them\, and likewise the father of the circumcised who are not merely circumcised but also follow the example of the faith which our father Abraham had before he was circumcised.\nGospel Reading: Matthew 7:15-21\nThe Lord said\, “Beware of false prophets\, who come to you in sheep’s clothing but inwardly are ravenous wolves. You will know them by their fruits. Are grapes gathered from thorns\, or figs from thistles? So\, every sound tree bears good fruit\, but the bad tree bears evil fruit. A sound tree cannot bear evil fruit\, nor can a bad tree bear good fruit. Every tree that does not bear good fruit is cut down and thrown into the fire. Thus you will know them by their fruits. Not every one who says to me\, ‘Lord\, Lord\,’ shall enter the kingdom of heaven\, but he who does the will of my Father who is in heaven.”
URL:https://2033.ad/event/isaurus-the-holy-martyr-his-companions-of-athens/
END:VEVENT
BEGIN:VEVENT
DTSTART;VALUE=DATE:20250617
DTEND;VALUE=DATE:20250618
DTSTAMP:20260422T103717
CREATED:20250309T164752Z
LAST-MODIFIED:20250309T164752Z
UID:26248-1750118400-1750204799@2033.ad
SUMMARY:Ίσαυρος και οι σύν αυτώ
DESCRIPTION:Άγιοι\, εορταί\, και Αναγνώσεις – Τρίτη\, 17 Ιουνίου 2025\nΆγιοι και εορταί: Ίσαυρος και οι σύν αυτώ ; Μανουήλ\, Σαβήλ και Ισμαήλ; Πατήρ Μπότολφ\nΗμέρα Νηστείας (Κατάλυσις ιχθύος\, ελαίου και οίνου)\nΑνάγνωσις Επιστολής: Ρωμ. 4:4-12\nΑδελφοί\, τω εργαζομένω ο μισθός ου λογίζεται κατά χάριν\, αλλά κατά οφείλημα.  Τω δε μή εργαζομένω\, πιστεύοντι δε επί τον δικαιούντα τον ασεβή\, λογίζεται η πίστις αυτού εις δικαιοσύνην. Καθάπερ και Δαυίδ λέγει τον μακαρισμόν του ανθρώπου\, ώ ο θεός λογίζεται δικαιοσύνην χωρίς έργων\, Μακάριοι ών αφέθησαν αι ανομίαι\, και ών επεκαλύφθησαν αι αμαρτίαι. Μακάριος ανήρ ώ ου μή λογίσηται κύριος αμαρτίαν. Ο μακαρισμός ούν ούτος επί την περιτομήν\, ή και επί την ακροβυστίαν; Λέγομεν γαρ ότι Ελογίσθη τω Αβραάμ η πίστις εις δικαιοσύνην. Πώς ούν ελογίσθη; Εν περιτομή όντι\, ή εν ακροβυστία; Ουκ εν περιτομή\, αλλʼ εν ακροβυστία· και σημείον έλαβεν περιτομής\, σφραγίδα της δικαιοσύνης της πίστεως της εν τη ακροβυστία· εις το είναι αυτόν πατέρα πάντων των πιστευόντων διʼ ακροβυστίας\, εις το λογισθήναι και αυτοίς την δικαιοσύνην· και πατέρα περιτομής τοις ουκ εκ περιτομής μόνον\, αλλά και τοις στοιχούσιν τοις ίχνεσιν της πίστεως της εν τη ακροβυστία του πατρός ημών Αβραάμ.\nΑνάγνωσις Ευαγγελίου: Κατά Ματθαίον 7:15-21\nΕίπεν ο Κύριος· Προσέχετε δε από των ψευδοπροφητών\, οίτινες έρχονται πρός υμάς εν ενδύμασι προβάτων\, έσωθεν δέ εισι λύκοι άρπαγες. από των καρπών αυτών επιγνώσεσθε αυτούς. μήτι συλλέγουσιν από ακανθών σταφυλήν ή από τριβόλων σύκα; ούτω πάν δένδρον αγαθόν καρπούς καλούς ποιεί\, το δε σαπρόν δένδρον καρπούς πονηρούς ποιεί. ου δύναται δένδρον αγαθόν καρπούς πονηρούς ποιείν\, ουδέ δένδρον σαπρόν καρπούς καλούς ποιείν. πάν δένδρον μή ποιούν καρπόν καλόν εκκόπτεται και εις πύρ βάλλεται. άραγε από των καρπών αυτών επιγνώσεσθε αυτούς.
URL:https://2033.ad/event/%ce%af%cf%83%ce%b1%cf%85%cf%81%ce%bf%cf%82-%ce%ba%ce%b1%ce%b9-%ce%bf%ce%b9-%cf%83%cf%8d%ce%bd-%ce%b1%cf%85%cf%84%cf%8e/
END:VEVENT
BEGIN:VEVENT
DTSTART;TZID=America/New_York:20250617T180000
DTEND;TZID=America/New_York:20250617T200000
DTSTAMP:20260422T103717
CREATED:20250309T165817Z
LAST-MODIFIED:20250309T165817Z
UID:26614-1750183200-1750190400@2033.ad
SUMMARY:Philoptochos Meeting
DESCRIPTION:
URL:https://2033.ad/event/philoptochos-meeting-3/
END:VEVENT
END:VCALENDAR