BEGIN:VCALENDAR
VERSION:2.0
PRODID:-//Holy Trinity Greek Orthodox Church - ECPv6.15.20//NONSGML v1.0//EN
CALSCALE:GREGORIAN
METHOD:PUBLISH
X-WR-CALNAME:Holy Trinity Greek Orthodox Church
X-ORIGINAL-URL:https://2033.ad
X-WR-CALDESC:Events for Holy Trinity Greek Orthodox Church
REFRESH-INTERVAL;VALUE=DURATION:PT1H
X-Robots-Tag:noindex
X-PUBLISHED-TTL:PT1H
BEGIN:VTIMEZONE
TZID:UTC
BEGIN:STANDARD
TZOFFSETFROM:+0000
TZOFFSETTO:+0000
TZNAME:UTC
DTSTART:20240101T000000
END:STANDARD
END:VTIMEZONE
BEGIN:VTIMEZONE
TZID:America/New_York
BEGIN:DAYLIGHT
TZOFFSETFROM:-0500
TZOFFSETTO:-0400
TZNAME:EDT
DTSTART:20240310T070000
END:DAYLIGHT
BEGIN:STANDARD
TZOFFSETFROM:-0400
TZOFFSETTO:-0500
TZNAME:EST
DTSTART:20241103T060000
END:STANDARD
BEGIN:DAYLIGHT
TZOFFSETFROM:-0500
TZOFFSETTO:-0400
TZNAME:EDT
DTSTART:20250309T070000
END:DAYLIGHT
BEGIN:STANDARD
TZOFFSETFROM:-0400
TZOFFSETTO:-0500
TZNAME:EST
DTSTART:20251102T060000
END:STANDARD
BEGIN:DAYLIGHT
TZOFFSETFROM:-0500
TZOFFSETTO:-0400
TZNAME:EDT
DTSTART:20260308T070000
END:DAYLIGHT
BEGIN:STANDARD
TZOFFSETFROM:-0400
TZOFFSETTO:-0500
TZNAME:EST
DTSTART:20261101T060000
END:STANDARD
END:VTIMEZONE
BEGIN:VEVENT
DTSTART;VALUE=DATE:20250616
DTEND;VALUE=DATE:20250617
DTSTAMP:20260422T103715
CREATED:20250309T164645Z
LAST-MODIFIED:20250309T164645Z
UID:26041-1750032000-1750118399@2033.ad
SUMMARY:Tychon the Wonderworker
DESCRIPTION:Saints\, Feasts\, and Readings for 06/16/2025\nSaints and Feasts: Tychon the Wonderworker; 40 Martyrs of Rome; Mark the Just of Apollonia\nFast Day (Fish Allowed)\nEpistle Reading: Romans 2:28-29;3:1-18\nBrethren\, he is not a real Jew who is one outwardly\, nor is true circumcision something external and physical. He is a Jew who is one inwardly\, and real circumcision is a matter of the heart\, spiritual and not literal. His praise is not from men but from God. Then what advantage has the Jew? Or what is the value of circumcision? Much in every way. To begin with\, the Jews are entrusted with the oracles of God. What if some were unfaithful? Does their faithlessness nullify the faithfulness of God? By no means! Let God be true though every man be false\, as it is written\, “That thou mayest be justified in thy words\, and prevail when thou art judged.” But if our wickedness serves to show the justice of God\, what shall we say? That God is unjust to inflict wrath on us? (I speak in a human way.) By no means! For then how could God judge the world? But if through my falsehood God’s truthfulness abounds to his glory\, why am I still being condemned as a sinner? And why not do evil that good may come? – as some people slanderously charge us with saying. Their condemnation is just. What then? Are we Jews any better off? No\, not at all; for we have already charged that all men\, both Jews and Greeks\, are under the power of sin\, as it is written:\n“None is righteous\, no\, not one; no one understands\, no one seeks for God. All have turned aside\, together they have gone wrong; no one does good\, not even one.”\n“Their throat is an open grave\, they use their tongues to deceive.”\n“The venom of asps is under their lips.”\n“Their mouth is full of curses and bitterness.”\n“Their feet are swift to shed blood\, in their paths are ruin and misery\, and the way of peace they do not know.” \n“There is no fear of God before their eyes.”\nGospel Reading: Matthew 6:31-34; 7:9-11\nThe Lord said\, “Do not be anxious\, saying\, ‘What shall we eat?’ or ‘What shall we drink?’ or ‘What shall we wear?’ For the Gentiles seek all these things; and your heavenly Father knows that you need them all. But seek first his kingdom and his righteousness\, and all these things shall be yours as well. Therefore do not be anxious about tomorrow\, for tomorrow will be anxious for itself. Let the day’s own trouble be sufficient for the day. Or what man of you\, if his son asks him for bread\, will give him a stone? Or if he asks for a fish\, will give him a serpent? If you then\, who are evil\, know how to give good gifts to your children\, how much more will your Father who is in heaven give good things to those who ask him!”
URL:https://2033.ad/event/tychon-the-wonderworker/
END:VEVENT
BEGIN:VEVENT
DTSTART;VALUE=DATE:20250616
DTEND;VALUE=DATE:20250617
DTSTAMP:20260422T103715
CREATED:20250309T164752Z
LAST-MODIFIED:20250309T164752Z
UID:26249-1750032000-1750118399@2033.ad
SUMMARY:Τύχων ο Θαυματουργός
DESCRIPTION:Άγιοι\, εορταί\, και Αναγνώσεις – Δευτέρα\, 16 Ιουνίου 2025\nΆγιοι και εορταί: Τύχων ο Θαυματουργός; 40 Μάρτυρες Ρώμης; Ιερομάρτυρος Μάρκου\, επισκόπου Απολλωνιάδος\nΗμέρα Νηστείας (Κατάλυσις ιχθύος\, ελαίου και οίνου)\nΑνάγνωσις Επιστολής: Ρωμ. 2:28-29\, 3:1-18\nΑδελφοί\, ουχ ο εν τω φανερώ Ιουδαίός εστιν\, ουδέ η εν τω φανερώ εν σαρκί περιτομή· αλλʼ ο εν τω κρυπτώ Ιουδαίος\, και περιτομή καρδίας εν πνεύματι\, ου γράμματι· ού ο έπαινος ουκ εξ ανθρώπων\, αλλʼ εκ του θεού. Τί ούν το περισσόν του Ιουδαίου\, ή τις η ωφέλεια της περιτομής; Πολύ κατά πάντα τρόπον· πρώτον μέν γαρ ότι επιστεύθησαν τα λόγια του θεού. Τί γαρ ει ηπίστησάν τινες; Μή η απιστία αυτών την πίστιν του θεού καταργήσει; Μή γένοιτο· γινέσθω δε ο θεός αληθής\, πάς δε άνθρωπος ψεύστης\, καθώς γέγραπται\, Όπως άν δικαιωθής εν τοις λόγοις σου\, και νικήσης εν τω κρίνεσθαί σε. Ει δε η αδικία ημών θεού δικαιοσύνην συνίστησιν\, τί ερούμεν; Μή άδικος ο θεός ο επιφέρων την οργήν; – κατά άνθρωπον λέγω – Μή γένοιτο· επεί πώς κρινεί ο θεός τον κόσμον; Ει γαρ η αλήθεια του θεού εν τω εμώ ψεύσματι επερίσσευσεν εις την δόξαν αυτού\, τί έτι καγώ ως αμαρτωλός κρίνομαι; Και μή – καθώς βλασφημούμεθα\, και καθώς φασίν τινες ημάς λέγειν – ότι Ποιήσωμεν τα κακά ίνα έλθη τα αγαθά; Ών το κρίμα ένδικόν εστιν. Τί ούν; Προεχόμεθα; Ου πάντως· προητιασάμεθα γαρ Ιουδαίους τε και Έλληνας πάντας υφʼ αμαρτίαν είναι\, καθώς γέγραπται ότι Ουκ έστιν δίκαιος ουδέ είς· ουκ έστιν ο συνιών\, ουκ έστιν ο εκζητών τον θεόν· πάντες εξέκλιναν\, άμα ηχρειώθησαν· ουκ έστιν ποιών χρηστότητα\, ουκ έστιν έως ενός· τάφος ανεωγμένος ο λάρυγξ αυτών\, ταις γλώσσαις αυτών εδολιούσαν· ιός ασπίδων υπό τα χείλη αυτών· ών το στόμα αράς και πικρίας γέμει· οξείς οι πόδες αυτών εκχέαι αίμα· σύντριμμα και ταλαιπωρία εν ταις οδοίς αυτών\, και οδόν ειρήνης ουκ έγνωσαν· ουκ έστιν φόβος θεού απέναντι των οφθαλμών αυτών.\nΑνάγνωσις Ευαγγελίου: Κατά Ματθαίον  6:31-34\, 7:9-11\nΕίπεν ο Κύριος· Μή ούν μεριμνήσητε λέγοντες\, τί φάγωμεν ή τί πίωμεν ή τί περιβαλώμεθα; πάντα γαρ ταύτα τα έθνη επιζητεί· οίδε γαρ ο πατήρ υμών ο ουράνιος ότι χρῄζετε τούτων απάντων. ζητείτε δε πρώτον την βασιλείαν του Θεού και την δικαιοσύνην αυτού\, και ταύτα πάντα προστεθήσεται υμίν. Μή ούν μεριμνήσητε εις την αύριον· η γαρ αύριον μεριμνήσει τα εαυτής· αρκετόν τη ημέρα η κακία αυτής. ή τίς εστιν εξ υμών άνθρωπος\, όν εάν αιτήση ο υιός αυτού άρτον\, μή λίθον επιδώσει αυτώ; και εάν ιχθύν αιτήση\, μή όφιν επιδώσει αυτώ; ει ούν υμείς\, πονηροί όντες\, οίδατε δόματα αγαθά διδόναι τοις τέκνοις υμών\, πόσω μάλλον ο πατήρ υμών ο εν τοις ουρανοίς δώσει αγαθά τοις αιτούσιν αυτόν;
URL:https://2033.ad/event/%cf%84%cf%8d%cf%87%cf%89%ce%bd-%ce%bf-%ce%b8%ce%b1%cf%85%ce%bc%ce%b1%cf%84%ce%bf%cf%85%cf%81%ce%b3%cf%8c%cf%82/
END:VEVENT
BEGIN:VEVENT
DTSTART;TZID=America/New_York:20250616T171500
DTEND;TZID=America/New_York:20250616T183000
DTSTAMP:20260422T103715
CREATED:20250309T165816Z
LAST-MODIFIED:20250425T023743Z
UID:26612-1750094100-1750098600@2033.ad
SUMMARY:Greek School
DESCRIPTION:First day back.\n5/14/22 GB
URL:https://2033.ad/event/greek-school-14/
END:VEVENT
BEGIN:VEVENT
DTSTART;TZID=America/New_York:20250616T190000
DTEND;TZID=America/New_York:20250616T220000
DTSTAMP:20260422T103715
CREATED:20250309T165817Z
LAST-MODIFIED:20250425T023743Z
UID:26613-1750100400-1750111200@2033.ad
SUMMARY:Parish Council Meeting
DESCRIPTION:Change of Meeting date for monthly PC meetings.  Please update your calendars\nJoin with Google Meet: https://meet.google.com/yjn-qmru-ddk\nLearn more about Meet at: https://support.google.com/a/users/answer/9282720
URL:https://2033.ad/event/parish-council-meeting-4/
END:VEVENT
END:VCALENDAR