BEGIN:VCALENDAR
VERSION:2.0
PRODID:-//Holy Trinity Greek Orthodox Church - ECPv6.15.20//NONSGML v1.0//EN
CALSCALE:GREGORIAN
METHOD:PUBLISH
X-WR-CALNAME:Holy Trinity Greek Orthodox Church
X-ORIGINAL-URL:https://2033.ad
X-WR-CALDESC:Events for Holy Trinity Greek Orthodox Church
REFRESH-INTERVAL;VALUE=DURATION:PT1H
X-Robots-Tag:noindex
X-PUBLISHED-TTL:PT1H
BEGIN:VTIMEZONE
TZID:UTC
BEGIN:STANDARD
TZOFFSETFROM:+0000
TZOFFSETTO:+0000
TZNAME:UTC
DTSTART:20240101T000000
END:STANDARD
END:VTIMEZONE
BEGIN:VTIMEZONE
TZID:America/New_York
BEGIN:DAYLIGHT
TZOFFSETFROM:-0500
TZOFFSETTO:-0400
TZNAME:EDT
DTSTART:20240310T070000
END:DAYLIGHT
BEGIN:STANDARD
TZOFFSETFROM:-0400
TZOFFSETTO:-0500
TZNAME:EST
DTSTART:20241103T060000
END:STANDARD
BEGIN:DAYLIGHT
TZOFFSETFROM:-0500
TZOFFSETTO:-0400
TZNAME:EDT
DTSTART:20250309T070000
END:DAYLIGHT
BEGIN:STANDARD
TZOFFSETFROM:-0400
TZOFFSETTO:-0500
TZNAME:EST
DTSTART:20251102T060000
END:STANDARD
BEGIN:DAYLIGHT
TZOFFSETFROM:-0500
TZOFFSETTO:-0400
TZNAME:EDT
DTSTART:20260308T070000
END:DAYLIGHT
BEGIN:STANDARD
TZOFFSETFROM:-0400
TZOFFSETTO:-0500
TZNAME:EST
DTSTART:20261101T060000
END:STANDARD
END:VTIMEZONE
BEGIN:VEVENT
DTSTART;VALUE=DATE:20250614
DTEND;VALUE=DATE:20250615
DTSTAMP:20260422T103729
CREATED:20250309T164645Z
LAST-MODIFIED:20250309T164645Z
UID:26039-1749859200-1749945599@2033.ad
SUMMARY:The Apodosis of Holy Pentecost
DESCRIPTION:Saints\, Feasts\, and Readings for 06/14/2025\nSaints and Feasts: The Apodosis of Holy Pentecost; The Holy Prophet Elisseus (Elisha); Methodius the Confessor\, Patriarch of Constantinople; Cyril\, Bishop of Gortyna; The Holy Martyrs of Estonia: the Priests Basil\, John\, John\, Artemios\, and Nicholas; the Deacons Vasili and Peter; the Presytera Martha; and John\, Theodor\, and Anna.\nFast Free\nEpistle Reading: Romans 1:7-12\nBrethren\, grace to you and peace from God our Father and the Lord Jesus Christ. First\, I thank my God through Jesus Christ for all of you\, because your faith is proclaimed in all the world. For God is my witness\, whom I serve with my spirit in the gospel of his Son\, that without ceasing I mention you always in my prayers\, asking that somehow by God’s will I may now at last succeed in coming to you. For I long to see you\, that I may impart to you some spiritual gift to strengthen you\, that is\, that we may be mutually encouraged by each other’s faith\, both yours and mine.\nGospel Reading: Matthew 5:42-48\nThe Lord said\, “Give to him who begs from you\, and do not refuse him who would borrow from you. You have heard that it was said\, ‘You shall love your neighbor and hate your enemy.’ But I say to you\, Love your enemies and pray for those who persecute you\, so that you may be sons of your Father who is in heaven; for he makes his sun rise on the evil and on the good\, and sends rain on the just and on the unjust. For if you love those who love you\, what reward have you? Do not even the tax collectors do the same? And if you salute only your brethren\, what more are you doing than others? Do not even the Gentiles do the same? You\, therefore\, must be perfect\, as your heavenly Father is perfect.”
URL:https://2033.ad/event/the-apodosis-of-holy-pentecost/
END:VEVENT
BEGIN:VEVENT
DTSTART;VALUE=DATE:20250614
DTEND;VALUE=DATE:20250615
DTSTAMP:20260422T103729
CREATED:20250309T164751Z
LAST-MODIFIED:20250309T164751Z
UID:26247-1749859200-1749945599@2033.ad
SUMMARY:Τω Σάββατω μετα την Πεντηκοστήν
DESCRIPTION:Άγιοι\, εορταί\, και Αναγνώσεις – Σάββατο\, 14 Ιουνίου 2025\nΆγιοι και εορταί: Τω Σάββατω μετα την Πεντηκοστήν; Ελισσαίος Προφήτης; Μεθόδιος ο Ομολογητής; Ιερομάρτυρος Κυρίλλου επισκόπου Γορτύνης; Των εν Εσθονία Αγίων Ιερομαρτύρων Βασιλείου Πρωτοπρεσβυτέρου\, Ιωάννου\, Ιωάννου\, Αρτεμίου και Νικολάου Πρεσβυτέρων\, Βασιλείου και Πέτρου Διακόνων και των Αγίων Μαρτύρων Μάρθας Πρεσβυτέρας\, Ιωάννου\, Θεοδώρου και Άννης\nΚατάλυσις Πάντων\nΑνάγνωσις Επιστολής: Ρωμ. 1:7-12\nΑδελφοί\, χάρις υμίν και ειρήνη από θεού πατρός ημών και κυρίου Ιησού Χριστού. Πρώτον μέν ευχαριστώ τω θεώ μου διά Ιησού Χριστού υπέρ πάντων υμών\, ότι η πίστις υμών καταγγέλλεται εν όλω τω κόσμω. Μάρτυς γαρ μού εστιν ο θεός\, ώ λατρεύω εν τω πνεύματί μου εν τω ευαγγελίω του υιού αυτού\, ως αδιαλείπτως μνείαν υμών ποιούμαι\, πάντοτε επί των προσευχών μου δεόμενος\, ει πως ήδη ποτέ ευοδωθήσομαι εν τω θελήματι του θεού ελθείν πρός υμάς. Επιποθώ γαρ ιδείν υμάς\, ίνα τι μεταδώ χάρισμα υμίν πνευματικόν\, εις το στηριχθήναι υμάς\, τούτο δε εστιν\, συμπαρακληθήναι εν υμίν διά της εν αλλήλοις πίστεως υμών τε και εμού.\nΑνάγνωσις Ευαγγελίου: Κατά Ματθαίον  5:42-48\nΕίπεν ο Κύριος· Τω αιτούντί σε δίδου και τον θέλοντα από σού δανείσασθαι μή αποστραφής. ᾿Ηκούσατε ότι ερρέθη\, αγαπήσεις τον πλησίον σου και μισήσεις τον εχθρόν σου. ᾿Εγώ δε λέγω υμίν\, αγαπάτε τους εχθρούς υμών\, ευλογείτε τους καταρωμένους υμάς\, καλώς ποιείτε τοις μισούσιν υμάς και προσεύχεσθε υπέρ των επηρεαζόντων υμάς και διωκόντων υμάς\, όπως γένησθε υιοί του πατρός υμών του εν ουρανοίς\, ότι τον ήλιον αυτού ανατέλλει επί πονηρούς και αγαθούς και βρέχει επί δικαίους και αδίκους. εάν γαρ αγαπήσητε τους αγαπώντας υμάς\, τίνα μισθόν έχετε; ουχί και οι τελώναι το αυτό ποιούσι; και εάν ασπάσησθε τους φίλους υμών μόνον\, τί περισσόν ποιείτε; ουχί και οι τελώναι ούτω ποιούσιν; ῎Εσεσθε ούν υμείς τέλειοι\, ώσπερ ο πατήρ υμών ο εν τοις ουρανοίς τέλειός εστιν.
URL:https://2033.ad/event/%cf%84%cf%89-%cf%83%ce%ac%ce%b2%ce%b2%ce%b1%cf%84%cf%89-%ce%bc%ce%b5%cf%84%ce%b1-%cf%84%ce%b7%ce%bd-%cf%80%ce%b5%ce%bd%cf%84%ce%b7%ce%ba%ce%bf%cf%83%cf%84%ce%ae%ce%bd/
END:VEVENT
BEGIN:VEVENT
DTSTART;VALUE=DATE:20250614
DTEND;VALUE=DATE:20250616
DTSTAMP:20260422T103729
CREATED:20250425T023742Z
LAST-MODIFIED:20250425T023742Z
UID:26996-1749859200-1750031999@2033.ad
SUMMARY:No Sacraments
DESCRIPTION:
URL:https://2033.ad/event/no-sacraments-2/
END:VEVENT
END:VCALENDAR