BEGIN:VCALENDAR
VERSION:2.0
PRODID:-//Holy Trinity Greek Orthodox Church - ECPv6.15.20//NONSGML v1.0//EN
CALSCALE:GREGORIAN
METHOD:PUBLISH
X-WR-CALNAME:Holy Trinity Greek Orthodox Church
X-ORIGINAL-URL:https://2033.ad
X-WR-CALDESC:Events for Holy Trinity Greek Orthodox Church
REFRESH-INTERVAL;VALUE=DURATION:PT1H
X-Robots-Tag:noindex
X-PUBLISHED-TTL:PT1H
BEGIN:VTIMEZONE
TZID:UTC
BEGIN:STANDARD
TZOFFSETFROM:+0000
TZOFFSETTO:+0000
TZNAME:UTC
DTSTART:20240101T000000
END:STANDARD
END:VTIMEZONE
BEGIN:VTIMEZONE
TZID:America/New_York
BEGIN:DAYLIGHT
TZOFFSETFROM:-0500
TZOFFSETTO:-0400
TZNAME:EDT
DTSTART:20240310T070000
END:DAYLIGHT
BEGIN:STANDARD
TZOFFSETFROM:-0400
TZOFFSETTO:-0500
TZNAME:EST
DTSTART:20241103T060000
END:STANDARD
BEGIN:DAYLIGHT
TZOFFSETFROM:-0500
TZOFFSETTO:-0400
TZNAME:EDT
DTSTART:20250309T070000
END:DAYLIGHT
BEGIN:STANDARD
TZOFFSETFROM:-0400
TZOFFSETTO:-0500
TZNAME:EST
DTSTART:20251102T060000
END:STANDARD
BEGIN:DAYLIGHT
TZOFFSETFROM:-0500
TZOFFSETTO:-0400
TZNAME:EDT
DTSTART:20260308T070000
END:DAYLIGHT
BEGIN:STANDARD
TZOFFSETFROM:-0400
TZOFFSETTO:-0500
TZNAME:EST
DTSTART:20261101T060000
END:STANDARD
END:VTIMEZONE
BEGIN:VEVENT
DTSTART;VALUE=DATE:20250605
DTEND;VALUE=DATE:20250606
DTSTAMP:20260422T103746
CREATED:20250309T164641Z
LAST-MODIFIED:20250309T164641Z
UID:26030-1749081600-1749167999@2033.ad
SUMMARY:The Holy Hieromartyr Dorotheus\, Bishop of Tyre
DESCRIPTION:Saints\, Feasts\, and Readings for 06/05/2025\nSaints and Feasts: The Holy Hieromartyr Dorotheus\, Bishop of Tyre; Holy Martyrs Nicandrus\, Gorgus and Apollonus and those with them; Christophoros & Konon the Martyrs of Rome\nEpistle Reading: Acts 25:13-19\nIN THOSE DAYS\, Agrippa the king and Bernice arrived at Caesarea to welcome Festus. And as they stayed there many days\, Festus laid Paul’s case before the king\, saying\, “There is a man left prisoner by Felix; and when I was at Jerusalem\, the chief priests and the elders of the Jews gave information about him\, asking for sentence against him. I answered them that it was not the custom of the Romans to give up any one before the accused met the accusers face to face\, and had opportunity to make his defense concerning the charge laid against him. When therefore they came together here\, I made no delay\, but on the next day took my seat on the tribunal and ordered the man to be brought in. When the accusers stood up\, they brought no charge in his case of such evils as I supposed; but they had certain points of dispute with him about their own superstition and about one Jesus\, who was dead\, but whom Paul asserted to be alive.”\nGospel Reading: John 16:23-33\nThe Lord said to his disciples\, “Truly\, truly\, I say to you\, if you ask anything of the Father\, he will give it to you in my name. Hitherto you have asked nothing in my name; ask\, and you will receive\, that your joy may be full.\n“I have said this to you in figures; the hour is coming when I shall no longer speak to you in figures but tell you plainly of the Father. In that day you will ask in my name; and I do not say to you that I shall pray the Father for you; for the Father himself loves you\, because you have loved me and have believed that I came from the Father. I came from the Father and have come into the world; again\, I am leaving the world and going to the Father.”\nHis disciples said\, “Ah\, now you are speaking plainly\, not in any figure! Now we know that you know all things\, and need none to question you; by this we believe that you came from God.” Jesus answered them\, “Do you now believe? The hour is coming\, indeed it has come\, when you will be scattered\, every man to his home\, and will leave me alone; yet I am not alone\, for the Father is with me. I have said this to you\, that in me you may have peace.”
URL:https://2033.ad/event/the-holy-hieromartyr-dorotheus-bishop-of-tyre/
END:VEVENT
BEGIN:VEVENT
DTSTART;VALUE=DATE:20250605
DTEND;VALUE=DATE:20250606
DTSTAMP:20260422T103746
CREATED:20250309T164747Z
LAST-MODIFIED:20250309T164747Z
UID:26238-1749081600-1749167999@2033.ad
SUMMARY:Δωρόθεος Επίσκοπος Τύρου
DESCRIPTION:Άγιοι\, εορταί\, και Αναγνώσεις – Πέμπτη\, 5 Ιουνίου 2025\nΆγιοι και εορταί: Δωρόθεος Επίσκοπος Τύρου; 10 Μάρτυρες Αιγύπτου; Χριστοφόρος και Κόνων Μαρτύρες Ρώμης\nΑνάγνωσις Επιστολής: Πράξ. 25:13-19\nΕν ταις ημεραίς εκείναις\, Αγρίππας ο βασιλεύς και Βερνίκη κατήντησαν εις Καισάρειαν\, ασπασάμενοι τον Φήστον. Ως δε πλείους ημέρας διέτριβεν εκεί\, ο Φήστος τω βασιλεί ανέθετο τα κατά τον Παύλον\, λέγων\, Ανήρ τις εστιν καταλελειμμένος υπό Φήλικος δέσμιος\, περί ού\, γενομένου μου εις Ιεροσόλυμα\, ενεφάνισαν οι αρχιερείς και οι πρεσβύτεροι των Ιουδαίων\, αιτούμενοι κατʼ αυτού δίκην. Πρός ούς απεκρίθην\, ότι ουκ έστιν έθος Ῥωμαίοις χαρίζεσθαί τινα άνθρωπον ειςN απώλειαν\, πρίν ή ο κατηγορούμενος κατά πρόσωπον έχοι τους κατηγόρους\, τόπον τε απολογίας λάβοι περί του εγκλήματος. Συνελθόντων ούν αυτών ενθάδε\, αναβολήν μηδεμίαν ποιησάμενος\, τη εξής καθίσας επί του βήματος\, εκέλευσα αχθήναι τον άνδρα· περί ού σταθέντες οι κατήγοροι ουδεμίαν αιτίαν επέφερον ών υπενόουν εγώ\, ζητήματα δε τινα περί της ιδίας δεισιδαιμονίας είχον πρός αυτόν\, και περί τινος Ιησού τεθνηκότος\, όν έφασκεν ο Παύλος ζήν.\nΑνάγνωσις Ευαγγελίου: Κατά Ιωάννην 16:23-33\nΕίπεν ο Κυριος τοις εαυτού μαθηταίς· Αμήν αμήν λέγω υμίν ότι όσα άν αιτήσητε τον πατέρα εν τω ονόματί μου\, δώσει υμίν. έως άρτι ουκ ᾐτήσατε ουδέν εν τω ονόματί μου· αιτείτε και λήψεσθε\, ίνα η χαρά υμών ᾖ πεπληρωμένη. Ταύτα εν παροιμίαις λελάληκα υμίν· αλλ᾽ έρχεται ώρα ότε ουκέτι εν παροιμίαις λαλήσω υμίν\, αλλά παρρησία περί του πατρός αναγγελώ υμίν. εν εκείνη τη ημέρα εν τω ονόματί μου αιτήσεσθε· και ου λέγω υμίν ότι εγώ ερωτήσω τον πατέρα περί υμών· αυτός γαρ ο πατήρ φιλεί υμάς\, ότι υμείς εμέ πεφιλήκατε\, και πεπιστεύκατε ότι εγώ παρά του Θεού εξήλθον. εξήλθον παρά του πατρός και ελήλυθα εις τον κόσμον· πάλιν αφίημι τον κόσμον και πορεύομαι πρός τον πατέρα. Λέγουσιν αυτώ οι μαθηταί αυτού· ίδε νύν παρρησία λαλείς\, και παροιμίαν ουδεμίαν λέγεις. νύν οίδαμεν ότι οίδας πάντα και ου χρείαν έχεις ίνα τις σε ερωτά. εν τούτω πιστεύομεν ότι από Θεού εξήλθες. απεκρίθη αυτοίς ο ᾿Ιησούς· άρτι πιστεύετε· ιδού έρχεται ώρα\, και νύν ελήλυθεν\, ίνα σκορπισθήτε έκαστος εις τα ίδια και εμέ μόνον αφήτε· και ουκ ειμί μόνος\, ότι ο πατήρ μετ᾽ εμού εστι. ταύτα λελάληκα υμίν ίνα εν εμοί ειρήνην έχητε. εν τω κόσμω θλίψιν έξετε· αλλά θαρσείτε\, εγώ νενίκηκα τον κόσμον.
URL:https://2033.ad/event/%ce%b4%cf%89%cf%81%cf%8c%ce%b8%ce%b5%ce%bf%cf%82-%ce%b5%cf%80%ce%af%cf%83%ce%ba%ce%bf%cf%80%ce%bf%cf%82-%cf%84%cf%8d%cf%81%ce%bf%cf%85/
END:VEVENT
BEGIN:VEVENT
DTSTART;TZID=America/New_York:20250605T130000
DTEND;TZID=America/New_York:20250605T140000
DTSTAMP:20260422T103746
CREATED:20250309T165811Z
LAST-MODIFIED:20250425T023739Z
UID:26596-1749128400-1749132000@2033.ad
SUMMARY:Bible Study
DESCRIPTION:
URL:https://2033.ad/event/bible-study-12/
END:VEVENT
BEGIN:VEVENT
DTSTART;TZID=America/New_York:20250605T190000
DTEND;TZID=America/New_York:20250605T203000
DTSTAMP:20260422T103746
CREATED:20250309T165811Z
LAST-MODIFIED:20250425T023739Z
UID:26597-1749150000-1749155400@2033.ad
SUMMARY:Stewardship Committee Meeting
DESCRIPTION:
URL:https://2033.ad/event/stewardship-committee-meeting-3/
END:VEVENT
END:VCALENDAR